BEGIN:VCALENDAR
VERSION:2.0
PRODID:-//Periti Industriali Trento - ECPv6.15.17//NONSGML v1.0//EN
CALSCALE:GREGORIAN
METHOD:PUBLISH
X-WR-CALNAME:Periti Industriali Trento
X-ORIGINAL-URL:https://periti-industriali.trento.it
X-WR-CALDESC:Eventi per Periti Industriali Trento
REFRESH-INTERVAL;VALUE=DURATION:PT1H
X-Robots-Tag:noindex
X-PUBLISHED-TTL:PT1H
BEGIN:VTIMEZONE
TZID:Europe/Rome
BEGIN:DAYLIGHT
TZOFFSETFROM:+0100
TZOFFSETTO:+0200
TZNAME:CEST
DTSTART:20170326T010000
END:DAYLIGHT
BEGIN:STANDARD
TZOFFSETFROM:+0200
TZOFFSETTO:+0100
TZNAME:CET
DTSTART:20171029T010000
END:STANDARD
BEGIN:DAYLIGHT
TZOFFSETFROM:+0100
TZOFFSETTO:+0200
TZNAME:CEST
DTSTART:20180325T010000
END:DAYLIGHT
BEGIN:STANDARD
TZOFFSETFROM:+0200
TZOFFSETTO:+0100
TZNAME:CET
DTSTART:20181028T010000
END:STANDARD
BEGIN:DAYLIGHT
TZOFFSETFROM:+0100
TZOFFSETTO:+0200
TZNAME:CEST
DTSTART:20190331T010000
END:DAYLIGHT
BEGIN:STANDARD
TZOFFSETFROM:+0200
TZOFFSETTO:+0100
TZNAME:CET
DTSTART:20191027T010000
END:STANDARD
END:VTIMEZONE
BEGIN:VEVENT
DTSTART;TZID=Europe/Rome:20180518T140000
DTEND;TZID=Europe/Rome:20180518T183000
DTSTAMP:20260420T090107
CREATED:20180427T075440Z
LAST-MODIFIED:20180427T075440Z
UID:6070-1526652000-1526668200@periti-industriali.trento.it
SUMMARY:Automotive: stato dell'arte della mobilità elettrica in Europa\, Italia e nella Regione Trentino Alto Adige/Sudtirol
DESCRIPTION:Locandina>> \nL’evento darà diritto a 4 CFP in base al Regolamento della Formazione Continua.
URL:https://periti-industriali.trento.it/event/automotive-dellarte-della-mobilita-elettrica-europa-italia-nella-regione-trentino-alto-adigesudtirol/
LOCATION:Università degli Studi di Trento\, Via Mesiano\, 77\, Trento\, 38122\, Italia
CATEGORIES:Formazione
ATTACH;FMTTYPE=image/jpeg:https://periti-industriali.trento.it/wp-content/uploads/2016/05/logo_aei.jpg
ORGANIZER;CN="AEIT":MAILTO:sez.taasudtirol@aeit.it
END:VEVENT
END:VCALENDAR