BEGIN:VCALENDAR
VERSION:2.0
PRODID:-//Periti Industriali Trento - ECPv6.15.17//NONSGML v1.0//EN
CALSCALE:GREGORIAN
METHOD:PUBLISH
X-WR-CALNAME:Periti Industriali Trento
X-ORIGINAL-URL:https://periti-industriali.trento.it
X-WR-CALDESC:Eventi per Periti Industriali Trento
REFRESH-INTERVAL;VALUE=DURATION:PT1H
X-Robots-Tag:noindex
X-PUBLISHED-TTL:PT1H
BEGIN:VTIMEZONE
TZID:Europe/Rome
BEGIN:DAYLIGHT
TZOFFSETFROM:+0100
TZOFFSETTO:+0200
TZNAME:CEST
DTSTART:20150329T010000
END:DAYLIGHT
BEGIN:STANDARD
TZOFFSETFROM:+0200
TZOFFSETTO:+0100
TZNAME:CET
DTSTART:20151025T010000
END:STANDARD
BEGIN:DAYLIGHT
TZOFFSETFROM:+0100
TZOFFSETTO:+0200
TZNAME:CEST
DTSTART:20160327T010000
END:DAYLIGHT
BEGIN:STANDARD
TZOFFSETFROM:+0200
TZOFFSETTO:+0100
TZNAME:CET
DTSTART:20161030T010000
END:STANDARD
BEGIN:DAYLIGHT
TZOFFSETFROM:+0100
TZOFFSETTO:+0200
TZNAME:CEST
DTSTART:20170326T010000
END:DAYLIGHT
BEGIN:STANDARD
TZOFFSETFROM:+0200
TZOFFSETTO:+0100
TZNAME:CET
DTSTART:20171029T010000
END:STANDARD
END:VTIMEZONE
BEGIN:VEVENT
DTSTART;TZID=Europe/Rome:20161118T083000
DTEND;TZID=Europe/Rome:20161118T130000
DTSTAMP:20260425T011259
CREATED:20161102T085927Z
LAST-MODIFIED:20161102T085927Z
UID:4582-1479457800-1479474000@periti-industriali.trento.it
SUMMARY:Delibera AEEGSI n. 558/15 - 424/16 connessione degli impianti elettrici
DESCRIPTION:Locandina>> \nL’ evento darà diritto a 4 CFP in base al Nuovo Regolamento della Formazione Continua in vigore dal primo gennaio 2014.
URL:https://periti-industriali.trento.it/event/delibera-aeegsi-n-55815-42416-connessione-degli-impianti-elettrici/
LOCATION:Palazzo della Regione – Sala Rosa\, Piazza Dante\, Trento\, 38122\, Italia
CATEGORIES:Formazione
ATTACH;FMTTYPE=image/jpeg:https://periti-industriali.trento.it/wp-content/uploads/2016/05/logo_aei.jpg
ORGANIZER;CN="AEIT":MAILTO:sez.taasudtirol@aeit.it
END:VEVENT
END:VCALENDAR