BEGIN:VCALENDAR
VERSION:2.0
PRODID:-//Periti Industriali Trento - ECPv6.15.17//NONSGML v1.0//EN
CALSCALE:GREGORIAN
METHOD:PUBLISH
X-WR-CALNAME:Periti Industriali Trento
X-ORIGINAL-URL:https://periti-industriali.trento.it
X-WR-CALDESC:Eventi per Periti Industriali Trento
REFRESH-INTERVAL;VALUE=DURATION:PT1H
X-Robots-Tag:noindex
X-PUBLISHED-TTL:PT1H
BEGIN:VTIMEZONE
TZID:UTC
BEGIN:STANDARD
TZOFFSETFROM:+0000
TZOFFSETTO:+0000
TZNAME:UTC
DTSTART:20220101T000000
END:STANDARD
END:VTIMEZONE
BEGIN:VEVENT
DTSTART;TZID=UTC:20231110T143000
DTEND;TZID=UTC:20231110T181000
DTSTAMP:20260420T101826
CREATED:20231031T113139Z
LAST-MODIFIED:20231103T105759Z
UID:9731-1699626600-1699639800@periti-industriali.trento.it
SUMMARY:ECOMONDO 2023 - LA PREVENZIONE INCENDI
DESCRIPTION:Il convegno si terrà a Rimini in occasione della Fiera Ecomondo 2023 e darà diritto all’assegnazione di 3 CFP come previsto dal Regolamento della Formazione Continua e sarà valido per l’aggiornamento antincendio come previsto dall’art. 7 D.M. 5 agosto 2011 (ex legge 818/84). \nNella locandina allegata troverete in prima pagina il link di Albounico per le iscrizioni\, mentre in seconda pagina troverete il codice di accesso gratuito alla fiera in fase di registrazione\, come riepilogato qui di seguito: \n\n“prima pagina locandina”:\n\n\niscrizione al convegno su albounico   per tutti i professionisti iscritti agli Ordini professionali (indicare sempre Ordine e Provincia)\n\nhttps://www.albounicoperind.it/VisualizzaDettaglioCorsoDaEsterno.aspx?idCorso=35761&cdColl=RN&idEnte=0 \n\n“seconda pagina locandina”:\n\n\nmodalità di iscrizione in Fiera con codice di accesso per stampa biglietto ingresso gratuito in fiera\n\n  \nLOCANDINA>> \n  \n 
URL:https://periti-industriali.trento.it/event/ecomondo-2023-la-prevenzione-incendi/
CATEGORIES:Formazione
ORGANIZER;CN="Ordine Periti Industriali Rimini":MAILTO:riminiperitindustriali@gmail.com
END:VEVENT
END:VCALENDAR