BEGIN:VCALENDAR
VERSION:2.0
PRODID:-//Periti Industriali Trento - ECPv6.15.17//NONSGML v1.0//EN
CALSCALE:GREGORIAN
METHOD:PUBLISH
X-WR-CALNAME:Periti Industriali Trento
X-ORIGINAL-URL:https://periti-industriali.trento.it
X-WR-CALDESC:Eventi per Periti Industriali Trento
REFRESH-INTERVAL;VALUE=DURATION:PT1H
X-Robots-Tag:noindex
X-PUBLISHED-TTL:PT1H
BEGIN:VTIMEZONE
TZID:Europe/Rome
BEGIN:DAYLIGHT
TZOFFSETFROM:+0100
TZOFFSETTO:+0200
TZNAME:CEST
DTSTART:20150329T010000
END:DAYLIGHT
BEGIN:STANDARD
TZOFFSETFROM:+0200
TZOFFSETTO:+0100
TZNAME:CET
DTSTART:20151025T010000
END:STANDARD
BEGIN:DAYLIGHT
TZOFFSETFROM:+0100
TZOFFSETTO:+0200
TZNAME:CEST
DTSTART:20160327T010000
END:DAYLIGHT
BEGIN:STANDARD
TZOFFSETFROM:+0200
TZOFFSETTO:+0100
TZNAME:CET
DTSTART:20161030T010000
END:STANDARD
BEGIN:DAYLIGHT
TZOFFSETFROM:+0100
TZOFFSETTO:+0200
TZNAME:CEST
DTSTART:20170326T010000
END:DAYLIGHT
BEGIN:STANDARD
TZOFFSETFROM:+0200
TZOFFSETTO:+0100
TZNAME:CET
DTSTART:20171029T010000
END:STANDARD
END:VTIMEZONE
BEGIN:VEVENT
DTSTART;VALUE=DATE:20161125
DTEND;VALUE=DATE:20161126
DTSTAMP:20260421T175935
CREATED:20160920T105143Z
LAST-MODIFIED:20160920T105143Z
UID:4473-1480032000-1480118399@periti-industriali.trento.it
SUMMARY:Gli impianti nelle costruzioni in legno e nel sistema di certificazione Arca
DESCRIPTION:Il corso darà diritto a 28 CFP in base al Nuovo Regolamento della Formazione Continua in vigore dal primo gennaio 2014.
URL:https://periti-industriali.trento.it/event/gli-impianti-nelle-costruzioni-in-legno-e-nel-sistema-di-certificazione-arca/
LOCATION:Polo Tecnologico\, Via Solteri\, 38\, Trento\, 38122\, Italia
CATEGORIES:Formazione
ATTACH;FMTTYPE=image/jpeg:https://periti-industriali.trento.it/wp-content/uploads/2016/09/arca.jpg
ORGANIZER;CN="ARCA":MAILTO:info@arcacert.com
END:VEVENT
END:VCALENDAR