BEGIN:VCALENDAR
VERSION:2.0
PRODID:-//Periti Industriali Trento - ECPv6.15.17//NONSGML v1.0//EN
CALSCALE:GREGORIAN
METHOD:PUBLISH
X-WR-CALNAME:Periti Industriali Trento
X-ORIGINAL-URL:https://periti-industriali.trento.it
X-WR-CALDESC:Eventi per Periti Industriali Trento
REFRESH-INTERVAL;VALUE=DURATION:PT1H
X-Robots-Tag:noindex
X-PUBLISHED-TTL:PT1H
BEGIN:VTIMEZONE
TZID:Europe/Rome
BEGIN:DAYLIGHT
TZOFFSETFROM:+0100
TZOFFSETTO:+0200
TZNAME:CEST
DTSTART:20180325T010000
END:DAYLIGHT
BEGIN:STANDARD
TZOFFSETFROM:+0200
TZOFFSETTO:+0100
TZNAME:CET
DTSTART:20181028T010000
END:STANDARD
BEGIN:DAYLIGHT
TZOFFSETFROM:+0100
TZOFFSETTO:+0200
TZNAME:CEST
DTSTART:20190331T010000
END:DAYLIGHT
BEGIN:STANDARD
TZOFFSETFROM:+0200
TZOFFSETTO:+0100
TZNAME:CET
DTSTART:20191027T010000
END:STANDARD
BEGIN:DAYLIGHT
TZOFFSETFROM:+0100
TZOFFSETTO:+0200
TZNAME:CEST
DTSTART:20200329T010000
END:DAYLIGHT
BEGIN:STANDARD
TZOFFSETFROM:+0200
TZOFFSETTO:+0100
TZNAME:CET
DTSTART:20201025T010000
END:STANDARD
END:VTIMEZONE
BEGIN:VEVENT
DTSTART;TZID=Europe/Rome:20190319T140000
DTEND;TZID=Europe/Rome:20190319T190000
DTSTAMP:20260419T191829
CREATED:20190313T094418Z
LAST-MODIFIED:20190313T094418Z
UID:6790-1553004000-1553022000@periti-industriali.trento.it
SUMMARY:IMPIANTI ANTINCENDIO MANUALI ED AUTOMATICI: ALIMENTAZIONE IDRICA E LOCALI TECNICI
DESCRIPTION:Locandina>> \nLa partecipazione da diritto a 8 CFP ai fini della formazione continua solo con il superamento del test finale. \nIl corso è valido ai fini dell’aggiornamento DM 05/08/2011.
URL:https://periti-industriali.trento.it/event/impianti-antincendio-manuali-ed-automatici-alimentazione-idrica-e-locali-tecnici/
LOCATION:Collegio Periti Industriali di Vicenza\, Via Ludovico Lazzaro Zamenhof\, 803\, Vicenza\, 36100\, Italia
CATEGORIES:Formazione
ATTACH;FMTTYPE=image/png:https://periti-industriali.trento.it/wp-content/uploads/2019/03/logo-periti-vicenza.png
ORGANIZER;CN="Collegio Periti Industriali di Vicenza":MAILTO:segreteria@perind.org
END:VEVENT
END:VCALENDAR