BEGIN:VCALENDAR
VERSION:2.0
PRODID:-//Periti Industriali Trento - ECPv6.15.17//NONSGML v1.0//EN
CALSCALE:GREGORIAN
METHOD:PUBLISH
X-WR-CALNAME:Periti Industriali Trento
X-ORIGINAL-URL:https://periti-industriali.trento.it
X-WR-CALDESC:Eventi per Periti Industriali Trento
REFRESH-INTERVAL;VALUE=DURATION:PT1H
X-Robots-Tag:noindex
X-PUBLISHED-TTL:PT1H
BEGIN:VTIMEZONE
TZID:Europe/Rome
BEGIN:DAYLIGHT
TZOFFSETFROM:+0100
TZOFFSETTO:+0200
TZNAME:CEST
DTSTART:20150329T010000
END:DAYLIGHT
BEGIN:STANDARD
TZOFFSETFROM:+0200
TZOFFSETTO:+0100
TZNAME:CET
DTSTART:20151025T010000
END:STANDARD
BEGIN:DAYLIGHT
TZOFFSETFROM:+0100
TZOFFSETTO:+0200
TZNAME:CEST
DTSTART:20160327T010000
END:DAYLIGHT
BEGIN:STANDARD
TZOFFSETFROM:+0200
TZOFFSETTO:+0100
TZNAME:CET
DTSTART:20161030T010000
END:STANDARD
BEGIN:DAYLIGHT
TZOFFSETFROM:+0100
TZOFFSETTO:+0200
TZNAME:CEST
DTSTART:20170326T010000
END:DAYLIGHT
BEGIN:STANDARD
TZOFFSETFROM:+0200
TZOFFSETTO:+0100
TZNAME:CET
DTSTART:20171029T010000
END:STANDARD
END:VTIMEZONE
BEGIN:VEVENT
DTSTART;TZID=Europe/Rome:20161214T140000
DTEND;TZID=Europe/Rome:20161214T180000
DTSTAMP:20260421T150321
CREATED:20161207T103436Z
LAST-MODIFIED:20161207T103436Z
UID:4661-1481724000-1481738400@periti-industriali.trento.it
SUMMARY:Impianti elettrici nelle case in legno
DESCRIPTION:Locandina>> \nScheda di adesione>> \nL’evento darà diritto a 3 CFP in base al Nuovo Regolamento della Formazione Continua dei Periti Industriali.
URL:https://periti-industriali.trento.it/event/impianti-elettrici-nelle-case-legno/
LOCATION:Ordine dei Periti Industriali\, Galleria Tirrena\, 10\, Trento\, 38122\, Italia
CATEGORIES:Formazione
ATTACH;FMTTYPE=image/png:https://periti-industriali.trento.it/wp-content/uploads/2016/05/logo.png
ORGANIZER;CN="Area Formazione Periti Industriali":MAILTO:info@areaformazioneperind.it
END:VEVENT
END:VCALENDAR