BEGIN:VCALENDAR
VERSION:2.0
PRODID:-//Periti Industriali Trento - ECPv6.15.17//NONSGML v1.0//EN
CALSCALE:GREGORIAN
METHOD:PUBLISH
X-WR-CALNAME:Periti Industriali Trento
X-ORIGINAL-URL:https://periti-industriali.trento.it
X-WR-CALDESC:Eventi per Periti Industriali Trento
REFRESH-INTERVAL;VALUE=DURATION:PT1H
X-Robots-Tag:noindex
X-PUBLISHED-TTL:PT1H
BEGIN:VTIMEZONE
TZID:Europe/Rome
BEGIN:DAYLIGHT
TZOFFSETFROM:+0100
TZOFFSETTO:+0200
TZNAME:CEST
DTSTART:20150329T010000
END:DAYLIGHT
BEGIN:STANDARD
TZOFFSETFROM:+0200
TZOFFSETTO:+0100
TZNAME:CET
DTSTART:20151025T010000
END:STANDARD
BEGIN:DAYLIGHT
TZOFFSETFROM:+0100
TZOFFSETTO:+0200
TZNAME:CEST
DTSTART:20160327T010000
END:DAYLIGHT
BEGIN:STANDARD
TZOFFSETFROM:+0200
TZOFFSETTO:+0100
TZNAME:CET
DTSTART:20161030T010000
END:STANDARD
BEGIN:DAYLIGHT
TZOFFSETFROM:+0100
TZOFFSETTO:+0200
TZNAME:CEST
DTSTART:20170326T010000
END:DAYLIGHT
BEGIN:STANDARD
TZOFFSETFROM:+0200
TZOFFSETTO:+0100
TZNAME:CET
DTSTART:20171029T010000
END:STANDARD
END:VTIMEZONE
BEGIN:VEVENT
DTSTART;TZID=Europe/Rome:20160527T140000
DTEND;TZID=Europe/Rome:20160527T170000
DTSTAMP:20260423T034037
CREATED:20160517T113420Z
LAST-MODIFIED:20160517T113420Z
UID:4218-1464357600-1464368400@periti-industriali.trento.it
SUMMARY:La conoscenza\, prevenzione e gestione delle valanghe
DESCRIPTION:Locandina>> \nScheda di adesione>> \nLa partecipazione all’evento è gratuita. \nL’evento formativo darà diritto a 3 CFP in base al Nuovo Regolamento della Formazione Continua in vigore dal primo gennaio 2014.
URL:https://periti-industriali.trento.it/event/la-conoscenza-prevenzione-e-gestione-delle-valanghe/
LOCATION:Hotel Adige Srl\, Via Pomeranos\, 10 Loc. Mattarello\, Trento\, 38123\, Italia
CATEGORIES:Formazione
ATTACH;FMTTYPE=image/png:https://periti-industriali.trento.it/wp-content/uploads/2016/05/logo.png
ORGANIZER;CN="Area Formazione Periti Industriali":MAILTO:info@areaformazioneperind.it
END:VEVENT
END:VCALENDAR