BEGIN:VCALENDAR
VERSION:2.0
PRODID:-//Periti Industriali Trento - ECPv6.15.17//NONSGML v1.0//EN
CALSCALE:GREGORIAN
METHOD:PUBLISH
X-WR-CALNAME:Periti Industriali Trento
X-ORIGINAL-URL:https://periti-industriali.trento.it
X-WR-CALDESC:Eventi per Periti Industriali Trento
REFRESH-INTERVAL;VALUE=DURATION:PT1H
X-Robots-Tag:noindex
X-PUBLISHED-TTL:PT1H
BEGIN:VTIMEZONE
TZID:Europe/Rome
BEGIN:DAYLIGHT
TZOFFSETFROM:+0100
TZOFFSETTO:+0200
TZNAME:CEST
DTSTART:20180325T010000
END:DAYLIGHT
BEGIN:STANDARD
TZOFFSETFROM:+0200
TZOFFSETTO:+0100
TZNAME:CET
DTSTART:20181028T010000
END:STANDARD
BEGIN:DAYLIGHT
TZOFFSETFROM:+0100
TZOFFSETTO:+0200
TZNAME:CEST
DTSTART:20190331T010000
END:DAYLIGHT
BEGIN:STANDARD
TZOFFSETFROM:+0200
TZOFFSETTO:+0100
TZNAME:CET
DTSTART:20191027T010000
END:STANDARD
BEGIN:DAYLIGHT
TZOFFSETFROM:+0100
TZOFFSETTO:+0200
TZNAME:CEST
DTSTART:20200329T010000
END:DAYLIGHT
BEGIN:STANDARD
TZOFFSETFROM:+0200
TZOFFSETTO:+0100
TZNAME:CET
DTSTART:20201025T010000
END:STANDARD
END:VTIMEZONE
BEGIN:VEVENT
DTSTART;TZID=Europe/Rome:20190613T143000
DTEND;TZID=Europe/Rome:20190613T183000
DTSTAMP:20260419T203901
CREATED:20190514T074105Z
LAST-MODIFIED:20190514T074105Z
UID:7171-1560436200-1560450600@periti-industriali.trento.it
SUMMARY:La progettazione sottile: impianti radianti\, isolamento acustico e massetto a basso spessore
DESCRIPTION:Locandina>> \nL’evento darà diritto a 4 CFP in base al Nuovo Regolamento della Formazione Continua dei Periti Industriali.
URL:https://periti-industriali.trento.it/event/la-progettazione-sottile-impianti-radianti-isolamento-acustico-e-massetto-a-basso-spessore/
LOCATION:MUSE\, Corso del Lavoro e della Scienza\, 3\, Trento\, 38122\, Italia
CATEGORIES:Formazione
END:VEVENT
END:VCALENDAR