BEGIN:VCALENDAR
VERSION:2.0
PRODID:-//Periti Industriali Trento - ECPv6.15.17//NONSGML v1.0//EN
CALSCALE:GREGORIAN
METHOD:PUBLISH
X-WR-CALNAME:Periti Industriali Trento
X-ORIGINAL-URL:https://periti-industriali.trento.it
X-WR-CALDESC:Eventi per Periti Industriali Trento
REFRESH-INTERVAL;VALUE=DURATION:PT1H
X-Robots-Tag:noindex
X-PUBLISHED-TTL:PT1H
BEGIN:VTIMEZONE
TZID:Europe/Rome
BEGIN:DAYLIGHT
TZOFFSETFROM:+0100
TZOFFSETTO:+0200
TZNAME:CEST
DTSTART:20150329T010000
END:DAYLIGHT
BEGIN:STANDARD
TZOFFSETFROM:+0200
TZOFFSETTO:+0100
TZNAME:CET
DTSTART:20151025T010000
END:STANDARD
BEGIN:DAYLIGHT
TZOFFSETFROM:+0100
TZOFFSETTO:+0200
TZNAME:CEST
DTSTART:20160327T010000
END:DAYLIGHT
BEGIN:STANDARD
TZOFFSETFROM:+0200
TZOFFSETTO:+0100
TZNAME:CET
DTSTART:20161030T010000
END:STANDARD
BEGIN:DAYLIGHT
TZOFFSETFROM:+0100
TZOFFSETTO:+0200
TZNAME:CEST
DTSTART:20170326T010000
END:DAYLIGHT
BEGIN:STANDARD
TZOFFSETFROM:+0200
TZOFFSETTO:+0100
TZNAME:CET
DTSTART:20171029T010000
END:STANDARD
END:VTIMEZONE
BEGIN:VEVENT
DTSTART;TZID=Europe/Rome:20161206T140000
DTEND;TZID=Europe/Rome:20161206T180000
DTSTAMP:20260421T162849
CREATED:20161104T111043Z
LAST-MODIFIED:20161107T145022Z
UID:4596-1481032800-1481047200@periti-industriali.trento.it
SUMMARY:La responsabilità professionale del perito industriale e coperture assicurative
DESCRIPTION:LE ISCRIZIONI AL CORSO SONO STATE CHIUSE PER IL RAGGIUNGIMENTO DELLA CAPIENZA DELLA SALA. \nIl Collegio dei Periti Industriali della Provincia di Trento organizza con MARSH un seminario sulle coperture assicurative. \nLa partecipazione all’evento è gratuita. \nProgramma >> \nIl seminario darà diritto a 3 CFP in base al Nuovo Regolamento della Formazione Continua in vigore dal primo gennaio 2014.
URL:https://periti-industriali.trento.it/event/la-responsabilita-professionale-del-perito-industriale-e-coperture-assicurative/
LOCATION:Ordine dei Periti Industriali\, Galleria Tirrena\, 10\, Trento\, 38122\, Italia
CATEGORIES:Formazione
ATTACH;FMTTYPE=image/jpeg:https://periti-industriali.trento.it/wp-content/uploads/2016/11/marsh.jpg
END:VEVENT
END:VCALENDAR