BEGIN:VCALENDAR
VERSION:2.0
PRODID:-//Periti Industriali Trento - ECPv6.15.17//NONSGML v1.0//EN
CALSCALE:GREGORIAN
METHOD:PUBLISH
X-WR-CALNAME:Periti Industriali Trento
X-ORIGINAL-URL:https://periti-industriali.trento.it
X-WR-CALDESC:Eventi per Periti Industriali Trento
REFRESH-INTERVAL;VALUE=DURATION:PT1H
X-Robots-Tag:noindex
X-PUBLISHED-TTL:PT1H
BEGIN:VTIMEZONE
TZID:Europe/Rome
BEGIN:DAYLIGHT
TZOFFSETFROM:+0100
TZOFFSETTO:+0200
TZNAME:CEST
DTSTART:20160327T010000
END:DAYLIGHT
BEGIN:STANDARD
TZOFFSETFROM:+0200
TZOFFSETTO:+0100
TZNAME:CET
DTSTART:20161030T010000
END:STANDARD
BEGIN:DAYLIGHT
TZOFFSETFROM:+0100
TZOFFSETTO:+0200
TZNAME:CEST
DTSTART:20170326T010000
END:DAYLIGHT
BEGIN:STANDARD
TZOFFSETFROM:+0200
TZOFFSETTO:+0100
TZNAME:CET
DTSTART:20171029T010000
END:STANDARD
BEGIN:DAYLIGHT
TZOFFSETFROM:+0100
TZOFFSETTO:+0200
TZNAME:CEST
DTSTART:20180325T010000
END:DAYLIGHT
BEGIN:STANDARD
TZOFFSETFROM:+0200
TZOFFSETTO:+0100
TZNAME:CET
DTSTART:20181028T010000
END:STANDARD
END:VTIMEZONE
BEGIN:VEVENT
DTSTART;TZID=Europe/Rome:20171026T153000
DTEND;TZID=Europe/Rome:20171026T183000
DTSTAMP:20260421T045825
CREATED:20171012T064102Z
LAST-MODIFIED:20171012T064102Z
UID:5499-1509031800-1509042600@periti-industriali.trento.it
SUMMARY:L'evoluzione della Distribuzione Elettrica verso "l'Internet of Things"
DESCRIPTION:Locandina>> \nL’evento darà diritto a 3 CFP in base al Nuovo Regolamento della Formazione Continua.
URL:https://periti-industriali.trento.it/event/levoluzione-della-distribuzione-elettrica-verso-linternet-of-things/
LOCATION:Hotel Villa Madruzzo\, Via Ponte Alto\, 26\, Trento\, 38121\, Italia
CATEGORIES:Formazione
ATTACH;FMTTYPE=image/png:https://periti-industriali.trento.it/wp-content/uploads/2017/03/schneider.png
ORGANIZER;CN="Schneider":MAILTO:lorenzo.berti@schneider-eletric.com
END:VEVENT
END:VCALENDAR