BEGIN:VCALENDAR
VERSION:2.0
PRODID:-//Periti Industriali Trento - ECPv6.15.17//NONSGML v1.0//EN
CALSCALE:GREGORIAN
METHOD:PUBLISH
X-WR-CALNAME:Periti Industriali Trento
X-ORIGINAL-URL:https://periti-industriali.trento.it
X-WR-CALDESC:Eventi per Periti Industriali Trento
REFRESH-INTERVAL;VALUE=DURATION:PT1H
X-Robots-Tag:noindex
X-PUBLISHED-TTL:PT1H
BEGIN:VTIMEZONE
TZID:Europe/Rome
BEGIN:DAYLIGHT
TZOFFSETFROM:+0100
TZOFFSETTO:+0200
TZNAME:CEST
DTSTART:20160327T010000
END:DAYLIGHT
BEGIN:STANDARD
TZOFFSETFROM:+0200
TZOFFSETTO:+0100
TZNAME:CET
DTSTART:20161030T010000
END:STANDARD
BEGIN:DAYLIGHT
TZOFFSETFROM:+0100
TZOFFSETTO:+0200
TZNAME:CEST
DTSTART:20170326T010000
END:DAYLIGHT
BEGIN:STANDARD
TZOFFSETFROM:+0200
TZOFFSETTO:+0100
TZNAME:CET
DTSTART:20171029T010000
END:STANDARD
BEGIN:DAYLIGHT
TZOFFSETFROM:+0100
TZOFFSETTO:+0200
TZNAME:CEST
DTSTART:20180325T010000
END:DAYLIGHT
BEGIN:STANDARD
TZOFFSETFROM:+0200
TZOFFSETTO:+0100
TZNAME:CET
DTSTART:20181028T010000
END:STANDARD
END:VTIMEZONE
BEGIN:VEVENT
DTSTART;TZID=Europe/Rome:20171005T140000
DTEND;TZID=Europe/Rome:20171005T180000
DTSTAMP:20260420T182034
CREATED:20170918T155703Z
LAST-MODIFIED:20170918T155734Z
UID:5429-1507212000-1507226400@periti-industriali.trento.it
SUMMARY:Novità nuovo DTR per le modifiche agli impianti FV incentivati
DESCRIPTION:Locandina>> \nL’evento darà diritto a 4 CFP in base al Nuovo Regolamento della Formazione Continua.
URL:https://periti-industriali.trento.it/event/novita-dtr-le-modifiche-agli-impianti-fv-incentivati/
LOCATION:Cantina Rotari\, SALA DEL CAVEAU • VIA DEL TEROLDEGO 1/E\, Mezzocorona
CATEGORIES:Formazione
ATTACH;FMTTYPE=image/jpeg:https://periti-industriali.trento.it/wp-content/uploads/2017/02/atiqual.jpg
ORGANIZER;CN="Atiqual":MAILTO:info@unaetrentino.it
END:VEVENT
END:VCALENDAR