BEGIN:VCALENDAR
VERSION:2.0
PRODID:-//Periti Industriali Trento - ECPv6.15.17//NONSGML v1.0//EN
CALSCALE:GREGORIAN
METHOD:PUBLISH
X-WR-CALNAME:Periti Industriali Trento
X-ORIGINAL-URL:https://periti-industriali.trento.it
X-WR-CALDESC:Eventi per Periti Industriali Trento
REFRESH-INTERVAL;VALUE=DURATION:PT1H
X-Robots-Tag:noindex
X-PUBLISHED-TTL:PT1H
BEGIN:VTIMEZONE
TZID:Europe/Rome
BEGIN:DAYLIGHT
TZOFFSETFROM:+0100
TZOFFSETTO:+0200
TZNAME:CEST
DTSTART:20160327T010000
END:DAYLIGHT
BEGIN:STANDARD
TZOFFSETFROM:+0200
TZOFFSETTO:+0100
TZNAME:CET
DTSTART:20161030T010000
END:STANDARD
BEGIN:DAYLIGHT
TZOFFSETFROM:+0100
TZOFFSETTO:+0200
TZNAME:CEST
DTSTART:20170326T010000
END:DAYLIGHT
BEGIN:STANDARD
TZOFFSETFROM:+0200
TZOFFSETTO:+0100
TZNAME:CET
DTSTART:20171029T010000
END:STANDARD
BEGIN:DAYLIGHT
TZOFFSETFROM:+0100
TZOFFSETTO:+0200
TZNAME:CEST
DTSTART:20180325T010000
END:DAYLIGHT
BEGIN:STANDARD
TZOFFSETFROM:+0200
TZOFFSETTO:+0100
TZNAME:CET
DTSTART:20181028T010000
END:STANDARD
END:VTIMEZONE
BEGIN:VEVENT
DTSTART;TZID=Europe/Rome:20170915T140000
DTEND;TZID=Europe/Rome:20170915T183000
DTSTAMP:20260421T065201
CREATED:20170823T121501Z
LAST-MODIFIED:20170823T121533Z
UID:5350-1505484000-1505500200@periti-industriali.trento.it
SUMMARY:Il punto su connessioni\, accumuli e contatori 2G - Fibre ottiche e sottoservizi - Cavi BT: il CPR - Impianti temporanei
DESCRIPTION:Locandina>> \nIl seminario darà diritto a 4 CFP in base al Nuovo Regolamento della Formazione Continua.
URL:https://periti-industriali.trento.it/event/punto-connessioni-accumuli-contatori-2g-fibre-ottiche-sottoservizi-cavi-bt-cpr-impianti-temporanei/
LOCATION:Università degli Studi di Trento\, Via Mesiano\, 77\, Trento\, 38122\, Italia
CATEGORIES:Formazione
ATTACH;FMTTYPE=image/jpeg:https://periti-industriali.trento.it/wp-content/uploads/2016/05/logo_aei.jpg
ORGANIZER;CN="AEIT":MAILTO:sez.taasudtirol@aeit.it
END:VEVENT
END:VCALENDAR