BEGIN:VCALENDAR
VERSION:2.0
PRODID:-//Periti Industriali Trento - ECPv6.15.17//NONSGML v1.0//EN
CALSCALE:GREGORIAN
METHOD:PUBLISH
X-WR-CALNAME:Periti Industriali Trento
X-ORIGINAL-URL:https://periti-industriali.trento.it
X-WR-CALDESC:Eventi per Periti Industriali Trento
REFRESH-INTERVAL;VALUE=DURATION:PT1H
X-Robots-Tag:noindex
X-PUBLISHED-TTL:PT1H
BEGIN:VTIMEZONE
TZID:Europe/Rome
BEGIN:DAYLIGHT
TZOFFSETFROM:+0100
TZOFFSETTO:+0200
TZNAME:CEST
DTSTART:20150329T010000
END:DAYLIGHT
BEGIN:STANDARD
TZOFFSETFROM:+0200
TZOFFSETTO:+0100
TZNAME:CET
DTSTART:20151025T010000
END:STANDARD
BEGIN:DAYLIGHT
TZOFFSETFROM:+0100
TZOFFSETTO:+0200
TZNAME:CEST
DTSTART:20160327T010000
END:DAYLIGHT
BEGIN:STANDARD
TZOFFSETFROM:+0200
TZOFFSETTO:+0100
TZNAME:CET
DTSTART:20161030T010000
END:STANDARD
BEGIN:DAYLIGHT
TZOFFSETFROM:+0100
TZOFFSETTO:+0200
TZNAME:CEST
DTSTART:20170326T010000
END:DAYLIGHT
BEGIN:STANDARD
TZOFFSETFROM:+0200
TZOFFSETTO:+0100
TZNAME:CET
DTSTART:20171029T010000
END:STANDARD
END:VTIMEZONE
BEGIN:VEVENT
DTSTART;VALUE=DATE:20160621
DTEND;VALUE=DATE:20160622
DTSTAMP:20260423T191331
CREATED:20160613T072835Z
LAST-MODIFIED:20160613T072911Z
UID:4292-1466467200-1466553599@periti-industriali.trento.it
SUMMARY:REbuild 2016
DESCRIPTION:Programma REbuild 2016>> \nL’ evento darà diritto a 12 CFP in base al Nuovo Regolamento della Formazione Continua in vigore dal primo gennaio 2014. \nPer coloro che vorranno partecipare alla convention\, potranno accedere ad una tariffa scontata del 20%\, durante i giorni dedicati all’evento. \nClicca qui per i dettagli sulla procedura di accreditamento.
URL:https://periti-industriali.trento.it/event/rebuild-2016/
LOCATION:Palazzo Congressi\, Parco Lido\, 1\, Riva del Garda\, 38066\, Italia
CATEGORIES:Formazione
ATTACH;FMTTYPE=image/jpeg:https://periti-industriali.trento.it/wp-content/uploads/2016/06/rebuild.jpg
ORGANIZER;CN="Agor%C3%A0":MAILTO:eventi@agoraactivities.it
END:VEVENT
END:VCALENDAR