BEGIN:VCALENDAR
VERSION:2.0
PRODID:-//Periti Industriali Trento - ECPv6.15.17//NONSGML v1.0//EN
CALSCALE:GREGORIAN
METHOD:PUBLISH
X-WR-CALNAME:Periti Industriali Trento
X-ORIGINAL-URL:https://periti-industriali.trento.it
X-WR-CALDESC:Eventi per Periti Industriali Trento
REFRESH-INTERVAL;VALUE=DURATION:PT1H
X-Robots-Tag:noindex
X-PUBLISHED-TTL:PT1H
BEGIN:VTIMEZONE
TZID:Europe/Rome
BEGIN:DAYLIGHT
TZOFFSETFROM:+0100
TZOFFSETTO:+0200
TZNAME:CEST
DTSTART:20170326T010000
END:DAYLIGHT
BEGIN:STANDARD
TZOFFSETFROM:+0200
TZOFFSETTO:+0100
TZNAME:CET
DTSTART:20171029T010000
END:STANDARD
BEGIN:DAYLIGHT
TZOFFSETFROM:+0100
TZOFFSETTO:+0200
TZNAME:CEST
DTSTART:20180325T010000
END:DAYLIGHT
BEGIN:STANDARD
TZOFFSETFROM:+0200
TZOFFSETTO:+0100
TZNAME:CET
DTSTART:20181028T010000
END:STANDARD
BEGIN:DAYLIGHT
TZOFFSETFROM:+0100
TZOFFSETTO:+0200
TZNAME:CEST
DTSTART:20190331T010000
END:DAYLIGHT
BEGIN:STANDARD
TZOFFSETFROM:+0200
TZOFFSETTO:+0100
TZNAME:CET
DTSTART:20191027T010000
END:STANDARD
END:VTIMEZONE
BEGIN:VEVENT
DTSTART;TZID=Europe/Rome:20180620T140000
DTEND;TZID=Europe/Rome:20180620T180000
DTSTAMP:20260421T022529
CREATED:20180531T084857Z
LAST-MODIFIED:20180531T084857Z
UID:6188-1529503200-1529517600@periti-industriali.trento.it
SUMMARY:Riflessioni sulla Legge Urbanistica Provinciale ad un anno dall'entrata in vigore del Regolamento di attuazione
DESCRIPTION:Locandina>> \nL’evento darà diritto a 3 CFP in base al Regolamento della Formazione Continua.
URL:https://periti-industriali.trento.it/event/riflessioni-sulla-legge-urbanistica-provinciale-ad-un-anno-dallentrata-vigore-del-regolamento-attuazione/
LOCATION:Centro Servizi Culturali Santa Chiara\, Via Santa Croce\, 67\, Trento\, 38122\, Italia
CATEGORIES:Formazione
ATTACH;FMTTYPE=image/png:https://periti-industriali.trento.it/wp-content/uploads/2018/04/logo-periti-con-sfondo-sfera-per-Evidenza-copia.png
ORGANIZER;CN="Associazione Tecnici Comunali e delle Comunit%C3%A0 del Trentino":MAILTO:sergio.guerri@alice.it
END:VEVENT
END:VCALENDAR