BEGIN:VCALENDAR
VERSION:2.0
PRODID:-//Periti Industriali Trento - ECPv6.15.17//NONSGML v1.0//EN
CALSCALE:GREGORIAN
METHOD:PUBLISH
X-WR-CALNAME:Periti Industriali Trento
X-ORIGINAL-URL:https://periti-industriali.trento.it
X-WR-CALDESC:Eventi per Periti Industriali Trento
REFRESH-INTERVAL;VALUE=DURATION:PT1H
X-Robots-Tag:noindex
X-PUBLISHED-TTL:PT1H
BEGIN:VTIMEZONE
TZID:Europe/Rome
BEGIN:DAYLIGHT
TZOFFSETFROM:+0100
TZOFFSETTO:+0200
TZNAME:CEST
DTSTART:20180325T010000
END:DAYLIGHT
BEGIN:STANDARD
TZOFFSETFROM:+0200
TZOFFSETTO:+0100
TZNAME:CET
DTSTART:20181028T010000
END:STANDARD
BEGIN:DAYLIGHT
TZOFFSETFROM:+0100
TZOFFSETTO:+0200
TZNAME:CEST
DTSTART:20190331T010000
END:DAYLIGHT
BEGIN:STANDARD
TZOFFSETFROM:+0200
TZOFFSETTO:+0100
TZNAME:CET
DTSTART:20191027T010000
END:STANDARD
BEGIN:DAYLIGHT
TZOFFSETFROM:+0100
TZOFFSETTO:+0200
TZNAME:CEST
DTSTART:20200329T010000
END:DAYLIGHT
BEGIN:STANDARD
TZOFFSETFROM:+0200
TZOFFSETTO:+0100
TZNAME:CET
DTSTART:20201025T010000
END:STANDARD
END:VTIMEZONE
BEGIN:VEVENT
DTSTART;TZID=Europe/Rome:20190225T090000
DTEND;TZID=Europe/Rome:20190225T180000
DTSTAMP:20260420T175556
CREATED:20190221T104613Z
LAST-MODIFIED:20190221T104613Z
UID:6724-1551085200-1551117600@periti-industriali.trento.it
SUMMARY:RTV La nuova regola tecnica per attività commerciali D.M. 23/11/2018
DESCRIPTION:Locandina>> \nLa partecipazione da diritto a 11 CFP ai fini della formazione continua solo con il superamento del test finale. \nIl corso è valido ai fini dell’aggiornamento DM 05/08/2011.
URL:https://periti-industriali.trento.it/event/rtv-la-nuova-regola-tecnica-per-attivita-commerciali-d-m-23112018/
LOCATION:Collegio Periti Industriali di Venezia\, Via Torre Belfredo\, 20/B\, Venezia\, Italia
CATEGORIES:Formazione
ATTACH;FMTTYPE=image/png:https://periti-industriali.trento.it/wp-content/uploads/2019/02/logo-collegio-venezia.png
ORGANIZER;CN="Collegio Periti Industriali di Venezia":MAILTO:segreteria@perindve.it
END:VEVENT
END:VCALENDAR