BEGIN:VCALENDAR
VERSION:2.0
PRODID:-//Periti Industriali Trento - ECPv6.15.17//NONSGML v1.0//EN
CALSCALE:GREGORIAN
METHOD:PUBLISH
X-WR-CALNAME:Periti Industriali Trento
X-ORIGINAL-URL:https://periti-industriali.trento.it
X-WR-CALDESC:Eventi per Periti Industriali Trento
REFRESH-INTERVAL;VALUE=DURATION:PT1H
X-Robots-Tag:noindex
X-PUBLISHED-TTL:PT1H
BEGIN:VTIMEZONE
TZID:Europe/Rome
BEGIN:DAYLIGHT
TZOFFSETFROM:+0100
TZOFFSETTO:+0200
TZNAME:CEST
DTSTART:20170326T010000
END:DAYLIGHT
BEGIN:STANDARD
TZOFFSETFROM:+0200
TZOFFSETTO:+0100
TZNAME:CET
DTSTART:20171029T010000
END:STANDARD
BEGIN:DAYLIGHT
TZOFFSETFROM:+0100
TZOFFSETTO:+0200
TZNAME:CEST
DTSTART:20180325T010000
END:DAYLIGHT
BEGIN:STANDARD
TZOFFSETFROM:+0200
TZOFFSETTO:+0100
TZNAME:CET
DTSTART:20181028T010000
END:STANDARD
BEGIN:DAYLIGHT
TZOFFSETFROM:+0100
TZOFFSETTO:+0200
TZNAME:CEST
DTSTART:20190331T010000
END:DAYLIGHT
BEGIN:STANDARD
TZOFFSETFROM:+0200
TZOFFSETTO:+0100
TZNAME:CET
DTSTART:20191027T010000
END:STANDARD
END:VTIMEZONE
BEGIN:VEVENT
DTSTART;TZID=Europe/Rome:20180628T140000
DTEND;TZID=Europe/Rome:20180628T183000
DTSTAMP:20260420T150832
CREATED:20180612T115757Z
LAST-MODIFIED:20180612T115757Z
UID:6205-1530194400-1530210600@periti-industriali.trento.it
SUMMARY:Sistemi di rivelazione incendio: progettare secondo le norme\, applicazioni delle nuove tecnologie in campo di manutenzione e trasmissione degli allarmi
DESCRIPTION:Locandina>> \nL’evento darà diritto a 4 CFP in base al Regolamento della Formazione Continua
URL:https://periti-industriali.trento.it/event/sistemi-rivelazione-incendio-progettare-secondo-le-norme-applicazioni-delle-nuove-tecnologie-campo-manutenzione-trasmissione-degli-allarmi/
LOCATION:Hotel Adolph-Kolping\, STR. LARGO ADOLPH KOLPING\, BOLZANO\, BZ\, 39100
CATEGORIES:Formazione
END:VEVENT
END:VCALENDAR