BEGIN:VCALENDAR
VERSION:2.0
PRODID:-//Periti Industriali Trento - ECPv6.15.17//NONSGML v1.0//EN
CALSCALE:GREGORIAN
METHOD:PUBLISH
X-WR-CALNAME:Periti Industriali Trento
X-ORIGINAL-URL:https://periti-industriali.trento.it
X-WR-CALDESC:Eventi per Periti Industriali Trento
REFRESH-INTERVAL;VALUE=DURATION:PT1H
X-Robots-Tag:noindex
X-PUBLISHED-TTL:PT1H
BEGIN:VTIMEZONE
TZID:Europe/Rome
BEGIN:DAYLIGHT
TZOFFSETFROM:+0100
TZOFFSETTO:+0200
TZNAME:CEST
DTSTART:20170326T010000
END:DAYLIGHT
BEGIN:STANDARD
TZOFFSETFROM:+0200
TZOFFSETTO:+0100
TZNAME:CET
DTSTART:20171029T010000
END:STANDARD
BEGIN:DAYLIGHT
TZOFFSETFROM:+0100
TZOFFSETTO:+0200
TZNAME:CEST
DTSTART:20180325T010000
END:DAYLIGHT
BEGIN:STANDARD
TZOFFSETFROM:+0200
TZOFFSETTO:+0100
TZNAME:CET
DTSTART:20181028T010000
END:STANDARD
BEGIN:DAYLIGHT
TZOFFSETFROM:+0100
TZOFFSETTO:+0200
TZNAME:CEST
DTSTART:20190331T010000
END:DAYLIGHT
BEGIN:STANDARD
TZOFFSETFROM:+0200
TZOFFSETTO:+0100
TZNAME:CET
DTSTART:20191027T010000
END:STANDARD
END:VTIMEZONE
BEGIN:VEVENT
DTSTART;TZID=Europe/Rome:20180413T134500
DTEND;TZID=Europe/Rome:20180413T190000
DTSTAMP:20260421T065651
CREATED:20180410T095209Z
LAST-MODIFIED:20180410T095209Z
UID:6014-1523627100-1523646000@periti-industriali.trento.it
SUMMARY:TECH AROUND U - LA CENTRALE DI COGENERAZIONE
DESCRIPTION:L’evento darà diritto a 3 CFP in base al Nuovo Regolamento della Formazione Continua dei Periti Industriali.
URL:https://periti-industriali.trento.it/event/tech-around-u-la-centrale-cogenerazione/
LOCATION:Cartiere del Garda LECTA\, Viale Rovereto\, 15\, Riva del Garda\, 38066\, Italia
CATEGORIES:Formazione
ATTACH;FMTTYPE=image/jpeg:https://periti-industriali.trento.it/wp-content/uploads/2018/04/Riva-Centrale-lato-est.jpg
ORGANIZER;CN="Area Formazione Periti Industriali":MAILTO:info@areaformazioneperind.it
END:VEVENT
END:VCALENDAR