BEGIN:VCALENDAR
VERSION:2.0
PRODID:-//Periti Industriali Trento - ECPv6.15.17//NONSGML v1.0//EN
CALSCALE:GREGORIAN
METHOD:PUBLISH
X-WR-CALNAME:Periti Industriali Trento
X-ORIGINAL-URL:https://periti-industriali.trento.it
X-WR-CALDESC:Eventi per Periti Industriali Trento
REFRESH-INTERVAL;VALUE=DURATION:PT1H
X-Robots-Tag:noindex
X-PUBLISHED-TTL:PT1H
BEGIN:VTIMEZONE
TZID:Europe/Rome
BEGIN:DAYLIGHT
TZOFFSETFROM:+0100
TZOFFSETTO:+0200
TZNAME:CEST
DTSTART:20160327T010000
END:DAYLIGHT
BEGIN:STANDARD
TZOFFSETFROM:+0200
TZOFFSETTO:+0100
TZNAME:CET
DTSTART:20161030T010000
END:STANDARD
BEGIN:DAYLIGHT
TZOFFSETFROM:+0100
TZOFFSETTO:+0200
TZNAME:CEST
DTSTART:20170326T010000
END:DAYLIGHT
BEGIN:STANDARD
TZOFFSETFROM:+0200
TZOFFSETTO:+0100
TZNAME:CET
DTSTART:20171029T010000
END:STANDARD
BEGIN:DAYLIGHT
TZOFFSETFROM:+0100
TZOFFSETTO:+0200
TZNAME:CEST
DTSTART:20180325T010000
END:DAYLIGHT
BEGIN:STANDARD
TZOFFSETFROM:+0200
TZOFFSETTO:+0100
TZNAME:CET
DTSTART:20181028T010000
END:STANDARD
END:VTIMEZONE
BEGIN:VEVENT
DTSTART;TZID=Europe/Rome:20171006T200000
DTEND;TZID=Europe/Rome:20171006T220000
DTSTAMP:20260420T213510
CREATED:20171003T124213Z
LAST-MODIFIED:20171003T124416Z
UID:5464-1507320000-1507327200@periti-industriali.trento.it
SUMMARY:Turismo e territorio
DESCRIPTION:Questo evento fa parte di un programma di incontri che a cinquant’anni di distanza dall’approvazione del primo Piano Urbanistico Provinciale intendono approfondire il percorso di sviluppo del Trentino. Gli eventi sono gratuiti e aperti a tutti. \nSi ricorda che per il riconoscimento dei CFP\, bisognerà registrarsi presentandosi all’accettazione e firmare il registro firme. \nLocandina>> \nL’evento darà diritto a 2 CFP in base al Nuovo Regolamento della Formazione Continua.
URL:https://periti-industriali.trento.it/event/turismo-e-territorio/
LOCATION:Cinema Teatro Comunale Malè\, Piazza Giuseppe Garibaldi\, 17\, Malè\, 38027\, Italia
CATEGORIES:Formazione
ATTACH;FMTTYPE=image/jpeg:https://periti-industriali.trento.it/wp-content/uploads/2017/10/pup-50.jpg
ORGANIZER;CN="tsm-Trentino School of Managment":MAILTO:info@tsm.tn.it
END:VEVENT
END:VCALENDAR