BEGIN:VCALENDAR
VERSION:2.0
PRODID:-//Periti Industriali Trento - ECPv6.15.17//NONSGML v1.0//EN
CALSCALE:GREGORIAN
METHOD:PUBLISH
X-ORIGINAL-URL:https://periti-industriali.trento.it
X-WR-CALDESC:Eventi per Periti Industriali Trento
REFRESH-INTERVAL;VALUE=DURATION:PT1H
X-Robots-Tag:noindex
X-PUBLISHED-TTL:PT1H
BEGIN:VTIMEZONE
TZID:Europe/Rome
BEGIN:DAYLIGHT
TZOFFSETFROM:+0100
TZOFFSETTO:+0200
TZNAME:CEST
DTSTART:20180325T010000
END:DAYLIGHT
BEGIN:STANDARD
TZOFFSETFROM:+0200
TZOFFSETTO:+0100
TZNAME:CET
DTSTART:20181028T010000
END:STANDARD
BEGIN:DAYLIGHT
TZOFFSETFROM:+0100
TZOFFSETTO:+0200
TZNAME:CEST
DTSTART:20190331T010000
END:DAYLIGHT
BEGIN:STANDARD
TZOFFSETFROM:+0200
TZOFFSETTO:+0100
TZNAME:CET
DTSTART:20191027T010000
END:STANDARD
BEGIN:DAYLIGHT
TZOFFSETFROM:+0100
TZOFFSETTO:+0200
TZNAME:CEST
DTSTART:20200329T010000
END:DAYLIGHT
BEGIN:STANDARD
TZOFFSETFROM:+0200
TZOFFSETTO:+0100
TZNAME:CET
DTSTART:20201025T010000
END:STANDARD
END:VTIMEZONE
BEGIN:VEVENT
DTSTART;TZID=Europe/Rome:20190402T140000
DTEND;TZID=Europe/Rome:20190402T180000
DTSTAMP:20260424T062515
CREATED:20190319T093639Z
LAST-MODIFIED:20190319T093639Z
UID:6800-1554213600-1554228000@periti-industriali.trento.it
SUMMARY:Controllo attivo dell'incendio
DESCRIPTION:Il seminario di aggiornamento\, della durata di quattro ore\, è valido per il mantenimento dell’iscrizione negli elenchi del ministero dell’interno ex L.818/84. \nIl seminario darà diritto a 4 CFP in base al Nuovo Regolamento della Formazione Continua dei Periti Industriali.
URL:https://periti-industriali.trento.it/event/controllo-attivo-dellincendio/
LOCATION:Ordine dei Periti Industriali\, Galleria Tirrena\, 10\, Trento\, 38122\, Italia
CATEGORIES:Formazione
ATTACH;FMTTYPE=image/jpeg:https://periti-industriali.trento.it/wp-content/uploads/2019/03/immagine-2.jpg
ORGANIZER;CN="Area Formazione Periti Industriali":MAILTO:info@areaformazioneperind.it
END:VEVENT
BEGIN:VEVENT
DTSTART;TZID=Europe/Rome:20190404T140000
DTEND;TZID=Europe/Rome:20190404T163000
DTSTAMP:20260424T062515
CREATED:20190401T143204Z
LAST-MODIFIED:20190401T143204Z
UID:6899-1554386400-1554395400@periti-industriali.trento.it
SUMMARY:LA DEMOLIZIONE CHE CREA VALORE Casi e policy
DESCRIPTION:L’evento darà diritto a 3 CFP in base al Nuovo Regolamento della Formazione Continua dei Periti Industriali.
URL:https://periti-industriali.trento.it/event/la-demolizione-che-crea-valore-casi-e-policy/
LOCATION:Centro Congressi Riva del Garda\, Riva del Garda
CATEGORIES:Formazione
ATTACH;FMTTYPE=image/jpeg:https://periti-industriali.trento.it/wp-content/uploads/2016/06/rebuild.jpg
ORGANIZER;CN="Rebuild srl":MAILTO:welcome@rebuilditalia.it
END:VEVENT
BEGIN:VEVENT
DTSTART;TZID=Europe/Rome:20190404T140000
DTEND;TZID=Europe/Rome:20190404T180000
DTSTAMP:20260424T062515
CREATED:20190329T115926Z
LAST-MODIFIED:20190329T115926Z
UID:6882-1554386400-1554400800@periti-industriali.trento.it
SUMMARY:CYBERSECURITY 0X01 Concetti base e trucchi del mestiere
DESCRIPTION:L’evento darà diritto a 4 CFP in base al Nuovo Regolamento della Formazione Continua dei Periti Industriali.
URL:https://periti-industriali.trento.it/event/cybersecurity-0x01-concetti-base-e-trucchi-del-mestiere/
LOCATION:Ordine dei Periti Industriali\, Galleria Tirrena\, 10\, Trento\, 38122\, Italia
CATEGORIES:Formazione
ORGANIZER;CN="Area Formazione Periti Industriali":MAILTO:info@areaformazioneperind.it
END:VEVENT
BEGIN:VEVENT
DTSTART;TZID=Europe/Rome:20190405T090000
DTEND;TZID=Europe/Rome:20190405T130000
DTSTAMP:20260424T062515
CREATED:20190312T111416Z
LAST-MODIFIED:20190325T162152Z
UID:6786-1554454800-1554469200@periti-industriali.trento.it
SUMMARY:L'evoluzione del controllo accessi e sicurezza per edifici pubblici e privati 2019
DESCRIPTION:Programma>> \nRegistrazione obbligatoria ad esaurimento posti. \nL’evento darà diritto a 4 CFP in base al Regolamento della Formazione Continua. \n 
URL:https://periti-industriali.trento.it/event/levoluzione-del-controllo-accessi-e-sicurezza-per-edifici-pubblici-e-privati-2019/
LOCATION:Ordine dei Periti Industriali\, Galleria Tirrena\, 10\, Trento\, 38122\, Italia
CATEGORIES:Formazione
ATTACH;FMTTYPE=image/jpeg:https://periti-industriali.trento.it/wp-content/uploads/2019/03/immagine-1.jpg
ORGANIZER;CN="ORDINE PERITI INDUSTRIALI TRENTO":MAILTO:info@periti-industriali.trento.it
END:VEVENT
BEGIN:VEVENT
DTSTART;TZID=Europe/Rome:20190408T140000
DTEND;TZID=Europe/Rome:20190408T180000
DTSTAMP:20260424T062515
CREATED:20190328T095201Z
LAST-MODIFIED:20190328T095201Z
UID:6878-1554732000-1554746400@periti-industriali.trento.it
SUMMARY:Analisi del rischio da arc flash
DESCRIPTION:Locandina>> \nL’evento darà diritto a 4 CFP in base al Nuovo Regolamento della Formazione Continua dei Periti Industriali.
URL:https://periti-industriali.trento.it/event/analisi-del-rischio-da-arc-flash/
LOCATION:Ordine dei Periti Industriali\, Galleria Tirrena\, 10\, Trento\, 38122\, Italia
CATEGORIES:Formazione
ATTACH;FMTTYPE=image/jpeg:https://periti-industriali.trento.it/wp-content/uploads/2017/02/atiqual.jpg
ORGANIZER;CN="Atiqual":MAILTO:info@unaetrentino.it
END:VEVENT
BEGIN:VEVENT
DTSTART;TZID=Europe/Rome:20190411T140000
DTEND;TZID=Europe/Rome:20190411T180000
DTSTAMP:20260424T062515
CREATED:20190329T120025Z
LAST-MODIFIED:20190329T120025Z
UID:6884-1554991200-1555005600@periti-industriali.trento.it
SUMMARY:CYBERSECURITY 0X02 Approccio enterprise e concetti più avanzati
DESCRIPTION:L’evento darà diritto a 4 CFP in base al Nuovo Regolamento della Formazione Continua dei Periti Industriali.
URL:https://periti-industriali.trento.it/event/cybersecurity-0x02-approccio-enterprise-e-concetti-piu-avanzati/
LOCATION:Ordine dei Periti Industriali\, Galleria Tirrena\, 10\, Trento\, 38122\, Italia
CATEGORIES:Formazione
ORGANIZER;CN="Area Formazione Periti Industriali":MAILTO:info@areaformazioneperind.it
END:VEVENT
BEGIN:VEVENT
DTSTART;TZID=Europe/Rome:20190412T090000
DTEND;TZID=Europe/Rome:20190412T130000
DTSTAMP:20260424T062515
CREATED:20190329T120148Z
LAST-MODIFIED:20190329T120148Z
UID:6886-1555059600-1555074000@periti-industriali.trento.it
SUMMARY:NUOVA CEI 64/8 VARIANTE 5 Protezione degli impianti tecnologici dalle sovratensioni elettriche e dagli incendi
DESCRIPTION:L’evento darà diritto a 4 CFP in base al Nuovo Regolamento della Formazione Continua dei Periti Industriali.
URL:https://periti-industriali.trento.it/event/nuova-cei-648-variante-5-protezione-degli-impianti-tecnologici-dalle-sovratensioni-elettriche-e-dagli-incendi/
LOCATION:Ordine dei Periti Industriali\, Galleria Tirrena\, 10\, Trento\, 38122\, Italia
CATEGORIES:Formazione
ORGANIZER;CN="Area Formazione Periti Industriali":MAILTO:info@areaformazioneperind.it
END:VEVENT
BEGIN:VEVENT
DTSTART;TZID=Europe/Rome:20190415T140000
DTEND;TZID=Europe/Rome:20190415T180000
DTSTAMP:20260424T062515
CREATED:20190329T120342Z
LAST-MODIFIED:20190415T110535Z
UID:6888-1555336800-1555351200@periti-industriali.trento.it
SUMMARY:LA PRATICA NELLA GESTIONE DI PORTE TAGLIAFUOCO E VIE DI ESODO. Chiusure tagliafuoco interne ed esterne. Tende tagliafuoco.
DESCRIPTION:IL CORSO E’ STATO ANNULLATO IN QUANTO NON SI E’ RAGGIUNTO IL NUMERO MINIMO DI ATTIVAZIONE.\nIl seminario di aggiornamento\, della durata di quattro ore\, è valido per il mantenimento dell’iscrizione negli elenchi del ministero dell’interno ex L.818/84. \nL’evento darà diritto a 4 CFP in base al Nuovo Regolamento della Formazione Continua dei Periti Industriali.
URL:https://periti-industriali.trento.it/event/la-pratica-nella-gestione-di-porte-tagliafuoco-e-vie-di-esodo-chiusure-tagliafuoco-interne-ed-esterne-tende-tagliafuoco/
LOCATION:Ordine dei Periti Industriali\, Galleria Tirrena\, 10\, Trento\, 38122\, Italia
CATEGORIES:Formazione
ATTACH;FMTTYPE=image/gif:https://periti-industriali.trento.it/wp-content/uploads/2019/03/immagine.gif
ORGANIZER;CN="Area Formazione Periti Industriali":MAILTO:info@areaformazioneperind.it
END:VEVENT
BEGIN:VEVENT
DTSTART;TZID=Europe/Rome:20190416T140000
DTEND;TZID=Europe/Rome:20190416T180000
DTSTAMP:20260424T062515
CREATED:20190329T120507Z
LAST-MODIFIED:20190416T082619Z
UID:6891-1555423200-1555437600@periti-industriali.trento.it
SUMMARY:CREDITI EDILIZI\, QUESTI SCONOSCIUTI. NUOVE OPPORTUNITA’
DESCRIPTION:IL CORSO E’ STATO ANNULLATO IN QUANTO NON SI E’ RAGGIUNTO IL NUMERO MINIMO DI ATTIVAZIONE.\nL’evento darà diritto a 4 CFP in base al Nuovo Regolamento della Formazione Continua dei Periti Industriali.
URL:https://periti-industriali.trento.it/event/crediti-edilizi-questi-sconosciuti-nuove-opportunita/
LOCATION:Ordine dei Periti Industriali\, Galleria Tirrena\, 10\, Trento\, 38122\, Italia
CATEGORIES:Formazione
ORGANIZER;CN="Area Formazione Periti Industriali":MAILTO:info@areaformazioneperind.it
END:VEVENT
BEGIN:VEVENT
DTSTART;TZID=Europe/Rome:20190417T140000
DTEND;TZID=Europe/Rome:20190417T180000
DTSTAMP:20260424T062515
CREATED:20190329T120617Z
LAST-MODIFIED:20190329T120744Z
UID:6893-1555509600-1555524000@periti-industriali.trento.it
SUMMARY:IL CANTIERE STRADALE
DESCRIPTION:Il seminario è valido per l’aggiornamento CSP/CSE D.Lgs. 81/08. \nL’evento darà diritto a 7 CFP in base al Nuovo Regolamento della Formazione Continua dei Periti Industriali.
URL:https://periti-industriali.trento.it/event/il-cantiere-stradale/
LOCATION:Ordine dei Periti Industriali\, Galleria Tirrena\, 10\, Trento\, 38122\, Italia
CATEGORIES:Formazione
ATTACH;FMTTYPE=image/png:https://periti-industriali.trento.it/wp-content/uploads/2019/03/immagine-2.png
ORGANIZER;CN="Area Formazione Periti Industriali":MAILTO:info@areaformazioneperind.it
END:VEVENT
END:VCALENDAR