BEGIN:VCALENDAR
VERSION:2.0
PRODID:-//Periti Industriali Trento - ECPv6.15.17//NONSGML v1.0//EN
CALSCALE:GREGORIAN
METHOD:PUBLISH
X-WR-CALNAME:Periti Industriali Trento
X-ORIGINAL-URL:https://periti-industriali.trento.it
X-WR-CALDESC:Eventi per Periti Industriali Trento
REFRESH-INTERVAL;VALUE=DURATION:PT1H
X-Robots-Tag:noindex
X-PUBLISHED-TTL:PT1H
BEGIN:VTIMEZONE
TZID:Europe/Rome
BEGIN:DAYLIGHT
TZOFFSETFROM:+0100
TZOFFSETTO:+0200
TZNAME:CEST
DTSTART:20180325T010000
END:DAYLIGHT
BEGIN:STANDARD
TZOFFSETFROM:+0200
TZOFFSETTO:+0100
TZNAME:CET
DTSTART:20181028T010000
END:STANDARD
BEGIN:DAYLIGHT
TZOFFSETFROM:+0100
TZOFFSETTO:+0200
TZNAME:CEST
DTSTART:20190331T010000
END:DAYLIGHT
BEGIN:STANDARD
TZOFFSETFROM:+0200
TZOFFSETTO:+0100
TZNAME:CET
DTSTART:20191027T010000
END:STANDARD
BEGIN:DAYLIGHT
TZOFFSETFROM:+0100
TZOFFSETTO:+0200
TZNAME:CEST
DTSTART:20200329T010000
END:DAYLIGHT
BEGIN:STANDARD
TZOFFSETFROM:+0200
TZOFFSETTO:+0100
TZNAME:CET
DTSTART:20201025T010000
END:STANDARD
END:VTIMEZONE
BEGIN:VEVENT
DTSTART;TZID=Europe/Rome:20190918T133000
DTEND;TZID=Europe/Rome:20190918T183000
DTSTAMP:20260423T224426
CREATED:20190902T081503Z
LAST-MODIFIED:20190902T081832Z
UID:7321-1568813400-1568831400@periti-industriali.trento.it
SUMMARY:Igiene dell'acqua e prevenzione legionella
DESCRIPTION:Innerhofer spa\, organizza in convenzione con l’Ordine dei Periti Industriali\, un seminario di aggiornamento dal titolo “Igiene dell’acqua e prevenzione legionella” per mercoledì’ 18 SETTEMBRE 2019 a partire dalle ore 13\,30 presso la sala della sede di Trento Via Maccani\, 181. \nPosti limitati. le iscrizioni tramite il portale Innerhofer inserendo le credenziali inserite nella locandina. \nil seminario darà diritto a 4 CFP in base al nuovo regolamento della formazione continua. \nLOCANDINA>>>
URL:https://periti-industriali.trento.it/event/igiene-dellacqua-e-prevenzione-legionella/
LOCATION:E. Innerhofer Spa\, Via Maccani\, 181\, Trento\, 38121\, Italia
CATEGORIES:Formazione
ATTACH;FMTTYPE=image/jpeg:https://periti-industriali.trento.it/wp-content/uploads/2019/09/IMMAGINE-HINNEROFER.jpg
END:VEVENT
BEGIN:VEVENT
DTSTART;TZID=Europe/Rome:20190919T093000
DTEND;TZID=Europe/Rome:20190919T143000
DTSTAMP:20260423T224426
CREATED:20190902T091810Z
LAST-MODIFIED:20190902T092357Z
UID:7327-1568885400-1568903400@periti-industriali.trento.it
SUMMARY:Le nuove norme di progettazione di prevenzione incendi per impianti HVAC.
DESCRIPTION:RIELLO Energy for life\, organizza in convenzione con l’Ordine dei Periti Industriali\, un seminario di aggiornamento dal titolo “Le nuove norme di progettazione di prevenzione incendi per impianti HVAC. Come garantire il risultato finale: dal concept al commissioning” per giovedì’ 19 SETTEMBRE 2019 a partire dalle ore 09\,30 presso la sala Cantine Ferrari Trento Via del ponte\, 15. \nPosti limitati. Per l’iscrizione è necessaria la registrazione >>> \nil seminario darà diritto a 4 CFP in base al nuovo regolamento della formazione continua. \nLOCANDINA>>>
URL:https://periti-industriali.trento.it/event/le-nuove-norme-di-progettazione-di-prevenzione-incendi-per-impianti-hvac/
LOCATION:Cantine Ferrari\, Via del Ponte\, 15\, TRENTO\, 38123\, Italia
CATEGORIES:Formazione
ATTACH;FMTTYPE=image/jpeg:https://periti-industriali.trento.it/wp-content/uploads/2019/09/Immagine-1.jpg
END:VEVENT
BEGIN:VEVENT
DTSTART;TZID=Europe/Rome:20190919T143000
DTEND;TZID=Europe/Rome:20190919T183000
DTSTAMP:20260423T224426
CREATED:20190912T112249Z
LAST-MODIFIED:20190912T112249Z
UID:7362-1568903400-1568917800@periti-industriali.trento.it
SUMMARY:Vallagarina green\, semplici passi per diventare una nuova comunità ecosostenibile
DESCRIPTION:VALLAGARINA FESTIVAL organizza in convenzione con l’Ordine dei Periti Industriali\, un seminario di aggiornamento dal titolo “Vallagarina green\, semplici passi per diventare una nuova comunità ecosostenibile” per giovedì’ 19 SETTEMBRE 2019 a partire dalle ore 14\,30 presso la sala conferenze Mart – Rovereto. \ningresso libero fino ad esaurimento posti \nil seminario darà diritto a 4 CFP in base al nuovo regolamento della formazione continua previa registrazione sul posto. \nLOCANDINA>>>>
URL:https://periti-industriali.trento.it/event/vallagarina-green-semplici-passi-per-diventare-una-nuova-comunita-ecosostenibile/
LOCATION:Sala Conferenze MART\, Corso Angelo Bettini\, 43\, Rovereto\, 38068\, Italia
CATEGORIES:Formazione
END:VEVENT
BEGIN:VEVENT
DTSTART;VALUE=DATE:20190924
DTEND;VALUE=DATE:20190925
DTSTAMP:20260423T224426
CREATED:20190826T124651Z
LAST-MODIFIED:20190826T124925Z
UID:7316-1569283200-1569369599@periti-industriali.trento.it
SUMMARY:Procedure di gara e aggiornamento normativo sui lavori pubblici
DESCRIPTION:L’associazione Tecnici Comunali e delle Comunità del Trentino\, organizza in convenzione con l’Ordine dei Periti Industriali\, un seminario di aggiornamento dal titolo “procedure di gara e aggiornamento normativo sui lavori pubblici” per MARTEDI’ 24 SETTEMBRE 2019 a partire dalle ore 13\,45. \nse sei interessato leggi la locandina ed iscriverti come indicato. \nil seminario darà diritto a 4 CFP \nLOCANDINA>>
URL:https://periti-industriali.trento.it/event/procedure-di-gara-e-aggiornamento-normativo-sui-lavori-pubblici/
LOCATION:Centro Servizi Culturali Santa Chiara\, Via Santa Croce\, 67\, Trento\, 38122\, Italia
CATEGORIES:Formazione
ORGANIZER;CN="Associazione Tecnici Comunali e delle Comunit%C3%A0 del Trentino":MAILTO:sergio.guerri@alice.it
END:VEVENT
BEGIN:VEVENT
DTSTART;TZID=Europe/Rome:20190930T180000
DTEND;TZID=Europe/Rome:20190930T200000
DTSTAMP:20260423T224426
CREATED:20190930T114321Z
LAST-MODIFIED:20190930T114321Z
UID:7378-1569866400-1569873600@periti-industriali.trento.it
SUMMARY:Incontro territoriale di Ziano
DESCRIPTION:Il Consiglio Direttivo intende continuare la tradizione degli incontri con gli iscritti all’albo provinciale\, raggruppati per zone territoriali\, al fine di illustrare alcuni importanti argomenti che coinvolgono la categoria: \n• Informazioni dalla categoria;\n• Formazione continua;\n• Notizie dalla Cassa di Previdenza EPPI;\n• Aggiornamento politica nazionale della categoria;\n• Dibattito e proposte dal territorio;\n• Varie ed eventuali.\nLa partecipazione agli incontri territoriali darà diritto a 6 CFP di cui 3 CFP riguardanti l’etica e la deontologia come dettato dal Regolamento della Formazione Continua. \nCalendario incontri>>
URL:https://periti-industriali.trento.it/event/incontro-territoriale-di-ziano/
LOCATION:Sala della Cultura “Aldo Zorzi”\, Via Bosin\, 1\, ZIANO\, 38030\, Italia
CATEGORIES:Formazione
ATTACH;FMTTYPE=image/png:https://periti-industriali.trento.it/wp-content/uploads/2018/04/logo-periti-con-sfondo-sfera-per-Evidenza-copia.png
END:VEVENT
END:VCALENDAR