BEGIN:VCALENDAR
VERSION:2.0
PRODID:-//Periti Industriali Trento - ECPv6.15.17//NONSGML v1.0//EN
CALSCALE:GREGORIAN
METHOD:PUBLISH
X-ORIGINAL-URL:https://periti-industriali.trento.it
X-WR-CALDESC:Eventi per Periti Industriali Trento
REFRESH-INTERVAL;VALUE=DURATION:PT1H
X-Robots-Tag:noindex
X-PUBLISHED-TTL:PT1H
BEGIN:VTIMEZONE
TZID:Europe/Rome
BEGIN:DAYLIGHT
TZOFFSETFROM:+0100
TZOFFSETTO:+0200
TZNAME:CEST
DTSTART:20190331T010000
END:DAYLIGHT
BEGIN:STANDARD
TZOFFSETFROM:+0200
TZOFFSETTO:+0100
TZNAME:CET
DTSTART:20191027T010000
END:STANDARD
BEGIN:DAYLIGHT
TZOFFSETFROM:+0100
TZOFFSETTO:+0200
TZNAME:CEST
DTSTART:20200329T010000
END:DAYLIGHT
BEGIN:STANDARD
TZOFFSETFROM:+0200
TZOFFSETTO:+0100
TZNAME:CET
DTSTART:20201025T010000
END:STANDARD
BEGIN:DAYLIGHT
TZOFFSETFROM:+0100
TZOFFSETTO:+0200
TZNAME:CEST
DTSTART:20210328T010000
END:DAYLIGHT
BEGIN:STANDARD
TZOFFSETFROM:+0200
TZOFFSETTO:+0100
TZNAME:CET
DTSTART:20211031T010000
END:STANDARD
END:VTIMEZONE
BEGIN:VEVENT
DTSTART;TZID=Europe/Rome:20200306T103000
DTEND;TZID=Europe/Rome:20200306T173000
DTSTAMP:20260423T130653
CREATED:20200218T164808Z
LAST-MODIFIED:20200218T164808Z
UID:7586-1583490600-1583515800@periti-industriali.trento.it
SUMMARY:Il RUP nei lavori pubblici
DESCRIPTION:L’evento darà diritto a 6 CFP in base al Regolamento della Formazione Continua.
URL:https://periti-industriali.trento.it/event/il-rup-nei-lavori-pubblici/
LOCATION:Centro Congressi Interbrennero\, Via Innsbruck\, 13/15\, Trento\, 38121\, Italia
CATEGORIES:Formazione
ATTACH;FMTTYPE=image/jpeg:https://periti-industriali.trento.it/wp-content/uploads/2016/06/legislazione_logo-copia.jpg
END:VEVENT
BEGIN:VEVENT
DTSTART;TZID=Europe/Rome:20200306T140000
DTEND;TZID=Europe/Rome:20200306T180000
DTSTAMP:20260423T130653
CREATED:20200212T091753Z
LAST-MODIFIED:20200225T091041Z
UID:7576-1583503200-1583517600@periti-industriali.trento.it
SUMMARY:Adempimenti in salute e sicurezza TU 81/08 - aggiornamento CSP/CSE
DESCRIPTION:EVENTO ANNULLATO CON DATA DA DESTINARSI \nIl corso darà diritto a 4 CFP in base al Regolamento della Formazione Continua.
URL:https://periti-industriali.trento.it/event/adempimenti-in-salute-e-sicurezza-tu-81-08-aggiornamento-csp-cse/
LOCATION:Istituto Marie Curie\, Via S. Pietro\, 4\, Pergine Valsugana\, 38057\, Italia
CATEGORIES:Formazione
ATTACH;FMTTYPE=image/png:https://periti-industriali.trento.it/wp-content/uploads/2020/02/EVENTO-ANNULLATO.png
ORGANIZER;CN="ORDINE PERITI INDUSTRIALI TRENTO":MAILTO:info@periti-industriali.trento.it
END:VEVENT
BEGIN:VEVENT
DTSTART;VALUE=DATE:20200309
DTEND;VALUE=DATE:20200310
DTSTAMP:20260423T130653
CREATED:20200115T112337Z
LAST-MODIFIED:20200115T112337Z
UID:7530-1583712000-1583798399@periti-industriali.trento.it
SUMMARY:EXPO 2020 - Connecting minds\, creating the future
DESCRIPTION:Locandina>> \nModulo adesione>> \nL’intera partecipazione alla visita negli Emirati Arabi Uniti darà CFP in base al Regolamento della Formazione Continua.
URL:https://periti-industriali.trento.it/event/expo-2020-connecting-minds-creating-the-future/
LOCATION:Emirati Arabi\, Emirati Arabi Uniti
CATEGORIES:Formazione
ATTACH;FMTTYPE=image/png:https://periti-industriali.trento.it/wp-content/uploads/2020/01/IMMAGINI.png
END:VEVENT
BEGIN:VEVENT
DTSTART;TZID=Europe/Rome:20200320T090000
DTEND;TZID=Europe/Rome:20200320T180000
DTSTAMP:20260423T130653
CREATED:20200129T115802Z
LAST-MODIFIED:20200311T091852Z
UID:7542-1584694800-1584727200@periti-industriali.trento.it
SUMMARY:Verifica termoigrometrica in regime dinamico-Parte 1 di 2
DESCRIPTION:SOSPESO A DATA DA DESTINARSI. \nIl corso darà diritto a CFP in base al Regolamento della Formazione Continua.
URL:https://periti-industriali.trento.it/event/verifica-termoigrometrica-in-regime-dinamico-parte-1-di-2/
LOCATION:Ordine dei Periti Industriali\, Galleria Tirrena\, 10\, Trento\, 38122\, Italia
CATEGORIES:Formazione
ATTACH;FMTTYPE=image/jpeg:https://periti-industriali.trento.it/wp-content/uploads/2019/12/sospeso.jpg
ORGANIZER;CN="ORDINE PERITI INDUSTRIALI TRENTO":MAILTO:info@periti-industriali.trento.it
END:VEVENT
BEGIN:VEVENT
DTSTART;TZID=Europe/Rome:20200327T140000
DTEND;TZID=Europe/Rome:20200327T180000
DTSTAMP:20260423T130653
CREATED:20200221T083104Z
LAST-MODIFIED:20200311T092706Z
UID:7588-1585317600-1585332000@periti-industriali.trento.it
SUMMARY:I sistemi IRAI: RTV-RTO e Norme per una corretta Progettazione e Manutenzione
DESCRIPTION:SOSPESO A DATA DA DESTINARSI. \nL’evento darà diritto a 4 CFP in base al Regolamento della Formazione Continua.
URL:https://periti-industriali.trento.it/event/i-sistemi-irai-rtv-rto-e-norme-per-una-corretta-progettazione-e-manutenzione/
LOCATION:Ordine dei Periti Industriali\, Galleria Tirrena\, 10\, Trento\, 38122\, Italia
CATEGORIES:Formazione
ATTACH;FMTTYPE=image/jpeg:https://periti-industriali.trento.it/wp-content/uploads/2019/12/sospeso.jpg
END:VEVENT
END:VCALENDAR