BEGIN:VCALENDAR
VERSION:2.0
PRODID:-//Periti Industriali Trento - ECPv6.15.17//NONSGML v1.0//EN
CALSCALE:GREGORIAN
METHOD:PUBLISH
X-ORIGINAL-URL:https://periti-industriali.trento.it
X-WR-CALDESC:Eventi per Periti Industriali Trento
REFRESH-INTERVAL;VALUE=DURATION:PT1H
X-Robots-Tag:noindex
X-PUBLISHED-TTL:PT1H
BEGIN:VTIMEZONE
TZID:Europe/Rome
BEGIN:DAYLIGHT
TZOFFSETFROM:+0100
TZOFFSETTO:+0200
TZNAME:CEST
DTSTART:20190331T010000
END:DAYLIGHT
BEGIN:STANDARD
TZOFFSETFROM:+0200
TZOFFSETTO:+0100
TZNAME:CET
DTSTART:20191027T010000
END:STANDARD
BEGIN:DAYLIGHT
TZOFFSETFROM:+0100
TZOFFSETTO:+0200
TZNAME:CEST
DTSTART:20200329T010000
END:DAYLIGHT
BEGIN:STANDARD
TZOFFSETFROM:+0200
TZOFFSETTO:+0100
TZNAME:CET
DTSTART:20201025T010000
END:STANDARD
BEGIN:DAYLIGHT
TZOFFSETFROM:+0100
TZOFFSETTO:+0200
TZNAME:CEST
DTSTART:20210328T010000
END:DAYLIGHT
BEGIN:STANDARD
TZOFFSETFROM:+0200
TZOFFSETTO:+0100
TZNAME:CET
DTSTART:20211031T010000
END:STANDARD
END:VTIMEZONE
BEGIN:VEVENT
DTSTART;TZID=Europe/Rome:20201007T160000
DTEND;TZID=Europe/Rome:20201007T180000
DTSTAMP:20260423T010940
CREATED:20200923T092345Z
LAST-MODIFIED:20200923T092345Z
UID:7780-1602086400-1602093600@periti-industriali.trento.it
SUMMARY:Superbonus 110%
DESCRIPTION:Locandina>> \nL’evento darà diritto a 2 CFP in base al Regolamento della Formazione Continua.
URL:https://periti-industriali.trento.it/event/superbonus-110/
LOCATION:webinar
CATEGORIES:Formazione
ATTACH;FMTTYPE=image/jpeg:https://periti-industriali.trento.it/wp-content/uploads/2017/02/atiqual.jpg
ORGANIZER;CN="Atiqual":MAILTO:info@unaetrentino.it
END:VEVENT
BEGIN:VEVENT
DTSTART;TZID=Europe/Rome:20201009T090000
DTEND;TZID=Europe/Rome:20201009T130000
DTSTAMP:20260423T010940
CREATED:20200212T092034Z
LAST-MODIFIED:20200930T103401Z
UID:7580-1602234000-1602248400@periti-industriali.trento.it
SUMMARY:Corso per aggiornamento CSP/CSE ON-LINE
DESCRIPTION:Il corso in modalità on-line darà diritto a 12 CFP in base al Regolamento della Formazione Continua.
URL:https://periti-industriali.trento.it/event/corso-per-aggiornamento-csp-cse/
LOCATION:Ordine dei Periti Industriali\, Galleria Tirrena\, 10\, Trento\, 38122\, Italia
CATEGORIES:Formazione
ATTACH;FMTTYPE=image/jpeg:https://periti-industriali.trento.it/wp-content/uploads/2020/02/immagine.jpg
ORGANIZER;CN="ORDINE PERITI INDUSTRIALI TRENTO":MAILTO:info@periti-industriali.trento.it
END:VEVENT
BEGIN:VEVENT
DTSTART;TZID=Europe/Rome:20201014T150000
DTEND;TZID=Europe/Rome:20201014T183000
DTSTAMP:20260423T010940
CREATED:20200907T070031Z
LAST-MODIFIED:20201005T135923Z
UID:7765-1602687600-1602700200@periti-industriali.trento.it
SUMMARY:Protezione contro le scariche atmosferiche e le sovratensioni
DESCRIPTION:Il webinar darà diritto a 3 CFP in base al Regolamento della Formazione Continua \nLocadina>>
URL:https://periti-industriali.trento.it/event/protezione-contro-le-scariche-atmosferiche-e-le-sovratensioni/
LOCATION:webinar
CATEGORIES:Formazione
ATTACH;FMTTYPE=image/png:https://periti-industriali.trento.it/wp-content/uploads/2020/09/dehn.png
ORGANIZER;CN="Dehn":MAILTO:info@dehn.it
END:VEVENT
BEGIN:VEVENT
DTSTART;TZID=Europe/Rome:20201023T090000
DTEND;TZID=Europe/Rome:20201023T130000
DTSTAMP:20260423T010940
CREATED:20191220T080929Z
LAST-MODIFIED:20200930T103716Z
UID:7502-1603443600-1603458000@periti-industriali.trento.it
SUMMARY:Corso CAM 1-2 temi edili ON-LINE
DESCRIPTION:Il corso CAM ha l’obiettivo di fornire agli attori della filiera edilizia un quadro dei Criteri Ambientali Minimi e gli strumenti per gestire progetti e rendicontazioni rispetto alle richieste. \nIl corso in modalità darà diritto a CFP in base al Regolamento della Formazione Continua.
URL:https://periti-industriali.trento.it/event/corso-cam-1-2-temi-edili/
LOCATION:Ordine dei Periti Industriali\, Galleria Tirrena\, 10\, Trento\, 38122\, Italia
CATEGORIES:Formazione
ATTACH;FMTTYPE=image/jpeg:https://periti-industriali.trento.it/wp-content/uploads/2019/12/IMMAGINE.jpg
ORGANIZER;CN="ORDINE PERITI INDUSTRIALI TRENTO":MAILTO:info@periti-industriali.trento.it
END:VEVENT
BEGIN:VEVENT
DTSTART;TZID=Europe/Rome:20201023T090000
DTEND;TZID=Europe/Rome:20201023T130000
DTSTAMP:20260423T010940
CREATED:20191220T081155Z
LAST-MODIFIED:20200930T103901Z
UID:7505-1603443600-1603458000@periti-industriali.trento.it
SUMMARY:Corso CAM 1-3-4 temi impianti ON-LINE
DESCRIPTION:SOSPESO A DATA DA DESTINARSI. \nIl corso CAM ha l’obiettivo di fornire agli attori della filiera edilizia un quadro dei Criteri Ambientali Minimi e gli strumenti per gestire progetti e rendicontazioni rispetto alle richieste. \nIl corso in modalità ON-LINE darà diritto a CFP in base al Regolamento della Formazione Continua.
URL:https://periti-industriali.trento.it/event/corso-cam-1-3-4-temi-impianti/
LOCATION:Ordine dei Periti Industriali\, Galleria Tirrena\, 10\, Trento\, 38122\, Italia
CATEGORIES:Formazione
ATTACH;FMTTYPE=image/jpeg:https://periti-industriali.trento.it/wp-content/uploads/2019/12/IMMAGINE.jpg
ORGANIZER;CN="ORDINE PERITI INDUSTRIALI TRENTO":MAILTO:info@periti-industriali.trento.it
END:VEVENT
BEGIN:VEVENT
DTSTART;TZID=Europe/Rome:20201023T090000
DTEND;TZID=Europe/Rome:20201023T130000
DTSTAMP:20260423T010940
CREATED:20191220T081435Z
LAST-MODIFIED:20200930T104025Z
UID:7507-1603443600-1603458000@periti-industriali.trento.it
SUMMARY:Corso CAM completo 1-2-3-4 ON-LINE
DESCRIPTION:Il corso CAM ha l’obiettivo di fornire agli attori della filiera edilizia un quadro dei Criteri Ambientali Minimi e gli strumenti per gestire progetti e rendicontazioni rispetto alle richieste. \nIl corso in modalità ON-LINE darà diritto a CFP in base al Regolamento della Formazione Continua.
URL:https://periti-industriali.trento.it/event/corso-cam-completo-1-2-3-4/
LOCATION:Ordine dei Periti Industriali\, Galleria Tirrena\, 10\, Trento\, 38122\, Italia
CATEGORIES:Formazione
ATTACH;FMTTYPE=image/jpeg:https://periti-industriali.trento.it/wp-content/uploads/2019/12/IMMAGINE.jpg
ORGANIZER;CN="ORDINE PERITI INDUSTRIALI TRENTO":MAILTO:info@periti-industriali.trento.it
END:VEVENT
END:VCALENDAR