BEGIN:VCALENDAR
VERSION:2.0
PRODID:-//Periti Industriali Trento - ECPv6.15.17//NONSGML v1.0//EN
CALSCALE:GREGORIAN
METHOD:PUBLISH
X-ORIGINAL-URL:https://periti-industriali.trento.it
X-WR-CALDESC:Eventi per Periti Industriali Trento
REFRESH-INTERVAL;VALUE=DURATION:PT1H
X-Robots-Tag:noindex
X-PUBLISHED-TTL:PT1H
BEGIN:VTIMEZONE
TZID:Europe/Rome
BEGIN:DAYLIGHT
TZOFFSETFROM:+0100
TZOFFSETTO:+0200
TZNAME:CEST
DTSTART:20200329T010000
END:DAYLIGHT
BEGIN:STANDARD
TZOFFSETFROM:+0200
TZOFFSETTO:+0100
TZNAME:CET
DTSTART:20201025T010000
END:STANDARD
BEGIN:DAYLIGHT
TZOFFSETFROM:+0100
TZOFFSETTO:+0200
TZNAME:CEST
DTSTART:20210328T010000
END:DAYLIGHT
BEGIN:STANDARD
TZOFFSETFROM:+0200
TZOFFSETTO:+0100
TZNAME:CET
DTSTART:20211031T010000
END:STANDARD
BEGIN:DAYLIGHT
TZOFFSETFROM:+0100
TZOFFSETTO:+0200
TZNAME:CEST
DTSTART:20220327T010000
END:DAYLIGHT
BEGIN:STANDARD
TZOFFSETFROM:+0200
TZOFFSETTO:+0100
TZNAME:CET
DTSTART:20221030T010000
END:STANDARD
END:VTIMEZONE
BEGIN:VEVENT
DTSTART;TZID=Europe/Rome:20210324T143000
DTEND;TZID=Europe/Rome:20210324T163000
DTSTAMP:20260422T174240
CREATED:20210317T083618Z
LAST-MODIFIED:20210317T135635Z
UID:7958-1616596200-1616603400@periti-industriali.trento.it
SUMMARY:Le quattro figure fondamentali degli impianti di rilevazione manuale e automatica di incendio
DESCRIPTION:Il webinar darà diritto a 2 CFP in base al Regolamento della Formazione Continua. \n 
URL:https://periti-industriali.trento.it/event/le-quattro-figure-fondamentali-degli-impianti-di-rilevazione-manuale-e-automatica-di-incendio/
LOCATION:on-line
CATEGORIES:Formazione
ATTACH;FMTTYPE=image/png:https://periti-industriali.trento.it/wp-content/uploads/2021/03/elkron.png
ORGANIZER;CN="ORDINE PERITI INDUSTRIALI TRENTO":MAILTO:info@periti-industriali.trento.it
END:VEVENT
BEGIN:VEVENT
DTSTART;TZID=Europe/Rome:20210324T170000
DTEND;TZID=Europe/Rome:20210324T190000
DTSTAMP:20260422T174240
CREATED:20210317T084728Z
LAST-MODIFIED:20210317T084728Z
UID:7963-1616605200-1616612400@periti-industriali.trento.it
SUMMARY:LEGGERE\, SCRIVERE. Luoghi e progetti: rappresentare per interpretare
DESCRIPTION:Il webinar darà diritto a 9 CFP in base al Regolamento della Formazione Continua.
URL:https://periti-industriali.trento.it/event/leggere-scrivere-luoghi-e-progetti-rappresentare-per-interpretare/
LOCATION:on-line
CATEGORIES:Formazione
ATTACH;FMTTYPE=image/png:https://periti-industriali.trento.it/wp-content/uploads/2016/08/tsm.png
END:VEVENT
BEGIN:VEVENT
DTSTART;TZID=Europe/Rome:20210326T090000
DTEND;TZID=Europe/Rome:20210326T130000
DTSTAMP:20260422T174240
CREATED:20210317T091628Z
LAST-MODIFIED:20210317T091628Z
UID:7970-1616749200-1616763600@periti-industriali.trento.it
SUMMARY:Obblighi lavoratori autonomi\, DVR\, DUVRI e PSC
DESCRIPTION:Il corso darà diritto a 4 CFP in base al Regolamento della Formazione Continua.
URL:https://periti-industriali.trento.it/event/obblighi-lavoratori-autonomi-dvr-duvri-e-psc/
LOCATION:on-line
CATEGORIES:Formazione
ATTACH;FMTTYPE=image/jpeg:https://periti-industriali.trento.it/wp-content/uploads/2021/03/DVR-vs-DUVRI.jpg
ORGANIZER;CN="ORDINE PERITI INDUSTRIALI TRENTO":MAILTO:info@periti-industriali.trento.it
END:VEVENT
BEGIN:VEVENT
DTSTART;TZID=Europe/Rome:20210330T170000
DTEND;TZID=Europe/Rome:20210330T190000
DTSTAMP:20260422T174240
CREATED:20210317T084333Z
LAST-MODIFIED:20210317T084333Z
UID:7961-1617123600-1617130800@periti-industriali.trento.it
SUMMARY:Ciclo incontri "Riabitare la montagna" 
DESCRIPTION:I singoli incontri in modalità on-line daranno diritto a 2 CFP in base al Regolamento della Formazione Continua.
URL:https://periti-industriali.trento.it/event/ciclo-incontri-riabitare-la-montagna/
LOCATION:on-line
CATEGORIES:Formazione
ATTACH;FMTTYPE=image/png:https://periti-industriali.trento.it/wp-content/uploads/2016/08/tsm.png
ORGANIZER;CN="tsm-Trentino School of Managment":MAILTO:info@tsm.tn.it
END:VEVENT
END:VCALENDAR