BEGIN:VCALENDAR
VERSION:2.0
PRODID:-//Periti Industriali Trento - ECPv6.15.17//NONSGML v1.0//EN
CALSCALE:GREGORIAN
METHOD:PUBLISH
X-ORIGINAL-URL:https://periti-industriali.trento.it
X-WR-CALDESC:Eventi per Periti Industriali Trento
REFRESH-INTERVAL;VALUE=DURATION:PT1H
X-Robots-Tag:noindex
X-PUBLISHED-TTL:PT1H
BEGIN:VTIMEZONE
TZID:Europe/Rome
BEGIN:DAYLIGHT
TZOFFSETFROM:+0100
TZOFFSETTO:+0200
TZNAME:CEST
DTSTART:20200329T010000
END:DAYLIGHT
BEGIN:STANDARD
TZOFFSETFROM:+0200
TZOFFSETTO:+0100
TZNAME:CET
DTSTART:20201025T010000
END:STANDARD
BEGIN:DAYLIGHT
TZOFFSETFROM:+0100
TZOFFSETTO:+0200
TZNAME:CEST
DTSTART:20210328T010000
END:DAYLIGHT
BEGIN:STANDARD
TZOFFSETFROM:+0200
TZOFFSETTO:+0100
TZNAME:CET
DTSTART:20211031T010000
END:STANDARD
BEGIN:DAYLIGHT
TZOFFSETFROM:+0100
TZOFFSETTO:+0200
TZNAME:CEST
DTSTART:20220327T010000
END:DAYLIGHT
BEGIN:STANDARD
TZOFFSETFROM:+0200
TZOFFSETTO:+0100
TZNAME:CET
DTSTART:20221030T010000
END:STANDARD
END:VTIMEZONE
BEGIN:VEVENT
DTSTART;TZID=Europe/Rome:20210506T090000
DTEND;TZID=Europe/Rome:20210506T130000
DTSTAMP:20260422T143952
CREATED:20210414T093837Z
LAST-MODIFIED:20210414T093837Z
UID:8005-1620291600-1620306000@periti-industriali.trento.it
SUMMARY:Le regole tecniche verticali per le autorimesse e gli edifici civili
DESCRIPTION:il corso darà diritto a CFP in base al Regolamento della Formazione Continua.
URL:https://periti-industriali.trento.it/event/le-regole-tecniche-verticali-per-le-autorimesse-e-gli-edifici-civili/
LOCATION:on-line
CATEGORIES:Formazione
ORGANIZER;CN="ORDINE PERITI INDUSTRIALI TRENTO":MAILTO:info@periti-industriali.trento.it
END:VEVENT
BEGIN:VEVENT
DTSTART;TZID=Europe/Rome:20210506T140000
DTEND;TZID=Europe/Rome:20210506T170000
DTSTAMP:20260422T143952
CREATED:20210421T073026Z
LAST-MODIFIED:20210421T073026Z
UID:8007-1620309600-1620320400@periti-industriali.trento.it
SUMMARY:Valutazione economica dell'illuminazione a LED
DESCRIPTION:Locandina>> \nIl webinar darà diritto a 3 CFP in base al Regolamento della Formazione Continua.
URL:https://periti-industriali.trento.it/event/valutazione-economica-dellilluminazione-a-led/
LOCATION:on-line
CATEGORIES:Formazione
ORGANIZER;CN="ORDINE PERITI INDUSTRIALI TRENTO":MAILTO:info@periti-industriali.trento.it
END:VEVENT
BEGIN:VEVENT
DTSTART;TZID=Europe/Rome:20210511T080000
DTEND;TZID=Europe/Rome:20210511T170000
DTSTAMP:20260422T143952
CREATED:20210511T103003Z
LAST-MODIFIED:20210519T105233Z
UID:8015-1620720000-1620752400@periti-industriali.trento.it
SUMMARY:Assemblea Ordinaria 2021
DESCRIPTION:Convocazione>>
URL:https://periti-industriali.trento.it/event/assemblea-ordinaria-2021/
CATEGORIES:Formazione,Prossimi eventi
ATTACH;FMTTYPE=image/png:https://periti-industriali.trento.it/wp-content/uploads/2018/04/logo-periti-con-sfondo-sfera-per-Evidenza-copia.png
END:VEVENT
END:VCALENDAR