BEGIN:VCALENDAR
VERSION:2.0
PRODID:-//Periti Industriali Trento - ECPv6.15.17//NONSGML v1.0//EN
CALSCALE:GREGORIAN
METHOD:PUBLISH
X-ORIGINAL-URL:https://periti-industriali.trento.it
X-WR-CALDESC:Eventi per Periti Industriali Trento
REFRESH-INTERVAL;VALUE=DURATION:PT1H
X-Robots-Tag:noindex
X-PUBLISHED-TTL:PT1H
BEGIN:VTIMEZONE
TZID:UTC
BEGIN:STANDARD
TZOFFSETFROM:+0000
TZOFFSETTO:+0000
TZNAME:UTC
DTSTART:20210101T000000
END:STANDARD
END:VTIMEZONE
BEGIN:VEVENT
DTSTART;TZID=UTC:20220923T090000
DTEND;TZID=UTC:20220923T160000
DTSTAMP:20260421T144321
CREATED:20220920T063323Z
LAST-MODIFIED:20220920T063323Z
UID:8920-1663923600-1663948800@periti-industriali.trento.it
SUMMARY:CORSO AGGIORNAMENTO PER COORDINATORE PER LA PROGETTAZIONE E COORDINATORE PER L’ESECUZIONE DEI LAVORI e RSPP
DESCRIPTION:Il corso darà diritto a CFP in base al Regolamento della Formazione Continua.
URL:https://periti-industriali.trento.it/event/corso-aggiornamento-per-coordinatore-per-la-progettazione-e-coordinatore-per-lesecuzione-dei-lavori-e-rspp/
LOCATION:Ordine dei Periti Industriali\, Galleria Tirrena\, 10\, Trento\, 38122\, Italia
CATEGORIES:Formazione
ATTACH;FMTTYPE=image/png:https://periti-industriali.trento.it/wp-content/uploads/2019/03/immagine-2.png
ORGANIZER;CN="ORDINE PERITI INDUSTRIALI TRENTO":MAILTO:info@periti-industriali.trento.it
END:VEVENT
END:VCALENDAR