BEGIN:VCALENDAR
VERSION:2.0
PRODID:-//Periti Industriali Trento - ECPv6.15.17//NONSGML v1.0//EN
CALSCALE:GREGORIAN
METHOD:PUBLISH
X-ORIGINAL-URL:https://periti-industriali.trento.it
X-WR-CALDESC:Eventi per Periti Industriali Trento
REFRESH-INTERVAL;VALUE=DURATION:PT1H
X-Robots-Tag:noindex
X-PUBLISHED-TTL:PT1H
BEGIN:VTIMEZONE
TZID:UTC
BEGIN:STANDARD
TZOFFSETFROM:+0000
TZOFFSETTO:+0000
TZNAME:UTC
DTSTART:20220101T000000
END:STANDARD
END:VTIMEZONE
BEGIN:VEVENT
DTSTART;TZID=UTC:20230316T090000
DTEND;TZID=UTC:20230316T130000
DTSTAMP:20260421T055523
CREATED:20230303T101813Z
LAST-MODIFIED:20230306T153940Z
UID:9083-1678957200-1678971600@periti-industriali.trento.it
SUMMARY:Corso CSP-CSE : “Documentazione da tenere in cantiere o posto di lavoro e da esibire a richiesta di eventuali controlli”
DESCRIPTION:Il corso darà diritto a 4 CFP + 3 CFP test finale\, in base al Regolamento della Formazione Continua. \nIN PRESENZA\, presso la Sede dell’Ordine. \nPertanto\, qualora fossi interessato ti invitiamo a provvedere all’iscrizione e al pagamento entro e non oltre il 12 marzo p.v.. \n  \n  \n  \n 
URL:https://periti-industriali.trento.it/event/corso-csp-cse-documentazione-da-tenere-in-cantiere-o-posto-di-lavoro-e-da-esibire-a-richiesta-di-eventuali-controlli/
LOCATION:Ordine dei Periti Industriali\, Galleria Tirrena\, 10\, Trento\, 38122\, Italia
CATEGORIES:Formazione
ATTACH;FMTTYPE=image/jpeg:https://periti-industriali.trento.it/wp-content/uploads/2021/03/DVR-vs-DUVRI.jpg
ORGANIZER;CN="ORDINE PERITI INDUSTRIALI TRENTO":MAILTO:info@periti-industriali.trento.it
END:VEVENT
BEGIN:VEVENT
DTSTART;TZID=UTC:20230317T093000
DTEND;TZID=UTC:20230317T181000
DTSTAMP:20260421T055523
CREATED:20230303T101612Z
LAST-MODIFIED:20230306T154809Z
UID:9085-1679045400-1679076600@periti-industriali.trento.it
SUMMARY:CONDOMINIO 4.0
DESCRIPTION:L’evento darà diritto a 6 CFP in base al Regolamento della Formazione Continua. \nLOCANDINA>> \n 
URL:https://periti-industriali.trento.it/event/condominio-4-0-un-laboratorio-per-il-condominio-del-futuro/
LOCATION:TRENTINO SICUREZZA\, Via G. Galilei\, 18\, Lavis\, 38015\, Italia
CATEGORIES:Formazione
ATTACH;FMTTYPE=image/jpeg:https://periti-industriali.trento.it/wp-content/uploads/2023/03/sito.jpg
END:VEVENT
BEGIN:VEVENT
DTSTART;TZID=UTC:20230323T100000
DTEND;TZID=UTC:20230323T183000
DTSTAMP:20260421T055523
CREATED:20230227T122717Z
LAST-MODIFIED:20230314T134717Z
UID:9078-1679565600-1679596200@periti-industriali.trento.it
SUMMARY:50° L'informatore
DESCRIPTION:L’evento rilascia: \n3 CFP deontologici per la partecipazione all’EPPI WELFARE \n3 CFP per la partecipazione all’evento “50° L’informatore” \nProgramma>>
URL:https://periti-industriali.trento.it/event/50-linformatore/
LOCATION:Grand Hotel Trento\, Piazza Dante\, 20\, Trento\, 38122\, Italia
CATEGORIES:Formazione
ATTACH;FMTTYPE=image/png:https://periti-industriali.trento.it/wp-content/uploads/2023/02/logo-50-anni.png
ORGANIZER;CN="ORDINE PERITI INDUSTRIALI TRENTO":MAILTO:info@periti-industriali.trento.it
END:VEVENT
BEGIN:VEVENT
DTSTART;TZID=UTC:20230328T170000
DTEND;TZID=UTC:20230328T190000
DTSTAMP:20260421T055523
CREATED:20230320T143014Z
LAST-MODIFIED:20230320T153427Z
UID:9154-1680022800-1680030000@periti-industriali.trento.it
SUMMARY:Webinar "Progettare con l'acqua"
DESCRIPTION:Il seminario accreditato dall’Ordine\, darà diritto a 2 CFP in base al Regolamento della Formazione Continua. \nIl seminario si terrà ON-LINE. \nLINK PER ISCRIZIONI>>
URL:https://periti-industriali.trento.it/event/webinar-progettare-con-lacqua/
LOCATION:on-line
CATEGORIES:Formazione
ATTACH;FMTTYPE=image/jpeg:https://periti-industriali.trento.it/wp-content/uploads/2023/03/LOGO-TSM-e1679322840999.jpg
ORGANIZER;CN="tsm-Trentino School of Managment":MAILTO:info@tsm.tn.it
END:VEVENT
END:VCALENDAR