BEGIN:VCALENDAR
VERSION:2.0
PRODID:-//Periti Industriali Trento - ECPv6.15.17//NONSGML v1.0//EN
CALSCALE:GREGORIAN
METHOD:PUBLISH
X-WR-CALNAME:Periti Industriali Trento
X-ORIGINAL-URL:https://periti-industriali.trento.it
X-WR-CALDESC:Eventi per Periti Industriali Trento
REFRESH-INTERVAL;VALUE=DURATION:PT1H
X-Robots-Tag:noindex
X-PUBLISHED-TTL:PT1H
BEGIN:VTIMEZONE
TZID:UTC
BEGIN:STANDARD
TZOFFSETFROM:+0000
TZOFFSETTO:+0000
TZNAME:UTC
DTSTART:20220101T000000
END:STANDARD
END:VTIMEZONE
BEGIN:VEVENT
DTSTART;TZID=UTC:20230510T143000
DTEND;TZID=UTC:20230510T173000
DTSTAMP:20260421T030715
CREATED:20230412T092343Z
LAST-MODIFIED:20230427T110012Z
UID:9257-1683729000-1683739800@periti-industriali.trento.it
SUMMARY:Progettare Smart Building\, predisporre al Building Automation Controls Systems (BACS) ed alle normative di oggi e domani.
DESCRIPTION:Il corso darà diritto a 3 CFP in base al Regolamento della Formazione Continua. \nIscrizioni entro lunedi 08 maggio p.v. \nLOCANDINA EELECTRON>> \n  \n 
URL:https://periti-industriali.trento.it/event/progettare-smart-building-predisporre-al-building-automation-controls-systems-bacs-ed-alle-normative-di-oggi-e-domani/
LOCATION:Ordine dei Periti Industriali\, Galleria Tirrena\, 10\, Trento\, 38122\, Italia
CATEGORIES:Formazione
ATTACH;FMTTYPE=image/png:https://periti-industriali.trento.it/wp-content/uploads/2023/04/EELECTRON-SPA-1.png
ORGANIZER;CN="ORDINE PERITI INDUSTRIALI TRENTO":MAILTO:info@periti-industriali.trento.it
END:VEVENT
BEGIN:VEVENT
DTSTART;TZID=UTC:20230511T140000
DTEND;TZID=UTC:20230511T180000
DTSTAMP:20260421T030715
CREATED:20230412T080653Z
LAST-MODIFIED:20230414T081135Z
UID:9251-1683813600-1683828000@periti-industriali.trento.it
SUMMARY:UTENTI MT-BT: Protezioni e verifiche SPG e SPI (CEI 0-16 e CEI 0-21)
DESCRIPTION:Il corso darà diritto a a 4 crediti in base al Regolamento della Formazione Continua. \nLOCANDINA ATIQUAL>>
URL:https://periti-industriali.trento.it/event/connessione-utenti-mt-bt-protezioni-e-verifiche-spg-e-spi-cei-0-16-e-cei-0-21/
LOCATION:c/o Hotel Sartoris Lavis (TN)\, Italia
CATEGORIES:Formazione
ATTACH;FMTTYPE=image/jpeg:https://periti-industriali.trento.it/wp-content/uploads/2017/02/atiqual.jpg
ORGANIZER;CN="Atiqual":MAILTO:info@unaetrentino.it
END:VEVENT
BEGIN:VEVENT
DTSTART;TZID=UTC:20230512T140000
DTEND;TZID=UTC:20230512T180000
DTSTAMP:20260421T030715
CREATED:20230510T070823Z
LAST-MODIFIED:20230510T070823Z
UID:9312-1683900000-1683914400@periti-industriali.trento.it
SUMMARY:Assemblea Ordinaria 2023
DESCRIPTION:Locandina>>
URL:https://periti-industriali.trento.it/event/assemblea-ordinaria-2023/
LOCATION:Sala Congressi Erickson\, Via Pioppeto\, 24\, Trento\, ITALIA\, Italia
CATEGORIES:Formazione
ATTACH;FMTTYPE=image/png:https://periti-industriali.trento.it/wp-content/uploads/2018/04/logo-periti-con-sfondo-sfera-per-Evidenza-copia.png
ORGANIZER;CN="ORDINE PERITI INDUSTRIALI TRENTO":MAILTO:info@periti-industriali.trento.it
END:VEVENT
BEGIN:VEVENT
DTSTART;TZID=UTC:20230519T143000
DTEND;TZID=UTC:20230519T183000
DTSTAMP:20260421T030715
CREATED:20230504T070122Z
LAST-MODIFIED:20230512T070814Z
UID:9290-1684506600-1684521000@periti-industriali.trento.it
SUMMARY:CORSO AGGIORNAMENTO ANTINCENDIO " 8 ORE"
DESCRIPTION:Il corso di aggiornamento antincendio (8 ore) si articolerà in due incontri in diretta streaming con STS: \n\n19 maggio (4 ore) + test finale\n23 giugno (4 ore) + test finale\n\nSaranno riconosciuti 14 CFP secondo il Regolamento della Formazione dei Periti industriali. \nIscrizioni entro giovedi 11 maggio sul link segnalato.
URL:https://periti-industriali.trento.it/event/corso-aggiornamento-antincendio-8-ore/
LOCATION:on-line
CATEGORIES:Formazione
ATTACH;FMTTYPE=image/jpeg:https://periti-industriali.trento.it/wp-content/uploads/2023/05/IMMAGINE-SITO.jpg
ORGANIZER;CN="ORDINE PERITI INDUSTRIALI TRENTO":MAILTO:info@periti-industriali.trento.it
END:VEVENT
BEGIN:VEVENT
DTSTART;TZID=UTC:20230523T090000
DTEND;TZID=UTC:20230523T121500
DTSTAMP:20260421T030715
CREATED:20230509T065840Z
LAST-MODIFIED:20230509T075038Z
UID:9296-1684832400-1684844100@periti-industriali.trento.it
SUMMARY:Protezione contro le scariche atmosferiche e le sovratensioni\, scelta ed applicazione degli SPID in accordo alle Norme CEI EN 62305 (CEI 81-10) e CEI 64-8”.
DESCRIPTION:Il corso si terrà in presenza presso la sede dell’Ordine e darà diritto a 3 crediti. \nIscrizioni entro il 19 maggio p.v. \n  \n 
URL:https://periti-industriali.trento.it/event/protezione-contro-le-scariche-atmosferiche-e-le-sovratensioni-scelta-ed-applicazione-degli-spid-in-accordo-alle-norme-cei-en-62305-cei-81-10-e-cei-64-8/
LOCATION:Ordine dei Periti Industriali\, Galleria Tirrena\, 10\, Trento\, 38122\, Italia
CATEGORIES:Formazione
ATTACH;FMTTYPE=image/png:https://periti-industriali.trento.it/wp-content/uploads/2023/05/DEHN-logo-red-bg.png
ORGANIZER;CN="ORDINE PERITI INDUSTRIALI TRENTO":MAILTO:info@periti-industriali.trento.it
END:VEVENT
BEGIN:VEVENT
DTSTART;TZID=UTC:20230524T170000
DTEND;TZID=UTC:20230524T200000
DTSTAMP:20260421T030715
CREATED:20230522T115852Z
LAST-MODIFIED:20230523T081306Z
UID:9366-1684947600-1684958400@periti-industriali.trento.it
SUMMARY:EUROTHERM GREEN TOUR
DESCRIPTION:L’evento si terrà presso la Cantina Vivallis di Nogaredo (TN). \nDarà diritto a 3 CFP in base al Regolamento della Formazione Continua. \nPer iscrizioni vedi locandina >>
URL:https://periti-industriali.trento.it/event/eurotherm-green-tour/
LOCATION:Cantina Vivallis\, Via per Brancolino\, 4\, Nogaredo\, 38060\, Italia
CATEGORIES:Formazione
ATTACH;FMTTYPE=image/jpeg:https://periti-industriali.trento.it/wp-content/uploads/2023/05/Immagine-logo.jpg
ORGANIZER;CN="EUROTHERM":MAILTO:marta.avantaggiato@eurotherm.info
END:VEVENT
BEGIN:VEVENT
DTSTART;TZID=UTC:20230525T090000
DTEND;TZID=UTC:20230525T130000
DTSTAMP:20260421T030715
CREATED:20230509T072828Z
LAST-MODIFIED:20230509T080240Z
UID:9299-1685005200-1685019600@periti-industriali.trento.it
SUMMARY:Tolleranze costruttive ed esecutive – Facciamo il punto.
DESCRIPTION:Il corso si terrà in presenza presso la sede dell’Ordine e darà diritto a 7 CFP. \nIscrizioni entro il 23 maggio p.v. \n 
URL:https://periti-industriali.trento.it/event/tolleranze-costruttive-ed-esecutive-facciamo-il-punto/
LOCATION:Ordine dei Periti Industriali\, Galleria Tirrena\, 10\, Trento\, 38122\, Italia
CATEGORIES:Formazione
ATTACH;FMTTYPE=image/jpeg:https://periti-industriali.trento.it/wp-content/uploads/2023/05/immagine-e1683617423344.jpg
ORGANIZER;CN="ORDINE PERITI INDUSTRIALI TRENTO":MAILTO:info@periti-industriali.trento.it
END:VEVENT
BEGIN:VEVENT
DTSTART;TZID=UTC:20230525T150000
DTEND;TZID=UTC:20230525T173000
DTSTAMP:20260421T030715
CREATED:20230515T114948Z
LAST-MODIFIED:20230515T115022Z
UID:9338-1685026800-1685035800@periti-industriali.trento.it
SUMMARY:ANIT - Prestazioni di materiali e sistemi per l'isolamento termico e acustico.
DESCRIPTION:Il convegno si terrà in streaming on-line dalle ore 15.00\, per iscrizioni vedi locandina. \nIl convegno darà diritto a 2 CFP. \nLocandina evento ANIT>> \n  \n 
URL:https://periti-industriali.trento.it/event/anit-prestazioni-di-materiali-e-sistemi-per-lisolamento-termico-e-acustico/
LOCATION:on-line
CATEGORIES:Formazione
ATTACH;FMTTYPE=image/png:https://periti-industriali.trento.it/wp-content/uploads/2023/05/immagine-ANIT.png
ORGANIZER;CN="ORDINE PERITI INDUSTRIALI TRENTO":MAILTO:info@periti-industriali.trento.it
END:VEVENT
BEGIN:VEVENT
DTSTART;TZID=UTC:20230530T090000
DTEND;TZID=UTC:20230530T110000
DTSTAMP:20260421T030715
CREATED:20230509T073659Z
LAST-MODIFIED:20230509T081325Z
UID:9304-1685437200-1685444400@periti-industriali.trento.it
SUMMARY:RCP E TUTELA LEGALE:  Il “punto della situazione” in merito alle questioni assicurative\, vecchie e nuove per attività ordinaria e asseverazioni.
DESCRIPTION:Il corso formativo si terrà ON-LINE ed è gratuito. \nDarà diritto a 2 CFP \nIscrizioni entro il  26 maggio.
URL:https://periti-industriali.trento.it/event/la-responsabilita-professionale-le-coperture-assicurative-di-responsabilita-civile-e-tutela-legale-il-punto-della-situazione-in-merito-alle-questioni-assicurative-vecchie-e-nuove/
LOCATION:online
CATEGORIES:Formazione
ORGANIZER;CN="ORDINE PERITI INDUSTRIALI TRENTO":MAILTO:info@periti-industriali.trento.it
END:VEVENT
END:VCALENDAR