BEGIN:VCALENDAR
VERSION:2.0
PRODID:-//Periti Industriali Trento - ECPv6.15.17//NONSGML v1.0//EN
CALSCALE:GREGORIAN
METHOD:PUBLISH
X-WR-CALNAME:Periti Industriali Trento
X-ORIGINAL-URL:https://periti-industriali.trento.it
X-WR-CALDESC:Eventi per Periti Industriali Trento
REFRESH-INTERVAL;VALUE=DURATION:PT1H
X-Robots-Tag:noindex
X-PUBLISHED-TTL:PT1H
BEGIN:VTIMEZONE
TZID:UTC
BEGIN:STANDARD
TZOFFSETFROM:+0000
TZOFFSETTO:+0000
TZNAME:UTC
DTSTART:20220101T000000
END:STANDARD
END:VTIMEZONE
BEGIN:VEVENT
DTSTART;TZID=UTC:20230915T143000
DTEND;TZID=UTC:20230915T183000
DTSTAMP:20260420T210555
CREATED:20230914T103641Z
LAST-MODIFIED:20230914T103801Z
UID:9552-1694788200-1694802600@periti-industriali.trento.it
SUMMARY:La cultura della sicurezza nella prevenzione del rischio elettrico
DESCRIPTION:L’evento formativo gratuito \, darà diritto a 4 CFP in base al Regolamento dei Periti Industriali. \nSi terrà in presenza presso il Dip. Ingegneria Civile Mesiano (TN) . \nLocandina>> \n 
URL:https://periti-industriali.trento.it/event/la-cultura-della-sicurezza-nella-prevenzione-del-rischio-elettrico/
CATEGORIES:Formazione
ATTACH;FMTTYPE=image/png:https://periti-industriali.trento.it/wp-content/uploads/2023/01/Logo-AEIT-e1698752494783.png
ORGANIZER;CN="AEIT":MAILTO:sez.taasudtirol@aeit.it
END:VEVENT
BEGIN:VEVENT
DTSTART;TZID=UTC:20230925T180000
DTEND;TZID=UTC:20230925T200000
DTSTAMP:20260420T210555
CREATED:20230919T090013Z
LAST-MODIFIED:20230919T090013Z
UID:9606-1695664800-1695672000@periti-industriali.trento.it
SUMMARY:INCONTRO TERRITORIALE ZIANO DI FIEMME
DESCRIPTION:Caro collega\, \nil Consiglio Direttivo intende continuare la tradizione degli incontri con gli iscritti all’albo provinciale\, raggruppati per zone territoriali\, al fine di condividere le novità di categoria locale e nazionale. Per stimolare e facilitare il dibattito ti chiediamo di anticipare argomentazioni o quesiti utilizzando questo link https://forms.gle/EZ5MNAZfw6SDD4XFA \n\nRisposte quesiti iscritti;\nInformazioni dalla categoria:\nReport sul Congresso Nazionale di categoria;\nProssime elezioni Consiglio Nazionale – CNPI;\nNuovo Regolamento Previdenziale – EPPI;\n\n\nFormazione continua – scadenza quinquennio 2019-2023;\nVarie ed eventuali.\n\nLa partecipazione agli incontri territoriali darà diritto a 3 CFP riguardanti l’etica e la deontologia come dettato dal Regolamento della Formazione Continua.
URL:https://periti-industriali.trento.it/event/incontro-territoriale-ziano-di-fiemme/
LOCATION:Sala della Cultura “Aldo Zorzi”\, Via Bosin\, 1\, ZIANO\, 38030\, Italia
CATEGORIES:Formazione
ATTACH;FMTTYPE=image/png:https://periti-industriali.trento.it/wp-content/uploads/2018/04/logo-periti-con-sfondo-sfera-per-Evidenza-copia.png
ORGANIZER;CN="ORDINE PERITI INDUSTRIALI TRENTO":MAILTO:info@periti-industriali.trento.it
END:VEVENT
BEGIN:VEVENT
DTSTART;TZID=UTC:20230928T090000
DTEND;TZID=UTC:20230928T130000
DTSTAMP:20260420T210555
CREATED:20230830T065701Z
LAST-MODIFIED:20230914T103924Z
UID:9546-1695891600-1695906000@periti-industriali.trento.it
SUMMARY:La nuova norma UNI EN 12464-1:2021 ed architetture di controllo per illuminazione pubblica.
DESCRIPTION:Il corso formativo darà diritto a 7 CFP in base al Regolamento della Formazione Continua. \nIn presenza presso l’Ordine. \nIscrizioni entro lunedì 25 settembre p.v. \n  \n 
URL:https://periti-industriali.trento.it/event/la-nuova-norma-uni-en-12464-12021-ed-architetture-di-controllo-per-illuminazione-pubblica/
LOCATION:Ordine dei Periti Industriali\, Galleria Tirrena\, 10\, Trento\, 38122\, Italia
CATEGORIES:Formazione
ATTACH;FMTTYPE=image/png:https://periti-industriali.trento.it/wp-content/uploads/2023/08/Signify.png
ORGANIZER;CN="ORDINE PERITI INDUSTRIALI TRENTO":MAILTO:info@periti-industriali.trento.it
END:VEVENT
END:VCALENDAR