BEGIN:VCALENDAR
VERSION:2.0
PRODID:-//Periti Industriali Trento - ECPv6.15.17//NONSGML v1.0//EN
CALSCALE:GREGORIAN
METHOD:PUBLISH
X-ORIGINAL-URL:https://periti-industriali.trento.it
X-WR-CALDESC:Eventi per Periti Industriali Trento
REFRESH-INTERVAL;VALUE=DURATION:PT1H
X-Robots-Tag:noindex
X-PUBLISHED-TTL:PT1H
BEGIN:VTIMEZONE
TZID:UTC
BEGIN:STANDARD
TZOFFSETFROM:+0000
TZOFFSETTO:+0000
TZNAME:UTC
DTSTART:20220101T000000
END:STANDARD
END:VTIMEZONE
BEGIN:VEVENT
DTSTART;TZID=UTC:20231005T134500
DTEND;TZID=UTC:20231005T180000
DTSTAMP:20260420T192241
CREATED:20230915T090538Z
LAST-MODIFIED:20230925T073553Z
UID:9583-1696513500-1696528800@periti-industriali.trento.it
SUMMARY:La Scia e l'asseverazione - Allegato II del D.M. 07/08/2012
DESCRIPTION:Il corso è valido ai fini dell’aggiornamento obbligatorio di cui all’art. 7 del D.M. 05/08/2011. \nSi terrà in presenza presso la Bauexpert di Mattarello (TN) e darà diritto a 7 CFP. \nIl numero massimo è di 25 partecipanti. \n Iscrizioni entro lunedì 02 ottobre p.v. . \n  \n  \n 
URL:https://periti-industriali.trento.it/event/la-scia-e-lasseverazione-allegato-ii-del-d-m-07-08-2012/
LOCATION:Bauexpert di Mattarello (TN)\, Via della Cooperazione 3 - Loc. Mattarello\, Trento\, TN\, 38123\, Italia
CATEGORIES:Formazione
ATTACH;FMTTYPE=image/jpeg:https://periti-industriali.trento.it/wp-content/uploads/2023/05/IMMAGINE-SITO.jpg
ORGANIZER;CN="ORDINE PERITI INDUSTRIALI TRENTO":MAILTO:info@periti-industriali.trento.it
END:VEVENT
BEGIN:VEVENT
DTSTART;TZID=UTC:20231009T180000
DTEND;TZID=UTC:20231009T200000
DTSTAMP:20260420T192241
CREATED:20230919T090324Z
LAST-MODIFIED:20230927T103020Z
UID:9608-1696874400-1696881600@periti-industriali.trento.it
SUMMARY:INCONTRO TERRITORIALE TIONE
DESCRIPTION:c/o sala “Carlo Eligio Valentini” in Borgo Lares\, Località Copera\, 1 \nLa partecipazione agli incontri territoriali darà diritto a 3 CFP riguardanti l’etica e la deontologia come dettato dal Regolamento della Formazione Continua. \n 
URL:https://periti-industriali.trento.it/event/incontro-territoriale-tione/
CATEGORIES:Formazione
ATTACH;FMTTYPE=image/png:https://periti-industriali.trento.it/wp-content/uploads/2018/04/logo-periti-con-sfondo-sfera-per-Evidenza-copia.png
ORGANIZER;CN="ORDINE PERITI INDUSTRIALI TRENTO":MAILTO:info@periti-industriali.trento.it
END:VEVENT
BEGIN:VEVENT
DTSTART;TZID=UTC:20231019T000000
DTEND;TZID=UTC:20231019T000000
DTSTAMP:20260420T192241
CREATED:20230914T111501Z
LAST-MODIFIED:20230915T112039Z
UID:9588-1697673600-1697673600@periti-industriali.trento.it
SUMMARY:CORSO BASE CERTIFICATO KNX
DESCRIPTION:Il corso per un totale di 32 ore si svolgerà presso la sala Polivalente Gruppo Giovannini di Trento e darà diritto a 35 CFP in base al Regolamento della Formazione Continua. \nIl costo del corso \, vista la convenzione fatta con il nostro Ordine\, è di 1100 euro\, anzichè di 1400 euro. \nPer maggiori info e iscrizioni vedi locandina. \nLOCANDINA>>
URL:https://periti-industriali.trento.it/event/corso-base-certificato-knx/
CATEGORIES:Formazione
ATTACH;FMTTYPE=image/png:https://periti-industriali.trento.it/wp-content/uploads/2023/09/KNX.png
ORGANIZER;CN="ORDINE PERITI INDUSTRIALI TRENTO":MAILTO:info@periti-industriali.trento.it
END:VEVENT
BEGIN:VEVENT
DTSTART;TZID=UTC:20231020T141500
DTEND;TZID=UTC:20231020T173000
DTSTAMP:20260420T192241
CREATED:20231004T102613Z
LAST-MODIFIED:20231005T103413Z
UID:9640-1697811300-1697823000@periti-industriali.trento.it
SUMMARY:Storia\, attualità e futuro dell'intelligenza artificiale.
DESCRIPTION:Il seminario si terrà in presenza in sala Stringa c/o Fondazione Bruno Kessler e darà diritto a 3 crediti come previsto dal Regolamento della Formazione Continua dei Periti Industriali. \nPer maggiori dettagli e info iscrizioni vedi locandina: \nLOCANDINA >> \n 
URL:https://periti-industriali.trento.it/event/storia-attualita-e-futuro-dellintelligenza-artificiale/
CATEGORIES:Formazione
ATTACH;FMTTYPE=image/png:https://periti-industriali.trento.it/wp-content/uploads/2023/01/Logo-AEIT-e1698752494783.png
ORGANIZER;CN="AEIT":MAILTO:sez.taasudtirol@aeit.it
END:VEVENT
BEGIN:VEVENT
DTSTART;TZID=UTC:20231024T090000
DTEND;TZID=UTC:20231024T120000
DTSTAMP:20260420T192241
CREATED:20230925T073453Z
LAST-MODIFIED:20230925T080416Z
UID:9615-1698138000-1698148800@periti-industriali.trento.it
SUMMARY:Impianti di climatizzazione per edifici efficienti\, il ruolo delle pompe di calore e della ventilazione meccanica controllata.
DESCRIPTION:Il seminario si terrà in presenza\, presso la sede dell’Ordine. \nIl corso darà diritto a 3 CFP in base al Regolamento della Formazione Continua. \nIscrizioni entro e non oltre le ore 12.00 di venerdì 20 ottobre p.v. \nLOCANDINA>>
URL:https://periti-industriali.trento.it/event/impianti-di-climatizzazione-per-edifici-efficienti-il-ruolo-delle-pompe-di-calore-e-della-ventilazione-meccanica-controllata/
LOCATION:Ordine dei Periti Industriali\, Galleria Tirrena\, 10\, Trento\, 38122\, Italia
CATEGORIES:Formazione
ATTACH;FMTTYPE=image/png:https://periti-industriali.trento.it/wp-content/uploads/2023/09/INNOVA-2022-LOGO-A-C.png
ORGANIZER;CN="ORDINE PERITI INDUSTRIALI TRENTO":MAILTO:info@periti-industriali.trento.it
END:VEVENT
BEGIN:VEVENT
DTSTART;TZID=UTC:20231025T143000
DTEND;TZID=UTC:20231025T182000
DTSTAMP:20260420T192241
CREATED:20230925T090602Z
LAST-MODIFIED:20231013T091348Z
UID:9627-1698244200-1698258000@periti-industriali.trento.it
SUMMARY:Energia risparmiata energia pulita.
DESCRIPTION:L’evento GRATUITO previa registrazione sul sito ANIT\, si terrà presso l’Hotel Sporting Trento (TN) \nL’evento darà diritto a 3 CFP. \nLOCANDINA>>
URL:https://periti-industriali.trento.it/event/energia-risparmiata-energia-pulita/
CATEGORIES:Formazione
ATTACH;FMTTYPE=image/png:https://periti-industriali.trento.it/wp-content/uploads/2023/09/immagine-ANIT.png
ORGANIZER;CN="ANIT":MAILTO:eventi@anit.it
END:VEVENT
BEGIN:VEVENT
DTSTART;TZID=UTC:20231026T140000
DTEND;TZID=UTC:20231026T180000
DTSTAMP:20260420T192241
CREATED:20230914T104122Z
LAST-MODIFIED:20231005T104157Z
UID:9581-1698328800-1698343200@periti-industriali.trento.it
SUMMARY:Sistemi per compensare l'energia reattiva nelle reti MB-BT
DESCRIPTION:Il corso formativo darà diritto a 4 CFP. \nSi terrà presso l’Hotel Sartoris di Lavis. \nPer info e iscrizioni vedi locandina: \nLocandina Atiqual>>
URL:https://periti-industriali.trento.it/event/sistemi-per-compensare-lenergia-reattiva-nelle-reti-mb-bt/
LOCATION:HOTEL SARTORIS\, Via Nazionale\, 33\, Lavis\, 38015\, Italia
CATEGORIES:Formazione
ATTACH;FMTTYPE=image/jpeg:https://periti-industriali.trento.it/wp-content/uploads/2017/02/atiqual.jpg
ORGANIZER;CN="Atiqual":MAILTO:info@unaetrentino.it
END:VEVENT
BEGIN:VEVENT
DTSTART;TZID=UTC:20231027T090000
DTEND;TZID=UTC:20231027T160000
DTSTAMP:20260420T192241
CREATED:20231019T071705Z
LAST-MODIFIED:20231019T073342Z
UID:9671-1698397200-1698422400@periti-industriali.trento.it
SUMMARY:Vita e Lavoro: Armonia possibile
DESCRIPTION:L’evento darà diritto a 6 CFP in base al Regolamento della Formazione Continua. \nPer iscrizioni mandare una mail a info@dgmavvocati.it specificando la giornata formativa scelta tra le 3 e i dati personali (cognome e nome \, codice fiscale e ordine appartenenza “periti industriali”. \nI posti disponibili a giornata sono 20 e con preferenza a soggetti fino ai 39 anni d’età. \nLOCANDINA>>
URL:https://periti-industriali.trento.it/event/vita-e-lavoro-armonia-possibile/
LOCATION:Trentino Sviluppo\, Via Zeni\, 8\, Rovereto\, 38068\, Italia
CATEGORIES:Formazione
ATTACH;FMTTYPE=image/webp:https://periti-industriali.trento.it/wp-content/uploads/2023/10/2-work-life.webp
ORGANIZER;CN="ORDINE PERITI INDUSTRIALI TRENTO":MAILTO:info@periti-industriali.trento.it
END:VEVENT
END:VCALENDAR