BEGIN:VCALENDAR
VERSION:2.0
PRODID:-//Periti Industriali Trento - ECPv6.15.17//NONSGML v1.0//EN
CALSCALE:GREGORIAN
METHOD:PUBLISH
X-ORIGINAL-URL:https://periti-industriali.trento.it
X-WR-CALDESC:Eventi per Periti Industriali Trento
REFRESH-INTERVAL;VALUE=DURATION:PT1H
X-Robots-Tag:noindex
X-PUBLISHED-TTL:PT1H
BEGIN:VTIMEZONE
TZID:UTC
BEGIN:STANDARD
TZOFFSETFROM:+0000
TZOFFSETTO:+0000
TZNAME:UTC
DTSTART:20220101T000000
END:STANDARD
END:VTIMEZONE
BEGIN:VEVENT
DTSTART;TZID=UTC:20231103T090000
DTEND;TZID=UTC:20231103T160000
DTSTAMP:20260420T172723
CREATED:20231019T073707Z
LAST-MODIFIED:20231019T075055Z
UID:9680-1699002000-1699027200@periti-industriali.trento.it
SUMMARY:Vita e lavoro : armonia possibile
DESCRIPTION:L’evento gratuito darà diritto a 6 CFP in base al Regolamento della Formazione Continua. \nI posti disponibili a giornata sono 20 e con preferenza a soggetti fino ai 39 anni d’età. \nPer iscrizioni mandare una mail a info@dgmavvocati.it specificando la giornata formativa scelta tra le 3 e i dati personali (cognome e nome \, \ncodice fiscale e ordine appartenenza “periti industriali”. \nLOCANDINA>>
URL:https://periti-industriali.trento.it/event/vita-e-lavoro-armonia-possibile-2/
LOCATION:Trentino Sviluppo\, Via Zeni\, 8\, Rovereto\, 38068\, Italia
CATEGORIES:Formazione
ATTACH;FMTTYPE=image/webp:https://periti-industriali.trento.it/wp-content/uploads/2023/10/2-work-life.webp
ORGANIZER;CN="ORDINE PERITI INDUSTRIALI TRENTO":MAILTO:info@periti-industriali.trento.it
END:VEVENT
BEGIN:VEVENT
DTSTART;TZID=UTC:20231109T140000
DTEND;TZID=UTC:20231109T180000
DTSTAMP:20260420T172723
CREATED:20231011T074441Z
LAST-MODIFIED:20231019T070043Z
UID:9657-1699538400-1699552800@periti-industriali.trento.it
SUMMARY:Le distanze in edilizia: tra diritto privato ed urbanistica
DESCRIPTION:Il corso si terrà in presenza presso l’Ordine. \nDarà diritto all’assegnazione di 7 CFP in base al Regolamento della Formazione Continua. \nIscrizioni entro lunedì 6 novembre p.v. \n 
URL:https://periti-industriali.trento.it/event/le-distanze-in-edilizia-tra-diritto-privato-ed-urbanistica/
LOCATION:Ordine dei Periti Industriali\, Galleria Tirrena\, 10\, Trento\, 38122\, Italia
CATEGORIES:Formazione
ATTACH;FMTTYPE=image/jpeg:https://periti-industriali.trento.it/wp-content/uploads/2023/05/immagine-e1683617423344.jpg
ORGANIZER;CN="ORDINE PERITI INDUSTRIALI TRENTO":MAILTO:info@periti-industriali.trento.it
END:VEVENT
BEGIN:VEVENT
DTSTART;TZID=UTC:20231110T090000
DTEND;TZID=UTC:20231110T120000
DTSTAMP:20260420T172723
CREATED:20231030T153627Z
LAST-MODIFIED:20231109T082131Z
UID:9715-1699606800-1699617600@periti-industriali.trento.it
SUMMARY:Visita Tecnica "Lambda Heat Pump " - Le pompe di calore per il risanamento
DESCRIPTION:La visita tecnica si terrà c/o l’azienda Lambda Heat Pumps in zona Industriale 1/5 C  – Lana (Bz) \nLa visita è organizzata dall’Ordine dei Periti Industriali di Bolzano e darà diritto a 3 CFP. \nPer iscrizioni inviare una mail a segreteria@peritiindustriali.bz.it \nLOCANDINA >> \n  \n 
URL:https://periti-industriali.trento.it/event/visita-tecnica-lambda-heat-pump-le-pompe-di-calore-per-il-riscaldamento/
CATEGORIES:Formazione
ATTACH;FMTTYPE=image/png:https://periti-industriali.trento.it/wp-content/uploads/2023/10/ordine-periti-bolzano.png
ORGANIZER;CN="Collegio Periti Industriali di Bolzano":MAILTO:segreteria@peritiindustriali.bz.it
END:VEVENT
BEGIN:VEVENT
DTSTART;TZID=UTC:20231110T090000
DTEND;TZID=UTC:20231110T160000
DTSTAMP:20260420T172723
CREATED:20231019T073921Z
LAST-MODIFIED:20231019T075257Z
UID:9682-1699606800-1699632000@periti-industriali.trento.it
SUMMARY:Vita e lavoro : armonia possibile.
DESCRIPTION:L’evento gratuito darà diritto a 6 CFP in base al Regolamento della Formazione Continua. \nI posti disponibili a giornata sono 20 e con preferenza a soggetti fino ai 39 anni d’età. \nPer iscrizioni mandare una mail a info@dgmavvocati.it specificando la giornata formativa scelta tra le 3 e i dati personali (cognome e nome \, \ncodice fiscale e ordine appartenenza “periti industriali”. \nLOCANDINA>>
URL:https://periti-industriali.trento.it/event/vita-e-lavoro-armonia-possibile-3/
LOCATION:Trentino Sviluppo\, Via Zeni\, 8\, Rovereto\, 38068\, Italia
CATEGORIES:Formazione
ATTACH;FMTTYPE=image/webp:https://periti-industriali.trento.it/wp-content/uploads/2023/10/2-work-life.webp
END:VEVENT
BEGIN:VEVENT
DTSTART;TZID=UTC:20231110T143000
DTEND;TZID=UTC:20231110T181000
DTSTAMP:20260420T172723
CREATED:20231031T113139Z
LAST-MODIFIED:20231103T105759Z
UID:9731-1699626600-1699639800@periti-industriali.trento.it
SUMMARY:ECOMONDO 2023 - LA PREVENZIONE INCENDI
DESCRIPTION:Il convegno si terrà a Rimini in occasione della Fiera Ecomondo 2023 e darà diritto all’assegnazione di 3 CFP come previsto dal Regolamento della Formazione Continua e sarà valido per l’aggiornamento antincendio come previsto dall’art. 7 D.M. 5 agosto 2011 (ex legge 818/84). \nNella locandina allegata troverete in prima pagina il link di Albounico per le iscrizioni\, mentre in seconda pagina troverete il codice di accesso gratuito alla fiera in fase di registrazione\, come riepilogato qui di seguito: \n\n“prima pagina locandina”:\n\n\niscrizione al convegno su albounico   per tutti i professionisti iscritti agli Ordini professionali (indicare sempre Ordine e Provincia)\n\nhttps://www.albounicoperind.it/VisualizzaDettaglioCorsoDaEsterno.aspx?idCorso=35761&cdColl=RN&idEnte=0 \n\n“seconda pagina locandina”:\n\n\nmodalità di iscrizione in Fiera con codice di accesso per stampa biglietto ingresso gratuito in fiera\n\n  \nLOCANDINA>> \n  \n 
URL:https://periti-industriali.trento.it/event/ecomondo-2023-la-prevenzione-incendi/
CATEGORIES:Formazione
ORGANIZER;CN="Ordine Periti Industriali Rimini":MAILTO:riminiperitindustriali@gmail.com
END:VEVENT
BEGIN:VEVENT
DTSTART;TZID=UTC:20231110T143000
DTEND;TZID=UTC:20231110T181500
DTSTAMP:20260420T172723
CREATED:20231031T090721Z
LAST-MODIFIED:20231031T114143Z
UID:9722-1699626600-1699640100@periti-industriali.trento.it
SUMMARY:L'evoluzione del ruolo dei distributori nel nuovo contesto: il ruolo di facilitarore per i servizi globali ed il ruolo di acquirente per i servizi locali.
DESCRIPTION:Il seminario si terrà presso Dip.to di Ing. Civile Ambientale e Meccanica (DICAM) dell’Università di Trento- via Mesiano\, 77 (TN) \nDarà diritto a 3 CFP come previsto dal Regolamento Formazione Continua. \nPer info e iscrizioni vedi locandina. \nLOCANDINA>>
URL:https://periti-industriali.trento.it/event/levoluzione-del-ruolo-dei-distributori-nel-nuovo-contesto-il-ruolo-di-facilitarore-per-i-servizi-globali-ed-il-ruolo-di-acquirente-per-i-servizi-locali/
CATEGORIES:Formazione
ATTACH;FMTTYPE=image/png:https://periti-industriali.trento.it/wp-content/uploads/2023/01/Logo-AEIT-e1698752494783.png
ORGANIZER;CN="AEIT":MAILTO:sez.taasudtirol@aeit.it
END:VEVENT
BEGIN:VEVENT
DTSTART;TZID=UTC:20231113T180000
DTEND;TZID=UTC:20231113T200000
DTSTAMP:20260420T172723
CREATED:20230919T090824Z
LAST-MODIFIED:20231019T075818Z
UID:9610-1699898400-1699905600@periti-industriali.trento.it
SUMMARY:INCONTRO TERRITORIALE CLES
DESCRIPTION:L’incontro si terrà presso la sala “Borghesi Bertolla”-  Comune Cles. \nLa partecipazione all’ incontro territoriale darà diritto a 3 CFP riguardanti l’etica e la deontologia come dettato dal Regolamento della Formazione Continua.
URL:https://periti-industriali.trento.it/event/incontro-territoriale-cles/
CATEGORIES:Formazione
ATTACH;FMTTYPE=image/png:https://periti-industriali.trento.it/wp-content/uploads/2018/04/logo-periti-con-sfondo-sfera-per-Evidenza-copia.png
ORGANIZER;CN="ORDINE PERITI INDUSTRIALI TRENTO":MAILTO:info@periti-industriali.trento.it
END:VEVENT
BEGIN:VEVENT
DTSTART;TZID=UTC:20231116T090000
DTEND;TZID=UTC:20231116T130000
DTSTAMP:20260420T172723
CREATED:20231019T065940Z
LAST-MODIFIED:20231019T070314Z
UID:9669-1700125200-1700139600@periti-industriali.trento.it
SUMMARY:La sopraelevazione tra diritto privato e urbanistica.
DESCRIPTION:Il corso si terrà in presenza presso l’Ordine. \nDarà diritto all’assegnazione di 7 CFP in base al Regolamento della Formazione Continua. \nIscrizioni entro lunedì 13 novembre p.v.
URL:https://periti-industriali.trento.it/event/la-sopraelevazione-tra-diritto-privato-e-urbanistica/
LOCATION:Ordine dei Periti Industriali\, Galleria Tirrena\, 10\, Trento\, 38122\, Italia
CATEGORIES:Formazione
ATTACH;FMTTYPE=image/jpeg:https://periti-industriali.trento.it/wp-content/uploads/2023/10/immagine-EDILIZIA.jpg
ORGANIZER;CN="ORDINE PERITI INDUSTRIALI TRENTO":MAILTO:info@periti-industriali.trento.it
END:VEVENT
BEGIN:VEVENT
DTSTART;TZID=UTC:20231117T093000
DTEND;TZID=UTC:20231117T130000
DTSTAMP:20260420T172723
CREATED:20231113T101143Z
LAST-MODIFIED:20231116T112337Z
UID:9751-1700213400-1700226000@periti-industriali.trento.it
SUMMARY:Vita e lavoro : armonia possibile/La comunicazione e la gestione del tempo/Oltre la tecnica il Gis
DESCRIPTION:Gli incontri formativi si terranno presso la Fondazione Caritro\, Via Calepina\, 1  Trento\, in occasione del “Festival delle Professioni”. \nDarà diritto a 1 CFP ad ogni ora di partecipazione ai singoli incontri in base al Regolamento della Formazione Continua. \nPer info e iscrizioni vedi locandina qui sotto allegata. \nLOCANDINA COMPLETA FESTIVAL >>
URL:https://periti-industriali.trento.it/event/9751/
CATEGORIES:Formazione
ATTACH;FMTTYPE=image/jpeg:https://periti-industriali.trento.it/wp-content/uploads/2016/10/gipro.jpg
END:VEVENT
BEGIN:VEVENT
DTSTART;TZID=UTC:20231117T140000
DTEND;TZID=UTC:20231117T180000
DTSTAMP:20260420T172723
CREATED:20231113T094041Z
LAST-MODIFIED:20231116T112401Z
UID:9739-1700229600-1700244000@periti-industriali.trento.it
SUMMARY:Festival delle Professioni - "Disegnamo circuiti di BEN-ESSERE"
DESCRIPTION:L’incontro formativo si terrà in occasione del Festival delle Professioni presso la fondazione CARITRO di Trento via Calepina\, 1 \nDarà diritto a 4 CFP come previsto dal Regolamento della Formazione Continua. \nLOCANDINA COMPLETA FESTIVAL>>
URL:https://periti-industriali.trento.it/event/festival-delle-professioni-disegnamo-circuiti-di-ben-essere/
CATEGORIES:Formazione
ATTACH;FMTTYPE=image/jpeg:https://periti-industriali.trento.it/wp-content/uploads/2016/10/gipro.jpg
END:VEVENT
BEGIN:VEVENT
DTSTART;TZID=UTC:20231118T093000
DTEND;TZID=UTC:20231118T123000
DTSTAMP:20260420T172723
CREATED:20231113T094503Z
LAST-MODIFIED:20231116T112035Z
UID:9749-1700299800-1700310600@periti-industriali.trento.it
SUMMARY:Festival delle Professioni: FROM ABOVE - MEGATRASFORMAZIONI DENTRO E FUORI CITTA'
DESCRIPTION:L’incontro formativo si terrà presso la Fondazione Caritro\, Via Calepina 1 Trento in occasione del “Festival delle Professioni”. \nDarà diritto a 3 CFP in base al Regolamento della Formazione Continua. \nPer info e iscrizioni vedi locandina qui sotto allegata. \nLOCANDINA COMPLETA FESTIVAL >>
URL:https://periti-industriali.trento.it/event/from-above-megatrasformazioni-dentro-e-fuori-citta/
CATEGORIES:Formazione
ATTACH;FMTTYPE=image/jpeg:https://periti-industriali.trento.it/wp-content/uploads/2016/10/gipro.jpg
END:VEVENT
BEGIN:VEVENT
DTSTART;TZID=UTC:20231118T140000
DTEND;TZID=UTC:20231118T180000
DTSTAMP:20260420T172723
CREATED:20231113T140426Z
LAST-MODIFIED:20231116T112112Z
UID:9757-1700316000-1700330400@periti-industriali.trento.it
SUMMARY:Festival delle Professioni:Lo spazio del benessere
DESCRIPTION:L’incontro formativo si terrà presso Civico 13\, Trento in occasione del “Festival delle Professioni”. \nDarà diritto a 4 CFP in base al Regolamento della Formazione Continua. \nPer info e iscrizioni vedi locandina qui sotto allegata. \nLOCANDINA COMPLETA FESTIVAL >>
URL:https://periti-industriali.trento.it/event/lo-spazio-del-benessere/
CATEGORIES:Formazione
ATTACH;FMTTYPE=image/jpeg:https://periti-industriali.trento.it/wp-content/uploads/2016/10/gipro.jpg
END:VEVENT
BEGIN:VEVENT
DTSTART;TZID=UTC:20231118T143000
DTEND;TZID=UTC:20231118T180000
DTSTAMP:20260420T172723
CREATED:20231113T140757Z
LAST-MODIFIED:20231116T112146Z
UID:9759-1700317800-1700330400@periti-industriali.trento.it
SUMMARY:Festival delle Professioni : Sicurezza e libera professione
DESCRIPTION:L’incontro formativo si terrà presso la Fondazione Caritro\, via Calepina 1  Trento in occasione del “Festival delle Professioni”. \nDarà diritto a 3 CFP in base al Regolamento della Formazione Continua. \nPer info e iscrizioni vedi locandina qui sotto allegata. \nLOCANDINA COMPLETA FESTIVAL >>
URL:https://periti-industriali.trento.it/event/sicurezza-e-libera-professione/
CATEGORIES:Formazione
ATTACH;FMTTYPE=image/jpeg:https://periti-industriali.trento.it/wp-content/uploads/2016/10/gipro.jpg
END:VEVENT
BEGIN:VEVENT
DTSTART;TZID=UTC:20231127T173000
DTEND;TZID=UTC:20231127T200000
DTSTAMP:20260420T172723
CREATED:20230919T091304Z
LAST-MODIFIED:20231123T092830Z
UID:9612-1701106200-1701115200@periti-industriali.trento.it
SUMMARY:INCONTRO TERRITORIALE TRENTO
DESCRIPTION:L’ incontro si terrà alle ore 17.30 presso l’Aula Magna dell’ITT Buonarroti\, Via Brigata Acqui\,15 – TRENTO \nLa partecipazione agli incontri territoriali darà diritto a 3 CFP riguardanti l’etica e la deontologia come dettato dal Regolamento della Formazione Continua. \n  \nIn occasione dell’incontro territoriale ci sarà un INFOPOINT CFP – FORMAZIONE CONTINUA dalle ore 18.00 alle ore 20.00 solo su prenotazione. \nPer chi avesse bisogno di chiarire alcuni dubbi in merito alla propria situazione potrà fissare il suo appuntamento cliccando qui. \nUna volta compilata la scheda vi sarà comunicato l’orario dell’appuntamento. \nAll. CIRCOLARE INCONTRI TERRITORIALI>> \n  \n  \n 
URL:https://periti-industriali.trento.it/event/incontro-territoriale-trento/
CATEGORIES:Formazione
ATTACH;FMTTYPE=image/png:https://periti-industriali.trento.it/wp-content/uploads/2018/04/logo-periti-con-sfondo-sfera-per-Evidenza-copia.png
ORGANIZER;CN="ORDINE PERITI INDUSTRIALI TRENTO":MAILTO:info@periti-industriali.trento.it
END:VEVENT
BEGIN:VEVENT
DTSTART;TZID=UTC:20231128T143000
DTEND;TZID=UTC:20231128T183000
DTSTAMP:20260420T172723
CREATED:20231124T073952Z
LAST-MODIFIED:20231124T073952Z
UID:9806-1701181800-1701196200@periti-industriali.trento.it
SUMMARY:Corso agg. sicurezza - Fascicolo dell'Opera art. 91  D.lgs. 81/2008 e Figure coinvolte per la sicurezza.
DESCRIPTION:Il corso si terrà in presenza presso l’Ordine e darà diritto a 7 CFP in base al Regolamento della Formazione Continua.
URL:https://periti-industriali.trento.it/event/corso-agg-sicurezza-fascicolo-dellopera-art-91-d-lgs-81-2008-e-figure-coinvolte-per-la-sicurezza/
LOCATION:Ordine dei Periti Industriali\, Galleria Tirrena\, 10\, Trento\, 38122\, Italia
CATEGORIES:Formazione
ATTACH;FMTTYPE=image/png:https://periti-industriali.trento.it/wp-content/uploads/2023/11/immagine-corso-sicurezza.png
ORGANIZER;CN="ORDINE PERITI INDUSTRIALI TRENTO":MAILTO:info@periti-industriali.trento.it
END:VEVENT
END:VCALENDAR