BEGIN:VCALENDAR
VERSION:2.0
PRODID:-//Periti Industriali Trento - ECPv6.15.17//NONSGML v1.0//EN
CALSCALE:GREGORIAN
METHOD:PUBLISH
X-ORIGINAL-URL:https://periti-industriali.trento.it
X-WR-CALDESC:Eventi per Periti Industriali Trento
REFRESH-INTERVAL;VALUE=DURATION:PT1H
X-Robots-Tag:noindex
X-PUBLISHED-TTL:PT1H
BEGIN:VTIMEZONE
TZID:UTC
BEGIN:STANDARD
TZOFFSETFROM:+0000
TZOFFSETTO:+0000
TZNAME:UTC
DTSTART:20230101T000000
END:STANDARD
END:VTIMEZONE
BEGIN:VEVENT
DTSTART;TZID=UTC:20240122T180000
DTEND;TZID=UTC:20240122T200000
DTSTAMP:20260420T125550
CREATED:20240115T101136Z
LAST-MODIFIED:20240115T101153Z
UID:9846-1705946400-1705953600@periti-industriali.trento.it
SUMMARY:INCONTRO TERRITORIALE FIERA DI PRIMIERO
DESCRIPTION:L’incontro si terrà presso la sala riunioni del Comune di Primiero secondo piano\, ingresso lato edificio Torrente Cismon. \nLa partecipazione all’ incontro territoriale darà diritto a 3 CFP riguardanti l’etica e la deontologia come dettato dal Regolamento della Formazione Continua.
URL:https://periti-industriali.trento.it/event/incontro-territoriale-fiera-di-primiero/
LOCATION:Comune di Primiero\, Via Fiume\, 10\, Fiera di Primiero\, Italia
CATEGORIES:Formazione
ATTACH;FMTTYPE=image/png:https://periti-industriali.trento.it/wp-content/uploads/2018/04/logo-periti-con-sfondo-sfera-per-Evidenza-copia.png
ORGANIZER;CN="ORDINE PERITI INDUSTRIALI TRENTO":MAILTO:info@periti-industriali.trento.it
END:VEVENT
BEGIN:VEVENT
DTSTART;TZID=UTC:20240126T143000
DTEND;TZID=UTC:20240126T180000
DTSTAMP:20260420T125550
CREATED:20240117T093716Z
LAST-MODIFIED:20240117T093818Z
UID:9868-1706279400-1706292000@periti-industriali.trento.it
SUMMARY:Nuove indicazioni per la qualità del servizio elettrico 2024-2027
DESCRIPTION:Il seminario è IN PRESENZA e  GRATUITO e darà diritto all’assegnazione di 4 CFP in base al Regolamento della Formazione Continua. \nPer info e iscrizioni vedi locandina. \nLOCANDINA>> \n  \n 
URL:https://periti-industriali.trento.it/event/nuove-indicazioni-per-la-qualita-del-servizio-elettrico-2024-2027/
CATEGORIES:Formazione
ATTACH;FMTTYPE=image/png:https://periti-industriali.trento.it/wp-content/uploads/2023/01/Logo-AEIT-e1698752494783.png
ORGANIZER;CN="AEIT":MAILTO:sez.taasudtirol@aeit.it
END:VEVENT
BEGIN:VEVENT
DTSTART;TZID=UTC:20240130T140000
DTEND;TZID=UTC:20240130T173000
DTSTAMP:20260420T125550
CREATED:20240118T121012Z
LAST-MODIFIED:20240118T121630Z
UID:9871-1706623200-1706635800@periti-industriali.trento.it
SUMMARY:PER INCENTIVARE UNA PROGETTAZIONE CONSAPEVOLE: La climatizzazione del futuro coi nuovi gas refrigeranti e i bonus fiscali applicabili.
DESCRIPTION:Il seminario è gratuito e darà diritto all’assegnazione di 3 CFP in base al Regolamento della Formazione Continua. \nSi terrà in presenza presso la Cantina Rotari di Mezzocorona. \nPer info e iscrizioni vedi locandina. \nLOCANDINA>> \n 
URL:https://periti-industriali.trento.it/event/per-incentivare-una-progettazione-consapevole-la-climatizzazione-del-futuro-coi-nuovi-gas-refrigeranti-e-i-bonus-fiscali-applicabili/
LOCATION:Cantina Rotari\, SALA DEL CAVEAU • VIA DEL TEROLDEGO 1/E\, Mezzocorona
CATEGORIES:Formazione
ATTACH;FMTTYPE=image/jpeg:https://periti-industriali.trento.it/wp-content/uploads/2024/01/LOGO-H25.jpg
END:VEVENT
END:VCALENDAR