BEGIN:VCALENDAR
VERSION:2.0
PRODID:-//Periti Industriali Trento - ECPv6.15.17//NONSGML v1.0//EN
CALSCALE:GREGORIAN
METHOD:PUBLISH
X-ORIGINAL-URL:https://periti-industriali.trento.it
X-WR-CALDESC:Eventi per Periti Industriali Trento
REFRESH-INTERVAL;VALUE=DURATION:PT1H
X-Robots-Tag:noindex
X-PUBLISHED-TTL:PT1H
BEGIN:VTIMEZONE
TZID:UTC
BEGIN:STANDARD
TZOFFSETFROM:+0000
TZOFFSETTO:+0000
TZNAME:UTC
DTSTART:20230101T000000
END:STANDARD
END:VTIMEZONE
BEGIN:VEVENT
DTSTART;TZID=UTC:20240402T140000
DTEND;TZID=UTC:20240402T180000
DTSTAMP:20260420T070058
CREATED:20240312T113511Z
LAST-MODIFIED:20240318T132711Z
UID:10000-1712066400-1712080800@periti-industriali.trento.it
SUMMARY:Nuovo quaderno di cantiere e ruolo CSP/CSE
DESCRIPTION:Il corso formativo si terrà in presenza presso la sede dell’Ordine e darà diritto a 7 CFP come previsto dal Regolamento della Formazione Continua. \nIl corso è valido ai fini aggiorn. sicurezza qualifica di CSP/CSE e RSPP . \nIscrizioni al link segnalato entro mercoledì 27 marzo p.v.
URL:https://periti-industriali.trento.it/event/nuovo-quaderno-di-cantiere-e-ruolo-csp-cse-corso-valido-ai-fini-aggiorn-sicurezza-qualifica-di-csp-cse-e-rspp/
LOCATION:Ordine dei Periti Industriali\, Galleria Tirrena\, 10\, Trento\, 38122\, Italia
CATEGORIES:Formazione
ATTACH;FMTTYPE=image/png:https://periti-industriali.trento.it/wp-content/uploads/2024/03/immagine-corso-sicurezza.png
ORGANIZER;CN="ORDINE PERITI INDUSTRIALI TRENTO":MAILTO:info@periti-industriali.trento.it
END:VEVENT
BEGIN:VEVENT
DTSTART;TZID=UTC:20240404T140000
DTEND;TZID=UTC:20240404T180000
DTSTAMP:20260420T070058
CREATED:20240327T131227Z
LAST-MODIFIED:20240327T131227Z
UID:10065-1712239200-1712253600@periti-industriali.trento.it
SUMMARY:Norme tecniche d'impianto e di prodotto verifica periodica ed il revamping degli impianti fotovoltaici
DESCRIPTION:Seminario organizzato dal CEI e accreditato dal CNPI. \nRilascia 4 CFP. \nLocandina>>
URL:https://periti-industriali.trento.it/event/norme-tecniche-dimpianto-e-di-prodotto-verifica-periodica-ed-il-revamping-degli-impianti-fotovoltaici/
LOCATION:Hotel Adige Srl\, Via Pomeranos\, 10 Loc. Mattarello\, Trento\, 38123\, Italia
CATEGORIES:Formazione
ATTACH;FMTTYPE=image/jpeg:https://periti-industriali.trento.it/wp-content/uploads/2017/11/CEI.jpg
END:VEVENT
BEGIN:VEVENT
DTSTART;TZID=UTC:20240410T140000
DTEND;TZID=UTC:20240410T170000
DTSTAMP:20260420T070058
CREATED:20240318T095819Z
LAST-MODIFIED:20240318T101548Z
UID:10016-1712757600-1712768400@periti-industriali.trento.it
SUMMARY:Progettare Smart Building\, predisporre al Building Automation Controls Systems (BACS) ed alle normative di oggi e domani.
DESCRIPTION:Il seminario si terrà presso il centro Aggregazione Giovanile Andalo Life e darà diritto a 3 CFP in base al Regolamento della Formazione Continua. \nPer maggiori info e iscrizioni vedi locandina qui di seguito allegata. \nLOCANDINA>>
URL:https://periti-industriali.trento.it/event/progettare-smart-building-predisporre-al-building-automation-controls-systems-bacs-ed-alle-normative-di-oggi-e-domani-2/
CATEGORIES:Formazione
ATTACH;FMTTYPE=image/png:https://periti-industriali.trento.it/wp-content/uploads/2023/04/EELECTRON-SPA-1.png
ORGANIZER;CN="Bortolato Rappresentanze":MAILTO:info@agenziabortolato.com
END:VEVENT
BEGIN:VEVENT
DTSTART;TZID=UTC:20240411T140000
DTEND;TZID=UTC:20240411T160000
DTSTAMP:20260420T070058
CREATED:20240318T112520Z
LAST-MODIFIED:20240319T093613Z
UID:10022-1712844000-1712851200@periti-industriali.trento.it
SUMMARY:Webinar BIM e PNRR in Italia : come affrontare le sfide della rivoluzione digitale e sfruttarle a proprio vantaggio.
DESCRIPTION:Il webinar informativo darà diritto a 2 CFP in base al Regolamento della Formazione Continua. \nPer maggiori info e iscrizioni vedi locandina qui di seguito allegata. \nLOCANDINA>> \n 
URL:https://periti-industriali.trento.it/event/webinar-bim-e-pnrr-in-italia-come-affrontare-le-sfide-della-rivoluzione-digitale-e-sfruttarle-a-proprio-vantaggio/
CATEGORIES:Formazione
ATTACH;FMTTYPE=image/png:https://periti-industriali.trento.it/wp-content/uploads/2024/03/IMMAGINE-2.png
ORGANIZER;CN="WE BIM & Software Solutions":MAILTO:INFO@WEBIM.IT
END:VEVENT
BEGIN:VEVENT
DTSTART;TZID=UTC:20240419T140000
DTEND;TZID=UTC:20240419T180000
DTSTAMP:20260420T070058
CREATED:20240404T093624Z
LAST-MODIFIED:20240410T072253Z
UID:10075-1713535200-1713549600@periti-industriali.trento.it
SUMMARY:ASSEMBLEA 2024 + FOCUS AI
DESCRIPTION:Convocazione>> \nLocandina>>
URL:https://periti-industriali.trento.it/event/assemblea-2024-focus-ai/
LOCATION:Sala Congressi Erickson\, Via Pioppeto\, 24\, Trento\, ITALIA\, Italia
CATEGORIES:Formazione
ATTACH;FMTTYPE=image/png:https://periti-industriali.trento.it/wp-content/uploads/2024/04/immagine.png
ORGANIZER;CN="ORDINE PERITI INDUSTRIALI TRENTO":MAILTO:info@periti-industriali.trento.it
END:VEVENT
BEGIN:VEVENT
DTSTART;TZID=UTC:20240423T090000
DTEND;TZID=UTC:20240423T130000
DTSTAMP:20260420T070058
CREATED:20240318T114420Z
LAST-MODIFIED:20240319T094349Z
UID:10026-1713862800-1713877200@periti-industriali.trento.it
SUMMARY:"Le sanatorie in edilizia"
DESCRIPTION:Il corso formativo si terrà presso la sede dell’Ordine e darà diritto a 7 CFP in base al Regolamento della Formazione Continua. \nIscrizioni entro il mercoledì 17 aprile p.v. al link segnalato. \n 
URL:https://periti-industriali.trento.it/event/le-sanatorie/
LOCATION:Ordine dei Periti Industriali\, Galleria Tirrena\, 10\, Trento\, 38122\, Italia
CATEGORIES:Formazione
ATTACH;FMTTYPE=image/jpeg:https://periti-industriali.trento.it/wp-content/uploads/2024/03/IMMAGINE-CORSO-23-APRILE-2024.jpg
ORGANIZER;CN="ORDINE PERITI INDUSTRIALI TRENTO":MAILTO:info@periti-industriali.trento.it
END:VEVENT
END:VCALENDAR