BEGIN:VCALENDAR
VERSION:2.0
PRODID:-//Periti Industriali Trento - ECPv6.15.17//NONSGML v1.0//EN
CALSCALE:GREGORIAN
METHOD:PUBLISH
X-ORIGINAL-URL:https://periti-industriali.trento.it
X-WR-CALDESC:Eventi per Periti Industriali Trento
REFRESH-INTERVAL;VALUE=DURATION:PT1H
X-Robots-Tag:noindex
X-PUBLISHED-TTL:PT1H
BEGIN:VTIMEZONE
TZID:UTC
BEGIN:STANDARD
TZOFFSETFROM:+0000
TZOFFSETTO:+0000
TZNAME:UTC
DTSTART:20230101T000000
END:STANDARD
END:VTIMEZONE
BEGIN:VEVENT
DTSTART;TZID=UTC:20240508T140000
DTEND;TZID=UTC:20240508T180000
DTSTAMP:20260420T052527
CREATED:20240415T093014Z
LAST-MODIFIED:20240415T093221Z
UID:10097-1715176800-1715191200@periti-industriali.trento.it
SUMMARY:La sicurezza del made in Italy
DESCRIPTION:Per iscriverti all’evento scannerizza il Qr-code presente nella locandina. \nL’evento riconosce 4 CFP per i periti industriali. \nLocandina>>
URL:https://periti-industriali.trento.it/event/10097/
LOCATION:Ordine dei Periti Industriali\, Galleria Tirrena\, 10\, Trento\, 38122\, Italia
CATEGORIES:Formazione
ATTACH;FMTTYPE=image/jpeg:https://periti-industriali.trento.it/wp-content/uploads/2024/04/logo.jpeg
END:VEVENT
BEGIN:VEVENT
DTSTART;VALUE=DATE:20240514
DTEND;VALUE=DATE:20240516
DTSTAMP:20260420T052527
CREATED:20240430T114957Z
LAST-MODIFIED:20240430T114957Z
UID:10137-1715644800-1715817599@periti-industriali.trento.it
SUMMARY:REBUILD 2024
DESCRIPTION:Locandina>>
URL:https://periti-industriali.trento.it/event/rebuild-2024/
LOCATION:Centro Congressi Riva del Garda\, Riva del Garda
CATEGORIES:Formazione
END:VEVENT
BEGIN:VEVENT
DTSTART;TZID=UTC:20240514T090000
DTEND;TZID=UTC:20240514T130000
DTSTAMP:20260420T052527
CREATED:20240415T095318Z
LAST-MODIFIED:20240415T103415Z
UID:10105-1715677200-1715691600@periti-industriali.trento.it
SUMMARY:Norme per l'efficienza e sicurezza della canna fumaria
DESCRIPTION:Il corso formativo si terrà presso la sede dell’Ordine e darà diritto a 4 CFP in base al Regolamento della Formazione Continua. \nIscrizioni entro il 10 maggio p.v. al link segnalato. \n 
URL:https://periti-industriali.trento.it/event/norme-per-lefficienza-e-sicurezza-della-canna-fumaria/
LOCATION:Ordine dei Periti Industriali\, Galleria Tirrena\, 10\, Trento\, 38122\, Italia
CATEGORIES:Formazione
ATTACH;FMTTYPE=image/png:https://periti-industriali.trento.it/wp-content/uploads/2024/04/Immagine-1.png
ORGANIZER;CN="ORDINE PERITI INDUSTRIALI TRENTO":MAILTO:info@periti-industriali.trento.it
END:VEVENT
BEGIN:VEVENT
DTSTART;TZID=UTC:20240515T163000
DTEND;TZID=UTC:20240515T183000
DTSTAMP:20260420T052527
CREATED:20240514T113722Z
LAST-MODIFIED:20240514T113759Z
UID:10158-1715790600-1715797800@periti-industriali.trento.it
SUMMARY:Case Green e Competenze digitali
DESCRIPTION:Il corso formativo si terrà presso il Centro Congressi di Riva del Garda in occasione dell’evento REbuild e darà diritto a 6 CFP in base al Regolamento della Formazione Continua. \nLocandina>>
URL:https://periti-industriali.trento.it/event/case-green-e-competenze-digitali/
LOCATION:Centro Congressi Riva del Garda\, Riva del Garda
CATEGORIES:Formazione
ATTACH;FMTTYPE=image/jpeg:https://periti-industriali.trento.it/wp-content/uploads/2024/05/logo.jpeg
END:VEVENT
BEGIN:VEVENT
DTSTART;TZID=UTC:20240516T090000
DTEND;TZID=UTC:20240516T130000
DTSTAMP:20260420T052527
CREATED:20240415T105826Z
LAST-MODIFIED:20241010T124021Z
UID:10114-1715850000-1715864400@periti-industriali.trento.it
SUMMARY:Dallo Stress Lavoro Correlato al Benessere organizzativo
DESCRIPTION:Il corso formativo si terrà presso la sede dell’Ordine e darà diritto a 4 CFP in base al Regolamento della Formazione Continua. \nIscrizioni entro il 13 maggio p.v. al link segnalato. \nANNULLATO
URL:https://periti-industriali.trento.it/event/dallo-stress-lavoro-correlato-al-benessere-organizzativo/
LOCATION:Ordine dei Periti Industriali\, Galleria Tirrena\, 10\, Trento\, 38122\, Italia
CATEGORIES:Formazione
ATTACH;FMTTYPE=image/jpeg:https://periti-industriali.trento.it/wp-content/uploads/2024/04/immagine-sito.jpg
ORGANIZER;CN="ORDINE PERITI INDUSTRIALI TRENTO":MAILTO:info@periti-industriali.trento.it
END:VEVENT
BEGIN:VEVENT
DTSTART;TZID=UTC:20240517T093000
DTEND;TZID=UTC:20240517T170000
DTSTAMP:20260420T052527
CREATED:20240514T113057Z
LAST-MODIFIED:20240514T113057Z
UID:10152-1715938200-1715965200@periti-industriali.trento.it
SUMMARY:Vibrazioni indotte nelle fasi di realizzazione e di esercizio dell'infrastruttura ferroviaria
DESCRIPTION:Il corso formativo si terrà presso le Gallerie di Piedicastello a Trento e darà diritto a 6 CFP in base al Regolamento della Formazione Continua. \nLocandina>>
URL:https://periti-industriali.trento.it/event/vibrazioni-indotte-nelle-fasi-di-realizzazione-e-di-esercizio-dellinfrastruttura-ferroviaria/
LOCATION:Le Gallerie di Piedicastello\, Trento
CATEGORIES:Formazione
ATTACH;FMTTYPE=image/webp:https://periti-industriali.trento.it/wp-content/uploads/2024/05/galleria-ferroviaria.webp
END:VEVENT
BEGIN:VEVENT
DTSTART;TZID=UTC:20240523T140000
DTEND;TZID=UTC:20240523T180000
DTSTAMP:20260420T052527
CREATED:20240415T110243Z
LAST-MODIFIED:20240430T114130Z
UID:10117-1716472800-1716487200@periti-industriali.trento.it
SUMMARY:Power Quality Industry: normativa\, disturbi\, misure di mitigazione
DESCRIPTION:Il corso formativo darà diritto a 4 CFP in base al Regolamento della Formazione Continua. \nScaricare la locandina per effettuare l’iscrizione. \nLocandina>>
URL:https://periti-industriali.trento.it/event/power-quality-industry-normativa-disturbi-misure-di-mitigazione/
LOCATION:HOTEL SARTORIS\, Via Nazionale\, 33\, Lavis\, 38015\, Italia
CATEGORIES:Formazione
ATTACH;FMTTYPE=image/jpeg:https://periti-industriali.trento.it/wp-content/uploads/2017/02/atiqual.jpg
ORGANIZER;CN="Atiqual":MAILTO:info@unaetrentino.it
END:VEVENT
BEGIN:VEVENT
DTSTART;TZID=UTC:20240524T090000
DTEND;TZID=UTC:20240524T170000
DTSTAMP:20260420T052527
CREATED:20240514T114952Z
LAST-MODIFIED:20240520T100447Z
UID:10162-1716541200-1716570000@periti-industriali.trento.it
SUMMARY:Aggregazione in comunità energetiche - ANNULLATO
DESCRIPTION:Il corso formativo si terrà presso Smart LAB di Rovereto e darà diritto a 6 CFP in base al Regolamento della Formazione Continua. \nLocandina>> \nIl convegno è stato ANNULLATO  a causa delle poche adesioni.
URL:https://periti-industriali.trento.it/event/aggregazione-in-comunita-energetiche/
LOCATION:Smart Lab\, Viale Trento\, 47\, Rovereto\, 38068\, Italia
CATEGORIES:Formazione
ATTACH;FMTTYPE=image/png:https://periti-industriali.trento.it/wp-content/uploads/2024/05/immagine-sito.png
END:VEVENT
BEGIN:VEVENT
DTSTART;TZID=UTC:20240530T140000
DTEND;TZID=UTC:20240530T180000
DTSTAMP:20260420T052527
CREATED:20240514T120316Z
LAST-MODIFIED:20240514T120455Z
UID:10167-1717077600-1717092000@periti-industriali.trento.it
SUMMARY:Corso antincendio - rivelazione\, controllo\, compartimentazione e protezione
DESCRIPTION:Il corso formativo si terrà presso il Museo Caproni a Trento e darà diritto a 4 CFP in base al Regolamento della Formazione Continua. \nIL CORSO NON E’ VALIDO AI FINI DELL’AGGIORNAMENTO IN PREVENZIONE INCENDI. \nLocandina>>
URL:https://periti-industriali.trento.it/event/corso-antincendio-rivelazione-controllo-compartimentazione-e-protezione/
LOCATION:Museo dell’aeronautica “Gianni Caproni” Trento\, TRENTO
CATEGORIES:Formazione
ATTACH;FMTTYPE=image/png:https://periti-industriali.trento.it/wp-content/uploads/2024/05/immagine-sito-1.png
END:VEVENT
BEGIN:VEVENT
DTSTART;TZID=UTC:20240530T140000
DTEND;TZID=UTC:20240530T180000
DTSTAMP:20260420T052527
CREATED:20240520T100825Z
LAST-MODIFIED:20240520T100825Z
UID:10178-1717077600-1717092000@periti-industriali.trento.it
SUMMARY:Linee vita e sistemi di sicurezza. Utilizzo linee vita e DPI
DESCRIPTION:Corso valido ai fini dell’aggiornamento sicurezza per la qualifica di CSP/CSE e RSPP-ASPP come previsto dal D. Lgs. 81/2008 e s.m.i.”. \n  \n 
URL:https://periti-industriali.trento.it/event/linee-vita-e-sistemi-di-sicurezza-utilizzo-linee-vita-e-dpi/
LOCATION:Ordine dei Periti Industriali\, Galleria Tirrena\, 10\, Trento\, 38122\, Italia
CATEGORIES:Formazione
ATTACH;FMTTYPE=image/png:https://periti-industriali.trento.it/wp-content/uploads/2024/03/immagine-corso-sicurezza.png
ORGANIZER;CN="ORDINE PERITI INDUSTRIALI TRENTO":MAILTO:info@periti-industriali.trento.it
END:VEVENT
END:VCALENDAR