BEGIN:VCALENDAR
VERSION:2.0
PRODID:-//Periti Industriali Trento - ECPv6.15.17//NONSGML v1.0//EN
CALSCALE:GREGORIAN
METHOD:PUBLISH
X-ORIGINAL-URL:https://periti-industriali.trento.it
X-WR-CALDESC:Eventi per Periti Industriali Trento
REFRESH-INTERVAL;VALUE=DURATION:PT1H
X-Robots-Tag:noindex
X-PUBLISHED-TTL:PT1H
BEGIN:VTIMEZONE
TZID:UTC
BEGIN:STANDARD
TZOFFSETFROM:+0000
TZOFFSETTO:+0000
TZNAME:UTC
DTSTART:20230101T000000
END:STANDARD
END:VTIMEZONE
BEGIN:VTIMEZONE
TZID:Europe/Rome
BEGIN:DAYLIGHT
TZOFFSETFROM:+0100
TZOFFSETTO:+0200
TZNAME:CEST
DTSTART:20230326T010000
END:DAYLIGHT
BEGIN:STANDARD
TZOFFSETFROM:+0200
TZOFFSETTO:+0100
TZNAME:CET
DTSTART:20231029T010000
END:STANDARD
BEGIN:DAYLIGHT
TZOFFSETFROM:+0100
TZOFFSETTO:+0200
TZNAME:CEST
DTSTART:20240331T010000
END:DAYLIGHT
BEGIN:STANDARD
TZOFFSETFROM:+0200
TZOFFSETTO:+0100
TZNAME:CET
DTSTART:20241027T010000
END:STANDARD
BEGIN:DAYLIGHT
TZOFFSETFROM:+0100
TZOFFSETTO:+0200
TZNAME:CEST
DTSTART:20250330T010000
END:DAYLIGHT
BEGIN:STANDARD
TZOFFSETFROM:+0200
TZOFFSETTO:+0100
TZNAME:CET
DTSTART:20251026T010000
END:STANDARD
END:VTIMEZONE
BEGIN:VEVENT
DTSTART;TZID=UTC:20240612T150000
DTEND;TZID=UTC:20240612T180000
DTSTAMP:20260420T052530
CREATED:20240529T072302Z
LAST-MODIFIED:20240529T072302Z
UID:10188-1718204400-1718215200@periti-industriali.trento.it
SUMMARY:Focus FV-INDUSTRY
DESCRIPTION:Il seminario formativo darà diritto a 3 CFP in base al Regolamento della Formazione Continua. \nLocandina>>
URL:https://periti-industriali.trento.it/event/focus-fv-industry/
LOCATION:Cantina Rotari\, SALA DEL CAVEAU • VIA DEL TEROLDEGO 1/E\, Mezzocorona
CATEGORIES:Formazione
ATTACH;FMTTYPE=image/jpeg:https://periti-industriali.trento.it/wp-content/uploads/2017/02/atiqual.jpg
ORGANIZER;CN="Atiqual":MAILTO:info@unaetrentino.it
END:VEVENT
BEGIN:VEVENT
DTSTART;TZID=UTC:20240614T143000
DTEND;TZID=UTC:20240614T183000
DTSTAMP:20260420T052530
CREATED:20240529T071416Z
LAST-MODIFIED:20240529T071715Z
UID:10184-1718375400-1718389800@periti-industriali.trento.it
SUMMARY:L’evoluzione della promozione della produzione di energia elettrica da fonti rinnovabili: bozza DM ”FER X”
DESCRIPTION:L’evento formativo darà diritto a 4 CFP in base al Regolamento della Formazione Continua. \nLocandina>>
URL:https://periti-industriali.trento.it/event/levoluzione-della-promozione-della-produzione-di-energia-elettrica-da-fonti-rinnovabili-bozza-dm-fer-x/
LOCATION:Università degli Studi di Trento\, Via Mesiano\, 77\, Trento\, 38122\, Italia
CATEGORIES:Formazione
ATTACH;FMTTYPE=image/png:https://periti-industriali.trento.it/wp-content/uploads/2023/01/Logo-AEIT-e1698752494783.png
ORGANIZER;CN="AEIT":MAILTO:sez.taasudtirol@aeit.it
END:VEVENT
BEGIN:VEVENT
DTSTART;TZID=Europe/Rome:20240620T150000
DTEND;TZID=Europe/Rome:20240620T180000
DTSTAMP:20260420T052530
CREATED:20240614T080022Z
LAST-MODIFIED:20240614T080428Z
UID:10202-1718895600-1718906400@periti-industriali.trento.it
SUMMARY:La consulenza tecnica d'ufficio alla luce della riforma Cartabia
DESCRIPTION:L’evento formativo darà diritto a 3 CFP in base al Regolamento della Formazione Continua. \nLocandina>>
URL:https://periti-industriali.trento.it/event/la-consulenza-tecnica-dufficio-alla-luce-della-riforma-cartabia/
LOCATION:Sala Nones c/o Cassa Trento\, Via Belenzani 12\, Trento\, 38122\, Italia
CATEGORIES:Formazione
ATTACH;FMTTYPE=image/png:https://periti-industriali.trento.it/wp-content/uploads/2024/06/logo.png
END:VEVENT
END:VCALENDAR