BEGIN:VCALENDAR
VERSION:2.0
PRODID:-//Periti Industriali Trento - ECPv6.15.17//NONSGML v1.0//EN
CALSCALE:GREGORIAN
METHOD:PUBLISH
X-ORIGINAL-URL:https://periti-industriali.trento.it
X-WR-CALDESC:Eventi per Periti Industriali Trento
REFRESH-INTERVAL;VALUE=DURATION:PT1H
X-Robots-Tag:noindex
X-PUBLISHED-TTL:PT1H
BEGIN:VTIMEZONE
TZID:UTC
BEGIN:STANDARD
TZOFFSETFROM:+0000
TZOFFSETTO:+0000
TZNAME:UTC
DTSTART:20230101T000000
END:STANDARD
END:VTIMEZONE
BEGIN:VEVENT
DTSTART;TZID=UTC:20241212T140000
DTEND;TZID=UTC:20241212T180000
DTSTAMP:20260419T171742
CREATED:20240415T104423Z
LAST-MODIFIED:20250107T120648Z
UID:10110-1734012000-1734026400@periti-industriali.trento.it
SUMMARY:Le facciate ventilate: una moderna e completa soluzione tecnologica
DESCRIPTION:Il corso formativo si terrà presso la sede dell’Ordine e darà diritto a 4 CFP in base al Regolamento della Formazione Continua.\n\nIscrizioni entro il 10 dicembre p.v. al link segnalato.
URL:https://periti-industriali.trento.it/event/le-facciate-ventilate-una-moderna-e-completa-soluzione-tecnologica/
LOCATION:Ordine dei Periti Industriali\, Galleria Tirrena\, 10\, Trento\, 38122\, Italia
CATEGORIES:Formazione
ATTACH;FMTTYPE=image/jpeg:https://periti-industriali.trento.it/wp-content/uploads/2024/04/membrana-traspirant.jpg
ORGANIZER;CN="ORDINE PERITI INDUSTRIALI TRENTO":MAILTO:info@periti-industriali.trento.it
END:VEVENT
END:VCALENDAR