BEGIN:VCALENDAR
VERSION:2.0
PRODID:-//Periti Industriali Trento - ECPv6.15.17//NONSGML v1.0//EN
CALSCALE:GREGORIAN
METHOD:PUBLISH
X-ORIGINAL-URL:https://periti-industriali.trento.it
X-WR-CALDESC:Eventi per Periti Industriali Trento
REFRESH-INTERVAL;VALUE=DURATION:PT1H
X-Robots-Tag:noindex
X-PUBLISHED-TTL:PT1H
BEGIN:VTIMEZONE
TZID:Europe/Rome
BEGIN:DAYLIGHT
TZOFFSETFROM:+0100
TZOFFSETTO:+0200
TZNAME:CEST
DTSTART:20240331T010000
END:DAYLIGHT
BEGIN:STANDARD
TZOFFSETFROM:+0200
TZOFFSETTO:+0100
TZNAME:CET
DTSTART:20241027T010000
END:STANDARD
BEGIN:DAYLIGHT
TZOFFSETFROM:+0100
TZOFFSETTO:+0200
TZNAME:CEST
DTSTART:20250330T010000
END:DAYLIGHT
BEGIN:STANDARD
TZOFFSETFROM:+0200
TZOFFSETTO:+0100
TZNAME:CET
DTSTART:20251026T010000
END:STANDARD
BEGIN:DAYLIGHT
TZOFFSETFROM:+0100
TZOFFSETTO:+0200
TZNAME:CEST
DTSTART:20260329T010000
END:DAYLIGHT
BEGIN:STANDARD
TZOFFSETFROM:+0200
TZOFFSETTO:+0100
TZNAME:CET
DTSTART:20261025T010000
END:STANDARD
END:VTIMEZONE
BEGIN:VEVENT
DTSTART;TZID=Europe/Rome:20250206T090000
DTEND;TZID=Europe/Rome:20250206T130000
DTSTAMP:20260419T141244
CREATED:20250107T124303Z
LAST-MODIFIED:20250109T082129Z
UID:10867-1738832400-1738846800@periti-industriali.trento.it
SUMMARY:Le novità normative e tecnologiche per la decarbonizzazione degli impianti HVAC
DESCRIPTION:Il corso formativo darà diritto a 4 CFP in base al Regolamento della Formazione Continua. \n\n\n\nIscrizioni entro il 05 febbraio p.v. ore 12.00. \nPer iscrizioni clicca QUI>> 
URL:https://periti-industriali.trento.it/event/le-novita-normative-e-tecnologiche-per-la-decarbonizzazione-degli-impianti-hvac/
LOCATION:Ordine dei Periti Industriali\, Galleria Tirrena\, 10\, Trento\, 38122\, Italia
CATEGORIES:Formazione
ATTACH;FMTTYPE=image/jpeg:https://periti-industriali.trento.it/wp-content/uploads/2024/09/immagine-evento-scaled.jpg
END:VEVENT
BEGIN:VEVENT
DTSTART;TZID=Europe/Rome:20250212T084500
DTEND;TZID=Europe/Rome:20250212T123000
DTSTAMP:20260419T141244
CREATED:20241016T080325Z
LAST-MODIFIED:20250110T122327Z
UID:10300-1739349900-1739363400@periti-industriali.trento.it
SUMMARY:Trattamento acqua tecnica e pompe di calore con R290
DESCRIPTION:Il corso darà diritto a 3 CFP in base al Regolamento della Formazione Continua. \nLe adesioni sono aperte fino al 07/02/2025. \nPer le iscrizioni clicca  QUI>>
URL:https://periti-industriali.trento.it/event/trattamento-acqua-tecnica-e-pompe-di-calore-con-r290/
LOCATION:Erenetica\, Via Maffei\, 3\, Darzo\, italia
CATEGORIES:Formazione
ATTACH;FMTTYPE=image/jpeg:https://periti-industriali.trento.it/wp-content/uploads/2024/10/paradigma.jpg
END:VEVENT
BEGIN:VEVENT
DTSTART;TZID=Europe/Rome:20250220T140000
DTEND;TZID=Europe/Rome:20250220T180000
DTSTAMP:20260419T141244
CREATED:20250109T084830Z
LAST-MODIFIED:20250109T084915Z
UID:10922-1740060000-1740074400@periti-industriali.trento.it
SUMMARY:L'acustica nelle costruzioni
DESCRIPTION:Il corso formativo\, organizzato in collaborazione con Riwega\, darà diritto a 4 CFP in base al Regolamento della Formazione Continua. \nLe adesioni sono aperte fino al 18 febbraio p.v. ore 12.00. \nPer iscrizioni clicca QUI>> 
URL:https://periti-industriali.trento.it/event/10922/
LOCATION:Ordine dei Periti Industriali\, Galleria Tirrena\, 10\, Trento\, 38122\, Italia
CATEGORIES:Formazione
ATTACH;FMTTYPE=image/jpeg:https://periti-industriali.trento.it/wp-content/uploads/2025/01/immagine.jpeg
END:VEVENT
BEGIN:VEVENT
DTSTART;TZID=Europe/Rome:20250221T143000
DTEND;TZID=Europe/Rome:20250221T183000
DTSTAMP:20260419T141244
CREATED:20250217T083657Z
LAST-MODIFIED:20250217T113010Z
UID:10996-1740148200-1740162600@periti-industriali.trento.it
SUMMARY:Nuova norma CEI 64-8: impianti elettrici bassa tensione
DESCRIPTION:Il corso darà diritto a 4 CFP in base al Regolamento della Formazione Continua. \nLe adesioni sono aperte fino al 19/02/2025. \nPer le iscrizioni clicca QUI>>
URL:https://periti-industriali.trento.it/event/nuova-norma-cei-64-8-impianti-elettrici-bassa-tensione/
LOCATION:online
CATEGORIES:Formazione
ATTACH;FMTTYPE=image/png:https://periti-industriali.trento.it/wp-content/uploads/2023/01/Logo-AEIT-e1698752494783.png
ORGANIZER;CN="AEIT":MAILTO:sez.taasudtirol@aeit.it
END:VEVENT
BEGIN:VEVENT
DTSTART;TZID=Europe/Rome:20250225T090000
DTEND;TZID=Europe/Rome:20250225T130000
DTSTAMP:20260419T141244
CREATED:20250217T075020Z
LAST-MODIFIED:20250217T075020Z
UID:10991-1740474000-1740488400@periti-industriali.trento.it
SUMMARY:Norma EN ISO 45001 e implementazione di un SGSSL
DESCRIPTION:Il corso è valido ai fini dell’aggiornamento sicurezza per la figura di CSP/CSE e RSPP come previsto dal D. Lgs. 81/2008 e s.m.i. \nDarà diritto a 4 CFP in base al Regolamento della Formazione Continua. \nLe adesioni sono aperte fino al 21 febbraio p.v. ore 12.00. \nPer iscrizioni clicca QUI>>
URL:https://periti-industriali.trento.it/event/norma-en-iso-45001-e-implementazione-di-un-sgssl/
LOCATION:Ordine dei Periti Industriali\, Galleria Tirrena\, 10\, Trento\, 38122\, Italia
CATEGORIES:Formazione
ATTACH;FMTTYPE=image/png:https://periti-industriali.trento.it/wp-content/uploads/2024/03/immagine-corso-sicurezza.png
ORGANIZER;CN="ORDINE PERITI INDUSTRIALI TRENTO":MAILTO:info@periti-industriali.trento.it
END:VEVENT
END:VCALENDAR