BEGIN:VCALENDAR
VERSION:2.0
PRODID:-//Periti Industriali Trento - ECPv6.15.17//NONSGML v1.0//EN
CALSCALE:GREGORIAN
METHOD:PUBLISH
X-ORIGINAL-URL:https://periti-industriali.trento.it
X-WR-CALDESC:Eventi per Periti Industriali Trento
REFRESH-INTERVAL;VALUE=DURATION:PT1H
X-Robots-Tag:noindex
X-PUBLISHED-TTL:PT1H
BEGIN:VTIMEZONE
TZID:Europe/Rome
BEGIN:DAYLIGHT
TZOFFSETFROM:+0100
TZOFFSETTO:+0200
TZNAME:CEST
DTSTART:20180325T010000
END:DAYLIGHT
BEGIN:STANDARD
TZOFFSETFROM:+0200
TZOFFSETTO:+0100
TZNAME:CET
DTSTART:20181028T010000
END:STANDARD
BEGIN:DAYLIGHT
TZOFFSETFROM:+0100
TZOFFSETTO:+0200
TZNAME:CEST
DTSTART:20190331T010000
END:DAYLIGHT
BEGIN:STANDARD
TZOFFSETFROM:+0200
TZOFFSETTO:+0100
TZNAME:CET
DTSTART:20191027T010000
END:STANDARD
BEGIN:DAYLIGHT
TZOFFSETFROM:+0100
TZOFFSETTO:+0200
TZNAME:CEST
DTSTART:20200329T010000
END:DAYLIGHT
BEGIN:STANDARD
TZOFFSETFROM:+0200
TZOFFSETTO:+0100
TZNAME:CET
DTSTART:20201025T010000
END:STANDARD
END:VTIMEZONE
BEGIN:VEVENT
DTSTART;TZID=Europe/Rome:20190325T090000
DTEND;TZID=Europe/Rome:20190325T160000
DTSTAMP:20260424T124503
CREATED:20190306T152634Z
LAST-MODIFIED:20190318T164959Z
UID:6774-1553504400-1553529600@periti-industriali.trento.it
SUMMARY:ALIMENTAZIONE DEI VEICOLI ELETTRICI SECONDO LA NORMA CEI 64-8 SEZIONE 722
DESCRIPTION:L’evento darà diritto a 6 CFP in base al Nuovo Regolamento della Formazione Continua dei Periti Industriali.
URL:https://periti-industriali.trento.it/event/alimentazione-dei-veicoli-elettrici-secondo-la-norma-cei-64-8-sezione-722/
LOCATION:Ordine dei Periti Industriali\, Galleria Tirrena\, 10\, Trento\, 38122\, Italia
CATEGORIES:Formazione
ATTACH;FMTTYPE=image/jpeg:https://periti-industriali.trento.it/wp-content/uploads/2019/03/auto-elettrica.jpg
ORGANIZER;CN="Area Formazione Periti Industriali":MAILTO:info@areaformazioneperind.it
END:VEVENT
BEGIN:VEVENT
DTSTART;TZID=Europe/Rome:20190328T090000
DTEND;TZID=Europe/Rome:20190328T180000
DTSTAMP:20260424T124503
CREATED:20190326T142926Z
LAST-MODIFIED:20190326T142926Z
UID:6874-1553763600-1553796000@periti-industriali.trento.it
SUMMARY:Il corretto dimensionamento degli impianti alimentati da pompe da calore
DESCRIPTION:Locandina>> \nL’evento darà diritto a 11 CFP in base al Nuovo Regolamento della Formazione Continua dei Periti Industriali.
URL:https://periti-industriali.trento.it/event/il-corretto-dimensionamento-degli-impianti-alimentati-da-pompe-da-calore/
LOCATION:Ordine dei Periti Industriali\, Galleria Tirrena\, 10\, Trento\, 38122\, Italia
CATEGORIES:Formazione
ORGANIZER;CN="ORDINE PERITI INDUSTRIALI TRENTO":MAILTO:info@periti-industriali.trento.it
END:VEVENT
BEGIN:VEVENT
DTSTART;TZID=Europe/Rome:20190402T140000
DTEND;TZID=Europe/Rome:20190402T180000
DTSTAMP:20260424T124503
CREATED:20190319T093639Z
LAST-MODIFIED:20190319T093639Z
UID:6800-1554213600-1554228000@periti-industriali.trento.it
SUMMARY:Controllo attivo dell'incendio
DESCRIPTION:Il seminario di aggiornamento\, della durata di quattro ore\, è valido per il mantenimento dell’iscrizione negli elenchi del ministero dell’interno ex L.818/84. \nIl seminario darà diritto a 4 CFP in base al Nuovo Regolamento della Formazione Continua dei Periti Industriali.
URL:https://periti-industriali.trento.it/event/controllo-attivo-dellincendio/
LOCATION:Ordine dei Periti Industriali\, Galleria Tirrena\, 10\, Trento\, 38122\, Italia
CATEGORIES:Formazione
ATTACH;FMTTYPE=image/jpeg:https://periti-industriali.trento.it/wp-content/uploads/2019/03/immagine-2.jpg
ORGANIZER;CN="Area Formazione Periti Industriali":MAILTO:info@areaformazioneperind.it
END:VEVENT
BEGIN:VEVENT
DTSTART;TZID=Europe/Rome:20190404T140000
DTEND;TZID=Europe/Rome:20190404T163000
DTSTAMP:20260424T124503
CREATED:20190401T143204Z
LAST-MODIFIED:20190401T143204Z
UID:6899-1554386400-1554395400@periti-industriali.trento.it
SUMMARY:LA DEMOLIZIONE CHE CREA VALORE Casi e policy
DESCRIPTION:L’evento darà diritto a 3 CFP in base al Nuovo Regolamento della Formazione Continua dei Periti Industriali.
URL:https://periti-industriali.trento.it/event/la-demolizione-che-crea-valore-casi-e-policy/
LOCATION:Centro Congressi Riva del Garda\, Riva del Garda
CATEGORIES:Formazione
ATTACH;FMTTYPE=image/jpeg:https://periti-industriali.trento.it/wp-content/uploads/2016/06/rebuild.jpg
ORGANIZER;CN="Rebuild srl":MAILTO:welcome@rebuilditalia.it
END:VEVENT
BEGIN:VEVENT
DTSTART;TZID=Europe/Rome:20190404T140000
DTEND;TZID=Europe/Rome:20190404T180000
DTSTAMP:20260424T124503
CREATED:20190329T115926Z
LAST-MODIFIED:20190329T115926Z
UID:6882-1554386400-1554400800@periti-industriali.trento.it
SUMMARY:CYBERSECURITY 0X01 Concetti base e trucchi del mestiere
DESCRIPTION:L’evento darà diritto a 4 CFP in base al Nuovo Regolamento della Formazione Continua dei Periti Industriali.
URL:https://periti-industriali.trento.it/event/cybersecurity-0x01-concetti-base-e-trucchi-del-mestiere/
LOCATION:Ordine dei Periti Industriali\, Galleria Tirrena\, 10\, Trento\, 38122\, Italia
CATEGORIES:Formazione
ORGANIZER;CN="Area Formazione Periti Industriali":MAILTO:info@areaformazioneperind.it
END:VEVENT
BEGIN:VEVENT
DTSTART;TZID=Europe/Rome:20190405T090000
DTEND;TZID=Europe/Rome:20190405T130000
DTSTAMP:20260424T124503
CREATED:20190312T111416Z
LAST-MODIFIED:20190325T162152Z
UID:6786-1554454800-1554469200@periti-industriali.trento.it
SUMMARY:L'evoluzione del controllo accessi e sicurezza per edifici pubblici e privati 2019
DESCRIPTION:Programma>> \nRegistrazione obbligatoria ad esaurimento posti. \nL’evento darà diritto a 4 CFP in base al Regolamento della Formazione Continua. \n 
URL:https://periti-industriali.trento.it/event/levoluzione-del-controllo-accessi-e-sicurezza-per-edifici-pubblici-e-privati-2019/
LOCATION:Ordine dei Periti Industriali\, Galleria Tirrena\, 10\, Trento\, 38122\, Italia
CATEGORIES:Formazione
ATTACH;FMTTYPE=image/jpeg:https://periti-industriali.trento.it/wp-content/uploads/2019/03/immagine-1.jpg
ORGANIZER;CN="ORDINE PERITI INDUSTRIALI TRENTO":MAILTO:info@periti-industriali.trento.it
END:VEVENT
BEGIN:VEVENT
DTSTART;TZID=Europe/Rome:20190408T140000
DTEND;TZID=Europe/Rome:20190408T180000
DTSTAMP:20260424T124503
CREATED:20190328T095201Z
LAST-MODIFIED:20190328T095201Z
UID:6878-1554732000-1554746400@periti-industriali.trento.it
SUMMARY:Analisi del rischio da arc flash
DESCRIPTION:Locandina>> \nL’evento darà diritto a 4 CFP in base al Nuovo Regolamento della Formazione Continua dei Periti Industriali.
URL:https://periti-industriali.trento.it/event/analisi-del-rischio-da-arc-flash/
LOCATION:Ordine dei Periti Industriali\, Galleria Tirrena\, 10\, Trento\, 38122\, Italia
CATEGORIES:Formazione
ATTACH;FMTTYPE=image/jpeg:https://periti-industriali.trento.it/wp-content/uploads/2017/02/atiqual.jpg
ORGANIZER;CN="Atiqual":MAILTO:info@unaetrentino.it
END:VEVENT
BEGIN:VEVENT
DTSTART;TZID=Europe/Rome:20190411T140000
DTEND;TZID=Europe/Rome:20190411T180000
DTSTAMP:20260424T124503
CREATED:20190329T120025Z
LAST-MODIFIED:20190329T120025Z
UID:6884-1554991200-1555005600@periti-industriali.trento.it
SUMMARY:CYBERSECURITY 0X02 Approccio enterprise e concetti più avanzati
DESCRIPTION:L’evento darà diritto a 4 CFP in base al Nuovo Regolamento della Formazione Continua dei Periti Industriali.
URL:https://periti-industriali.trento.it/event/cybersecurity-0x02-approccio-enterprise-e-concetti-piu-avanzati/
LOCATION:Ordine dei Periti Industriali\, Galleria Tirrena\, 10\, Trento\, 38122\, Italia
CATEGORIES:Formazione
ORGANIZER;CN="Area Formazione Periti Industriali":MAILTO:info@areaformazioneperind.it
END:VEVENT
BEGIN:VEVENT
DTSTART;TZID=Europe/Rome:20190412T090000
DTEND;TZID=Europe/Rome:20190412T130000
DTSTAMP:20260424T124503
CREATED:20190329T120148Z
LAST-MODIFIED:20190329T120148Z
UID:6886-1555059600-1555074000@periti-industriali.trento.it
SUMMARY:NUOVA CEI 64/8 VARIANTE 5 Protezione degli impianti tecnologici dalle sovratensioni elettriche e dagli incendi
DESCRIPTION:L’evento darà diritto a 4 CFP in base al Nuovo Regolamento della Formazione Continua dei Periti Industriali.
URL:https://periti-industriali.trento.it/event/nuova-cei-648-variante-5-protezione-degli-impianti-tecnologici-dalle-sovratensioni-elettriche-e-dagli-incendi/
LOCATION:Ordine dei Periti Industriali\, Galleria Tirrena\, 10\, Trento\, 38122\, Italia
CATEGORIES:Formazione
ORGANIZER;CN="Area Formazione Periti Industriali":MAILTO:info@areaformazioneperind.it
END:VEVENT
BEGIN:VEVENT
DTSTART;TZID=Europe/Rome:20190415T140000
DTEND;TZID=Europe/Rome:20190415T180000
DTSTAMP:20260424T124503
CREATED:20190329T120342Z
LAST-MODIFIED:20190415T110535Z
UID:6888-1555336800-1555351200@periti-industriali.trento.it
SUMMARY:LA PRATICA NELLA GESTIONE DI PORTE TAGLIAFUOCO E VIE DI ESODO. Chiusure tagliafuoco interne ed esterne. Tende tagliafuoco.
DESCRIPTION:IL CORSO E’ STATO ANNULLATO IN QUANTO NON SI E’ RAGGIUNTO IL NUMERO MINIMO DI ATTIVAZIONE.\nIl seminario di aggiornamento\, della durata di quattro ore\, è valido per il mantenimento dell’iscrizione negli elenchi del ministero dell’interno ex L.818/84. \nL’evento darà diritto a 4 CFP in base al Nuovo Regolamento della Formazione Continua dei Periti Industriali.
URL:https://periti-industriali.trento.it/event/la-pratica-nella-gestione-di-porte-tagliafuoco-e-vie-di-esodo-chiusure-tagliafuoco-interne-ed-esterne-tende-tagliafuoco/
LOCATION:Ordine dei Periti Industriali\, Galleria Tirrena\, 10\, Trento\, 38122\, Italia
CATEGORIES:Formazione
ATTACH;FMTTYPE=image/gif:https://periti-industriali.trento.it/wp-content/uploads/2019/03/immagine.gif
ORGANIZER;CN="Area Formazione Periti Industriali":MAILTO:info@areaformazioneperind.it
END:VEVENT
BEGIN:VEVENT
DTSTART;TZID=Europe/Rome:20190416T140000
DTEND;TZID=Europe/Rome:20190416T180000
DTSTAMP:20260424T124503
CREATED:20190329T120507Z
LAST-MODIFIED:20190416T082619Z
UID:6891-1555423200-1555437600@periti-industriali.trento.it
SUMMARY:CREDITI EDILIZI\, QUESTI SCONOSCIUTI. NUOVE OPPORTUNITA’
DESCRIPTION:IL CORSO E’ STATO ANNULLATO IN QUANTO NON SI E’ RAGGIUNTO IL NUMERO MINIMO DI ATTIVAZIONE.\nL’evento darà diritto a 4 CFP in base al Nuovo Regolamento della Formazione Continua dei Periti Industriali.
URL:https://periti-industriali.trento.it/event/crediti-edilizi-questi-sconosciuti-nuove-opportunita/
LOCATION:Ordine dei Periti Industriali\, Galleria Tirrena\, 10\, Trento\, 38122\, Italia
CATEGORIES:Formazione
ORGANIZER;CN="Area Formazione Periti Industriali":MAILTO:info@areaformazioneperind.it
END:VEVENT
BEGIN:VEVENT
DTSTART;TZID=Europe/Rome:20190417T140000
DTEND;TZID=Europe/Rome:20190417T180000
DTSTAMP:20260424T124503
CREATED:20190329T120617Z
LAST-MODIFIED:20190329T120744Z
UID:6893-1555509600-1555524000@periti-industriali.trento.it
SUMMARY:IL CANTIERE STRADALE
DESCRIPTION:Il seminario è valido per l’aggiornamento CSP/CSE D.Lgs. 81/08. \nL’evento darà diritto a 7 CFP in base al Nuovo Regolamento della Formazione Continua dei Periti Industriali.
URL:https://periti-industriali.trento.it/event/il-cantiere-stradale/
LOCATION:Ordine dei Periti Industriali\, Galleria Tirrena\, 10\, Trento\, 38122\, Italia
CATEGORIES:Formazione
ATTACH;FMTTYPE=image/png:https://periti-industriali.trento.it/wp-content/uploads/2019/03/immagine-2.png
ORGANIZER;CN="Area Formazione Periti Industriali":MAILTO:info@areaformazioneperind.it
END:VEVENT
BEGIN:VEVENT
DTSTART;TZID=Europe/Rome:20190507T140000
DTEND;TZID=Europe/Rome:20190507T180000
DTSTAMP:20260424T124503
CREATED:20190306T153435Z
LAST-MODIFIED:20190320T130446Z
UID:6777-1557237600-1557252000@periti-industriali.trento.it
SUMMARY:I LAVORI AGRICOLI
DESCRIPTION:L’evento è valido per l’aggiornamento di RSPP D.Lgs 81/08. \nL’evento darà diritto a 7 CFP in base al Nuovo Regolamento della Formazione Continua dei Periti Industriali.
URL:https://periti-industriali.trento.it/event/i-lavori-agricoli/
LOCATION:Ordine dei Periti Industriali\, Galleria Tirrena\, 10\, Trento\, 38122\, Italia
CATEGORIES:Formazione
ATTACH;FMTTYPE=image/jpeg:https://periti-industriali.trento.it/wp-content/uploads/2019/03/macchine-agricole-patenti.jpg
ORGANIZER;CN="Area Formazione Periti Industriali":MAILTO:info@areaformazioneperind.it
END:VEVENT
BEGIN:VEVENT
DTSTART;TZID=Europe/Rome:20190509T100000
DTEND;TZID=Europe/Rome:20190509T130000
DTSTAMP:20260424T124503
CREATED:20190416T084303Z
LAST-MODIFIED:20190416T084813Z
UID:6917-1557396000-1557406800@periti-industriali.trento.it
SUMMARY:Lo sportello telematico dell'edilizia privata del Comune di Arco
DESCRIPTION:Locandina>> \nL’evento darà diritto a 3 CFP in base al Nuovo Regolamento della Formazione Continua dei Periti Industriali.
URL:https://periti-industriali.trento.it/event/lo-sportello-telematico-delledilizia-privata-del-comune-di-arco/
LOCATION:Casinò di Arco\, Viale Magnolie\, 9\, Arco\, Italia\, 38062\, Italia
CATEGORIES:Formazione
END:VEVENT
BEGIN:VEVENT
DTSTART;TZID=Europe/Rome:20190510T093000
DTEND;TZID=Europe/Rome:20190510T133000
DTSTAMP:20260424T124503
CREATED:20190513T090105Z
LAST-MODIFIED:20190513T090105Z
UID:7147-1557480600-1557495000@periti-industriali.trento.it
SUMMARY:BUILDING REVOLUTION - Connettività a banda ultra larga e nuove applicazioni per la casa digitale
DESCRIPTION:Locandina>> \nL’evento darà diritto a 4 CFP in base al Nuovo Regolamento della Formazione Continua dei Periti Industriali.
URL:https://periti-industriali.trento.it/event/building-revolution-connettivita-a-banda-ultra-larga-e-nuove-applicazioni-per-la-casa-digitale/
LOCATION:Confindustria Trento\, Via Alcide Degasperi\, 77\, Trento
CATEGORIES:Formazione
END:VEVENT
BEGIN:VEVENT
DTSTART;TZID=Europe/Rome:20190514T143000
DTEND;TZID=Europe/Rome:20190514T183000
DTSTAMP:20260424T124503
CREATED:20190429T130905Z
LAST-MODIFIED:20190430T100932Z
UID:6931-1557844200-1557858600@periti-industriali.trento.it
SUMMARY:Partecipevolmente. Per conoscere tutte le sfumature della comunicazione.
DESCRIPTION:Locandina>> \nIl corso darà diritto a 12 CFP in base al Nuovo Regolamento della Formazione Continua dei Periti Industriali.
URL:https://periti-industriali.trento.it/event/partecipevolmente-per-conoscere-tutte-le-sfumature-della-comunicazione/
LOCATION:Palazzo Thun\, Via Belenzani\, 19\, Trento\, 38122\, Italia
CATEGORIES:Formazione
END:VEVENT
BEGIN:VEVENT
DTSTART;TZID=Europe/Rome:20190516T083000
DTEND;TZID=Europe/Rome:20190516T163000
DTSTAMP:20260424T124503
CREATED:20190429T134130Z
LAST-MODIFIED:20190429T134130Z
UID:6938-1557995400-1558024200@periti-industriali.trento.it
SUMMARY:DM 37/08: Dubbi & Quesiti
DESCRIPTION:Locandina>> \nIl corso darà diritto a 7 CFP in base al Nuovo Regolamento della Formazione Continua dei Periti Industriali.
URL:https://periti-industriali.trento.it/event/dm-3708-dubbi-quesiti/
LOCATION:Fondazione FBK\, Via Sommarive\, 18 - POVO\, Trento
CATEGORIES:Formazione
ATTACH;FMTTYPE=image/jpeg:https://periti-industriali.trento.it/wp-content/uploads/2017/02/atiqual.jpg
ORGANIZER;CN="Atiqual":MAILTO:info@unaetrentino.it
END:VEVENT
BEGIN:VEVENT
DTSTART;TZID=Europe/Rome:20190517T133000
DTEND;TZID=Europe/Rome:20190517T193000
DTSTAMP:20260424T124503
CREATED:20190513T130208Z
LAST-MODIFIED:20190513T130208Z
UID:7155-1558099800-1558121400@periti-industriali.trento.it
SUMMARY:Strutture e impianti. Ricerche e soluzioni per il comfort
DESCRIPTION:Locandina>> \nIl corso darà diritto a 6 CFP in base al Nuovo Regolamento della Formazione Continua dei Periti Industriali.
URL:https://periti-industriali.trento.it/event/strutture-e-impianti-ricerche-e-soluzioni-per-il-comfort/
LOCATION:Grand Hotel Trento\, Piazza Dante\, 20\, Trento\, 38122
CATEGORIES:Formazione
ORGANIZER;CN="Action Group":MAILTO:convegni@actiongroupeditore.com
END:VEVENT
BEGIN:VEVENT
DTSTART;TZID=Europe/Rome:20190522T093000
DTEND;TZID=Europe/Rome:20190522T123000
DTSTAMP:20260424T124503
CREATED:20190513T131759Z
LAST-MODIFIED:20190513T132900Z
UID:7159-1558517400-1558528200@periti-industriali.trento.it
SUMMARY:Introduzione ai Green Building
DESCRIPTION:L’evento darà diritto a 4 CFP in base al Nuovo Regolamento della Formazione Continua dei Periti Industriali.
URL:https://periti-industriali.trento.it/event/introduzione-ai-green-biulding/
CATEGORIES:Formazione
END:VEVENT
BEGIN:VEVENT
DTSTART;TZID=Europe/Rome:20190530T090000
DTEND;TZID=Europe/Rome:20190530T190000
DTSTAMP:20260424T124503
CREATED:20190513T132134Z
LAST-MODIFIED:20190513T132134Z
UID:7162-1559206800-1559242800@periti-industriali.trento.it
SUMMARY:Corso base Arca
DESCRIPTION:Il corso darà diritto a 18 CFP in base al Nuovo Regolamento della Formazione Continua dei Periti Industriali.
URL:https://periti-industriali.trento.it/event/corso-base-arca/
CATEGORIES:Formazione
END:VEVENT
BEGIN:VEVENT
DTSTART;TZID=Europe/Rome:20190530T140000
DTEND;TZID=Europe/Rome:20190530T173000
DTSTAMP:20260424T124503
CREATED:20190430T131653Z
LAST-MODIFIED:20190430T132442Z
UID:6944-1559224800-1559237400@periti-industriali.trento.it
SUMMARY:Quale futuro per l'efficienza energetica negli edifici/impianti. Il rischio legionella: soluzioni tecniche.
DESCRIPTION:Locandina>> \nRegistrazione obbligatoria ad esaurimento posti. \nL’evento darà diritto a 3 CFP in base al Regolamento della Formazione Continua.
URL:https://periti-industriali.trento.it/event/6944/
LOCATION:Ordine dei Periti Industriali\, Galleria Tirrena\, 10\, Trento\, 38122\, Italia
CATEGORIES:Formazione
ATTACH;FMTTYPE=image/png:https://periti-industriali.trento.it/wp-content/uploads/2019/04/Immagine-2.png
ORGANIZER;CN="ORDINE PERITI INDUSTRIALI TRENTO":MAILTO:info@periti-industriali.trento.it
END:VEVENT
BEGIN:VEVENT
DTSTART;TZID=Europe/Rome:20190531T140000
DTEND;TZID=Europe/Rome:20190531T180000
DTSTAMP:20260424T124503
CREATED:20190306T153632Z
LAST-MODIFIED:20190417T140626Z
UID:6780-1559311200-1559325600@periti-industriali.trento.it
SUMMARY:URBANISTICA\, EDILIZIA E DIRITTO PRIVATO: IL TITOLO IDONEO
DESCRIPTION:L’evento darà diritto a 4 CFP in base al Nuovo Regolamento della Formazione Continua dei Periti Industriali.
URL:https://periti-industriali.trento.it/event/urbanistica-edilizia-e-diritto-privato-il-titolo-idoneo/
LOCATION:Ordine dei Periti Industriali\, Galleria Tirrena\, 10\, Trento\, 38122\, Italia
CATEGORIES:Formazione
ATTACH;FMTTYPE=image/jpeg:https://periti-industriali.trento.it/wp-content/uploads/2017/03/Immagine-1.jpg
ORGANIZER;CN="Area Formazione Periti Industriali":MAILTO:info@areaformazioneperind.it
END:VEVENT
BEGIN:VEVENT
DTSTART;TZID=Europe/Rome:20190531T140000
DTEND;TZID=Europe/Rome:20190531T183000
DTSTAMP:20260424T124503
CREATED:20190523T110651Z
LAST-MODIFIED:20190523T111043Z
UID:7208-1559311200-1559327400@periti-industriali.trento.it
SUMMARY:La Cyber security nel settore energetico e nei servizi pubblici
DESCRIPTION:locandina>> \niscrizioni >> \nL’evento darà diritto a 4 CFP in base al Nuovo Regolamento della Formazione Continua dei Periti Industriali.
URL:https://periti-industriali.trento.it/event/la-cyber-security-nel-settore-energetico-e-nei-servizi-pubblici/
LOCATION:Università degli Studi di Trento\, Via Mesiano\, 77\, Trento\, 38122\, Italia
CATEGORIES:Formazione
ATTACH;FMTTYPE=image/jpeg:https://periti-industriali.trento.it/wp-content/uploads/2019/05/logo.jpg
ORGANIZER;CN="AEIT":MAILTO:sez.taasudtirol@aeit.it
END:VEVENT
BEGIN:VEVENT
DTSTART;TZID=Europe/Rome:20190604T093000
DTEND;TZID=Europe/Rome:20190604T173000
DTSTAMP:20260424T124503
CREATED:20190513T132605Z
LAST-MODIFIED:20190513T132636Z
UID:7164-1559640600-1559669400@periti-industriali.trento.it
SUMMARY:Corso in preparazione all'esame di LEED Green Associate
DESCRIPTION:Il corso darà diritto a 14 CFP in base al Nuovo Regolamento della Formazione Continua dei Periti Industriali.
URL:https://periti-industriali.trento.it/event/corso-in-preparazione-allesame-di-leed-green-associate/
CATEGORIES:Formazione
END:VEVENT
BEGIN:VEVENT
DTSTART;TZID=Europe/Rome:20190605T090000
DTEND;TZID=Europe/Rome:20190605T180000
DTSTAMP:20260424T124503
CREATED:20190513T132737Z
LAST-MODIFIED:20190513T132737Z
UID:7168-1559725200-1559757600@periti-industriali.trento.it
SUMMARY:Laboratori di innovazione verde
DESCRIPTION:Il corso darà diritto a 20 CFP in base al Nuovo Regolamento della Formazione Continua dei Periti Industria
URL:https://periti-industriali.trento.it/event/laboratori-di-innovazione-verde/
CATEGORIES:Formazione
END:VEVENT
BEGIN:VEVENT
DTSTART;TZID=Europe/Rome:20190611T090000
DTEND;TZID=Europe/Rome:20190611T180000
DTSTAMP:20260424T124503
CREATED:20190522T073648Z
LAST-MODIFIED:20190522T074820Z
UID:7193-1560243600-1560276000@periti-industriali.trento.it
SUMMARY:La nuova norma EN 12927 - Safety requirements for cableway installations designed to carry persons - ropes
DESCRIPTION:Seminario per la formazione specialistica dedicato alla nuova norma EN 12927 e ai requisiti di sicurezza per le installazioni funiviarie adibite al trasporto di persone e merci. \nL’evento darà diritto a 4 + 4 CFP in base al nuovo regolamento della formazione continua in vigore. \nLe iscrizioni dovranno essere fatte direttamente a Trentino Sviluppo tassativamente entro il 5/6/2019 \niscrizioni>>>
URL:https://periti-industriali.trento.it/event/la-nuova-norma-en-12927-safety-requirements-for-cableway-installations-designed-to-carry-persons-ropes/
LOCATION:Trentino Sviluppo\, Via Zeni\, 8\, Rovereto\, 38068\, Italia
CATEGORIES:Formazione
ATTACH;FMTTYPE=image/jpeg:https://periti-industriali.trento.it/wp-content/uploads/2019/05/immagine.jpg
END:VEVENT
BEGIN:VEVENT
DTSTART;TZID=Europe/Rome:20190612T080000
DTEND;TZID=Europe/Rome:20190612T170000
DTSTAMP:20260424T124503
CREATED:20190527T073527Z
LAST-MODIFIED:20190527T073628Z
UID:7220-1560326400-1560358800@periti-industriali.trento.it
SUMMARY:ILLUMINOTRONICA. Sistemi evoluti e connessi
DESCRIPTION:Locandina>> \nL’evento darà diritto a 3 CFP in base al Nuovo Regolamento della Formazione Continua dei Periti Industriali.
URL:https://periti-industriali.trento.it/event/illuminotronica-sistemi-evoluti-e-connessi/
LOCATION:cantine Rotari\, Mezzocorona\, 38016\, Italia
CATEGORIES:Formazione
ATTACH;FMTTYPE=image/jpeg:https://periti-industriali.trento.it/wp-content/uploads/2017/02/atiqual.jpg
ORGANIZER;CN="Atiqual":MAILTO:info@unaetrentino.it
END:VEVENT
BEGIN:VEVENT
DTSTART;TZID=Europe/Rome:20190613T143000
DTEND;TZID=Europe/Rome:20190613T183000
DTSTAMP:20260424T124503
CREATED:20190514T074105Z
LAST-MODIFIED:20190514T074105Z
UID:7171-1560436200-1560450600@periti-industriali.trento.it
SUMMARY:La progettazione sottile: impianti radianti\, isolamento acustico e massetto a basso spessore
DESCRIPTION:Locandina>> \nL’evento darà diritto a 4 CFP in base al Nuovo Regolamento della Formazione Continua dei Periti Industriali.
URL:https://periti-industriali.trento.it/event/la-progettazione-sottile-impianti-radianti-isolamento-acustico-e-massetto-a-basso-spessore/
LOCATION:MUSE\, Corso del Lavoro e della Scienza\, 3\, Trento\, 38122\, Italia
CATEGORIES:Formazione
END:VEVENT
BEGIN:VEVENT
DTSTART;TZID=Europe/Rome:20190619T140000
DTEND;TZID=Europe/Rome:20190619T180000
DTSTAMP:20260424T124503
CREATED:20190522T094710Z
LAST-MODIFIED:20190522T102340Z
UID:7199-1560952800-1560967200@periti-industriali.trento.it
SUMMARY:Il trattamento dell'acqua negli impianti termosanitari
DESCRIPTION:Il convegno tecnico organizzato da PINECO SRL e l’Ordine dei Periti Industriali della Provincia di Trento\, darà diritto a 4 CFP in base al nuovo regolamento della formazione continua dei Periti Industriali \nISCRIVITI>>>
URL:https://periti-industriali.trento.it/event/il-trattamento-dellacqua-negli-impianti-termosanitari/
LOCATION:TRENTO\, galleria tirrena\, 10\, trento\, Trento\, 38122\, Italia
CATEGORIES:Formazione
ATTACH;FMTTYPE=image/jpeg:https://periti-industriali.trento.it/wp-content/uploads/2019/05/Immagine.jpg
END:VEVENT
BEGIN:VEVENT
DTSTART;TZID=Europe/Rome:20190918T133000
DTEND;TZID=Europe/Rome:20190918T183000
DTSTAMP:20260424T124503
CREATED:20190902T081503Z
LAST-MODIFIED:20190902T081832Z
UID:7321-1568813400-1568831400@periti-industriali.trento.it
SUMMARY:Igiene dell'acqua e prevenzione legionella
DESCRIPTION:Innerhofer spa\, organizza in convenzione con l’Ordine dei Periti Industriali\, un seminario di aggiornamento dal titolo “Igiene dell’acqua e prevenzione legionella” per mercoledì’ 18 SETTEMBRE 2019 a partire dalle ore 13\,30 presso la sala della sede di Trento Via Maccani\, 181. \nPosti limitati. le iscrizioni tramite il portale Innerhofer inserendo le credenziali inserite nella locandina. \nil seminario darà diritto a 4 CFP in base al nuovo regolamento della formazione continua. \nLOCANDINA>>>
URL:https://periti-industriali.trento.it/event/igiene-dellacqua-e-prevenzione-legionella/
LOCATION:E. Innerhofer Spa\, Via Maccani\, 181\, Trento\, 38121\, Italia
CATEGORIES:Formazione
ATTACH;FMTTYPE=image/jpeg:https://periti-industriali.trento.it/wp-content/uploads/2019/09/IMMAGINE-HINNEROFER.jpg
END:VEVENT
END:VCALENDAR