BEGIN:VCALENDAR
VERSION:2.0
PRODID:-//Periti Industriali Trento - ECPv6.15.17//NONSGML v1.0//EN
CALSCALE:GREGORIAN
METHOD:PUBLISH
X-WR-CALNAME:Periti Industriali Trento
X-ORIGINAL-URL:https://periti-industriali.trento.it
X-WR-CALDESC:Eventi per Periti Industriali Trento
REFRESH-INTERVAL;VALUE=DURATION:PT1H
X-Robots-Tag:noindex
X-PUBLISHED-TTL:PT1H
BEGIN:VTIMEZONE
TZID:Europe/Rome
BEGIN:DAYLIGHT
TZOFFSETFROM:+0100
TZOFFSETTO:+0200
TZNAME:CEST
DTSTART:20180325T010000
END:DAYLIGHT
BEGIN:STANDARD
TZOFFSETFROM:+0200
TZOFFSETTO:+0100
TZNAME:CET
DTSTART:20181028T010000
END:STANDARD
BEGIN:DAYLIGHT
TZOFFSETFROM:+0100
TZOFFSETTO:+0200
TZNAME:CEST
DTSTART:20190331T010000
END:DAYLIGHT
BEGIN:STANDARD
TZOFFSETFROM:+0200
TZOFFSETTO:+0100
TZNAME:CET
DTSTART:20191027T010000
END:STANDARD
BEGIN:DAYLIGHT
TZOFFSETFROM:+0100
TZOFFSETTO:+0200
TZNAME:CEST
DTSTART:20200329T010000
END:DAYLIGHT
BEGIN:STANDARD
TZOFFSETFROM:+0200
TZOFFSETTO:+0100
TZNAME:CET
DTSTART:20201025T010000
END:STANDARD
END:VTIMEZONE
BEGIN:VEVENT
DTSTART;TZID=Europe/Rome:20191029T090000
DTEND;TZID=Europe/Rome:20191029T130000
DTSTAMP:20260423T210414
CREATED:20191022T081749Z
LAST-MODIFIED:20191022T082027Z
UID:7418-1572339600-1572354000@periti-industriali.trento.it
SUMMARY:La tempesta Vaia in Trentino\, un anno dopo
DESCRIPTION:Locandina>> \nL’evento darà diritto a 4 CFP in base al Regolamento della Formazione Continua. \nInvia la Tua iscrizione scrivendo a iscrizione-corsi@geologitrentinoaltoadige.it  indicando nella richiesta nome\, cognome\, ordine di appartenenza\, codice fiscale e numero di iscrizione.
URL:https://periti-industriali.trento.it/event/la-tempesta-vaia-in-trentino-un-anno-dopo/
LOCATION:Sala conferenze – MUSE\, Trento\, 38122\, Italia
CATEGORIES:Formazione
ATTACH;FMTTYPE=image/jpeg:https://periti-industriali.trento.it/wp-content/uploads/2019/10/vaia.jpg
ORGANIZER;CN="ORDINE PERITI INDUSTRIALI TRENTO":MAILTO:info@periti-industriali.trento.it
END:VEVENT
END:VCALENDAR