BEGIN:VCALENDAR
VERSION:2.0
PRODID:-//Periti Industriali Trento - ECPv6.15.17//NONSGML v1.0//EN
CALSCALE:GREGORIAN
METHOD:PUBLISH
X-WR-CALNAME:Periti Industriali Trento
X-ORIGINAL-URL:https://periti-industriali.trento.it
X-WR-CALDESC:Eventi per Periti Industriali Trento
REFRESH-INTERVAL;VALUE=DURATION:PT1H
X-Robots-Tag:noindex
X-PUBLISHED-TTL:PT1H
BEGIN:VTIMEZONE
TZID:UTC
BEGIN:STANDARD
TZOFFSETFROM:+0000
TZOFFSETTO:+0000
TZNAME:UTC
DTSTART:20210101T000000
END:STANDARD
END:VTIMEZONE
BEGIN:VEVENT
DTSTART;TZID=UTC:20220609T143000
DTEND;TZID=UTC:20220609T173000
DTSTAMP:20260421T202249
CREATED:20220527T101601Z
LAST-MODIFIED:20220527T101746Z
UID:8875-1654785000-1654795800@periti-industriali.trento.it
SUMMARY:Impianti fotovoltaici e Superbonus 110%\, dalla semplice autoproduzione al soccorso elettrico di emergenza
DESCRIPTION:Locandina>> \nIl corso darà diritto a 3 CFP in base al Regolamento della Formazione Continua. \n 
URL:https://periti-industriali.trento.it/event/impianti-fotovoltaici-e-superbonus-110-dalla-semplice-autoproduzione-al-soccorso-elettrico-di-emergenza/
LOCATION:on-line
CATEGORIES:Formazione
ATTACH;FMTTYPE=image/png:https://periti-industriali.trento.it/wp-content/uploads/2022/05/LOGO-LEDIT.png
END:VEVENT
END:VCALENDAR