BEGIN:VCALENDAR
VERSION:2.0
PRODID:-//Periti Industriali Trento - ECPv6.15.17//NONSGML v1.0//EN
CALSCALE:GREGORIAN
METHOD:PUBLISH
X-ORIGINAL-URL:https://periti-industriali.trento.it
X-WR-CALDESC:Eventi per Periti Industriali Trento
REFRESH-INTERVAL;VALUE=DURATION:PT1H
X-Robots-Tag:noindex
X-PUBLISHED-TTL:PT1H
BEGIN:VTIMEZONE
TZID:UTC
BEGIN:STANDARD
TZOFFSETFROM:+0000
TZOFFSETTO:+0000
TZNAME:UTC
DTSTART:20210101T000000
END:STANDARD
END:VTIMEZONE
BEGIN:VEVENT
DTSTART;TZID=UTC:20221028T090000
DTEND;TZID=UTC:20221028T160000
DTSTAMP:20260421T145523
CREATED:20221011T103250Z
LAST-MODIFIED:20221013T084357Z
UID:8952-1666947600-1666972800@periti-industriali.trento.it
SUMMARY:CORSO AGGIORNAMENTO PER CSP/CSE e RSPP
DESCRIPTION:Il corso darà diritto a 6 CFP + 3 CFP test finale\, in base al Regolamento della Formazione Continua. \nIN PRESENZA\, presso la Sede dell’Ordine. \nPertanto\, qualora fossi interessato ti invitiamo a provvedere all’iscrizione al corso entro e non oltre mercoledì 26/10/2022. \n 
URL:https://periti-industriali.trento.it/event/corso-aggiornamento-per-coordinatore-per-la-progettazione-e-coordinatore-per-lesecuzione-dei-lavori-e-rspp-d-lgs-81-2008-e-s-m-i-titolo-iv-6-ore-conforme-a/
LOCATION:Ordine dei Periti Industriali\, Galleria Tirrena\, 10\, Trento\, 38122\, Italia
CATEGORIES:Formazione
ATTACH;FMTTYPE=image/png:https://periti-industriali.trento.it/wp-content/uploads/2019/03/immagine-2.png
ORGANIZER;CN="ORDINE PERITI INDUSTRIALI TRENTO":MAILTO:info@periti-industriali.trento.it
END:VEVENT
END:VCALENDAR