BEGIN:VCALENDAR
VERSION:2.0
PRODID:-//Periti Industriali Trento - ECPv6.15.17//NONSGML v1.0//EN
CALSCALE:GREGORIAN
METHOD:PUBLISH
X-ORIGINAL-URL:https://periti-industriali.trento.it
X-WR-CALDESC:Eventi per Periti Industriali Trento
REFRESH-INTERVAL;VALUE=DURATION:PT1H
X-Robots-Tag:noindex
X-PUBLISHED-TTL:PT1H
BEGIN:VTIMEZONE
TZID:UTC
BEGIN:STANDARD
TZOFFSETFROM:+0000
TZOFFSETTO:+0000
TZNAME:UTC
DTSTART:20210101T000000
END:STANDARD
END:VTIMEZONE
BEGIN:VEVENT
DTSTART;TZID=UTC:20221122T100000
DTEND;TZID=UTC:20221122T120000
DTSTAMP:20260421T132811
CREATED:20221004T095643Z
LAST-MODIFIED:20221018T095312Z
UID:8946-1669111200-1669118400@periti-industriali.trento.it
SUMMARY:Introduzione alla nuova edizione UNI EN 12464-1:2021
DESCRIPTION:Il webinar darà diritto a 4 CFP in base al Regolamento della Formazione Continua. \nLOCANDINA>>
URL:https://periti-industriali.trento.it/event/introduzione-alla-nuova-edizione-uni-en-12464-12021/
LOCATION:on-line
CATEGORIES:Formazione
ATTACH;FMTTYPE=image/png:https://periti-industriali.trento.it/wp-content/uploads/2022/10/XAL-e1664877336487.png
END:VEVENT
END:VCALENDAR