BEGIN:VCALENDAR
VERSION:2.0
PRODID:-//Periti Industriali Trento - ECPv6.15.17//NONSGML v1.0//EN
CALSCALE:GREGORIAN
METHOD:PUBLISH
X-ORIGINAL-URL:https://periti-industriali.trento.it
X-WR-CALDESC:Eventi per Periti Industriali Trento
REFRESH-INTERVAL;VALUE=DURATION:PT1H
X-Robots-Tag:noindex
X-PUBLISHED-TTL:PT1H
BEGIN:VTIMEZONE
TZID:UTC
BEGIN:STANDARD
TZOFFSETFROM:+0000
TZOFFSETTO:+0000
TZNAME:UTC
DTSTART:20220101T000000
END:STANDARD
END:VTIMEZONE
BEGIN:VEVENT
DTSTART;TZID=UTC:20230629T090000
DTEND;TZID=UTC:20230629T130000
DTSTAMP:20260421T014740
CREATED:20230526T113710Z
LAST-MODIFIED:20230612T113438Z
UID:9401-1688029200-1688043600@periti-industriali.trento.it
SUMMARY:Requisiti acustici passivi degli edifici.
DESCRIPTION:Il corso si terrà presso la sede dell’Ordine e darà diritto a 7 CFP in base al Regolamento della Formazione Continua. \nIscrizioni entro martedì 27 giugno. \n  \n  \n 
URL:https://periti-industriali.trento.it/event/corso-in-acustica-edile/
LOCATION:Ordine dei Periti Industriali\, Galleria Tirrena\, 10\, Trento\, 38122\, Italia
CATEGORIES:Formazione
ATTACH;FMTTYPE=image/jpeg:https://periti-industriali.trento.it/wp-content/uploads/2023/05/Applicazioni-di-acustica.jpg
ORGANIZER;CN="ORDINE PERITI INDUSTRIALI TRENTO":MAILTO:info@periti-industriali.trento.it
END:VEVENT
END:VCALENDAR