BEGIN:VCALENDAR
VERSION:2.0
PRODID:-//Periti Industriali Trento - ECPv6.15.17//NONSGML v1.0//EN
CALSCALE:GREGORIAN
METHOD:PUBLISH
X-ORIGINAL-URL:https://periti-industriali.trento.it
X-WR-CALDESC:Eventi per Periti Industriali Trento
REFRESH-INTERVAL;VALUE=DURATION:PT1H
X-Robots-Tag:noindex
X-PUBLISHED-TTL:PT1H
BEGIN:VTIMEZONE
TZID:UTC
BEGIN:STANDARD
TZOFFSETFROM:+0000
TZOFFSETTO:+0000
TZNAME:UTC
DTSTART:20230101T000000
END:STANDARD
END:VTIMEZONE
BEGIN:VEVENT
DTSTART;TZID=UTC:20240319T090000
DTEND;TZID=UTC:20240319T180000
DTSTAMP:20260420T100518
CREATED:20240304T125235Z
LAST-MODIFIED:20240304T133056Z
UID:9949-1710838800-1710871200@periti-industriali.trento.it
SUMMARY:Corso " Processo produttivo\, gestionale e pratico della verniciatura degli autoveicoli."
DESCRIPTION:Il corso si terrà presso il Centro Tecnico di Padova con Axalta Italia. \nDarà diritto all’assegnazione di 8 CFP come previsto dal Regolamento della Formazione Continua. \nPer maggiori info e iscrizioni vedi locandina qui allegata. \nLOCANDINA>> \n  \n 
URL:https://periti-industriali.trento.it/event/corso-processo-produttivo-gestionale-e-pratico-della-verniciatura-degli-autoveicoli/
LOCATION:c/o Colorificio Milano  Via Settima Strada\, 10 – Padova (Pd)\, Padova\, PD\, Italia
CATEGORIES:Formazione
ATTACH;FMTTYPE=image/jpeg:https://periti-industriali.trento.it/wp-content/uploads/2024/03/Corso-Axalta-immagine-2.jpg
END:VEVENT
BEGIN:VEVENT
DTSTART;TZID=UTC:20240319T140000
DTEND;TZID=UTC:20240319T180000
DTSTAMP:20260420T100518
CREATED:20240304T131927Z
LAST-MODIFIED:20240304T142154Z
UID:9946-1710856800-1710871200@periti-industriali.trento.it
SUMMARY:Corso "Tetto piano e tetto verde" : L'importanza dell'impermeabilità con guaine sintetiche\, accessori e sistemi di posa\, pacchetti tetto verde (stratigrafie e materiali)
DESCRIPTION:Il corso si terrà in presenza presso la sede dell’Ordine in collaborazione con Riwega e darà diritto a CFP 4 come previsto dal Regolamento della Formazione Continua. \n  \n  \n  \n 
URL:https://periti-industriali.trento.it/event/tetto-piano-e-tetto-verde-limportanza-dellimpermeabilita-con-guaine-sintetiche-accessori-e-sistemi-di-posa-pacchetti-tetto-verde-stratigrafie-e-materiali/
LOCATION:Ordine dei Periti Industriali\, Galleria Tirrena\, 10\, Trento\, 38122\, Italia
CATEGORIES:Formazione
ATTACH;FMTTYPE=image/jpeg:https://periti-industriali.trento.it/wp-content/uploads/2024/03/Riwega-4.jpg
ORGANIZER;CN="ORDINE PERITI INDUSTRIALI TRENTO":MAILTO:info@periti-industriali.trento.it
END:VEVENT
END:VCALENDAR