BEGIN:VCALENDAR
VERSION:2.0
PRODID:-//Periti Industriali Trento - ECPv6.15.17//NONSGML v1.0//EN
CALSCALE:GREGORIAN
METHOD:PUBLISH
X-ORIGINAL-URL:https://periti-industriali.trento.it
X-WR-CALDESC:Eventi per Periti Industriali Trento
REFRESH-INTERVAL;VALUE=DURATION:PT1H
X-Robots-Tag:noindex
X-PUBLISHED-TTL:PT1H
BEGIN:VTIMEZONE
TZID:UTC
BEGIN:STANDARD
TZOFFSETFROM:+0000
TZOFFSETTO:+0000
TZNAME:UTC
DTSTART:20230101T000000
END:STANDARD
END:VTIMEZONE
BEGIN:VEVENT
DTSTART;VALUE=DATE:20240514
DTEND;VALUE=DATE:20240516
DTSTAMP:20260420T070436
CREATED:20240430T114957Z
LAST-MODIFIED:20240430T114957Z
UID:10137-1715644800-1715817599@periti-industriali.trento.it
SUMMARY:REBUILD 2024
DESCRIPTION:Locandina>>
URL:https://periti-industriali.trento.it/event/rebuild-2024/
LOCATION:Centro Congressi Riva del Garda\, Riva del Garda
CATEGORIES:Formazione
END:VEVENT
BEGIN:VEVENT
DTSTART;TZID=UTC:20240515T163000
DTEND;TZID=UTC:20240515T183000
DTSTAMP:20260420T070436
CREATED:20240514T113722Z
LAST-MODIFIED:20240514T113759Z
UID:10158-1715790600-1715797800@periti-industriali.trento.it
SUMMARY:Case Green e Competenze digitali
DESCRIPTION:Il corso formativo si terrà presso il Centro Congressi di Riva del Garda in occasione dell’evento REbuild e darà diritto a 6 CFP in base al Regolamento della Formazione Continua. \nLocandina>>
URL:https://periti-industriali.trento.it/event/case-green-e-competenze-digitali/
LOCATION:Centro Congressi Riva del Garda\, Riva del Garda
CATEGORIES:Formazione
ATTACH;FMTTYPE=image/jpeg:https://periti-industriali.trento.it/wp-content/uploads/2024/05/logo.jpeg
END:VEVENT
END:VCALENDAR